Workbook

Sheet 1번필수
A1: 문제 1 | B1: 다음 보기에서 빈칸에 맞는 항목을 골라내어 다음의 진료비 명세서을 작성 하시오.
B2: 병명 | C2: 손가락의 절단(왼손 4번째, 5번째)
B3: 입퇴원일시 | C3: 2018.05.18 오후 7시 입원~ 2018. 05. 23 오후 6시 퇴원
B4: 수술일시 | C4: 2018.05.18 오후11시~ 2018.05.19 오전 11시 | M4: 2018년
B5: 단 수기료는 횟수로 표시 할것 ex) 입원환자 의약품관리료 3일분이면 (7)*3 | J5: 병원 | M5: 73.5
B6: <보기> | J6: 의원 | M6: 81.4
A7: 번호 | B7: 항목 | C7: 번역 | D7: 구분 | E7: 구분2 | G7: 명칭 | H7: 양/회 | I7: 횟수/일 | J7: 일수 | K7: 총액 | L7: 단가 | M7: 점수 | N7: 점수당단가 | O7: 점수2&비고 | P7: 기본 | Q7: 가산율 | R7: 가산점수
A8: 1 | B8: IV[501ml~1,000ml) | C8: IV [501ml ~ 1,000ml] | D8: 진찰료 및 입원료 | E8: I(약제비,기본진료비,장비사용료) | F8: AA15501 | G8: 초진진찰료(야간) | H8: 1 | I8: 1 | J8: 1 | K8: =L8*H8*I8*J8 -> 18781.529 | L8: =M8*N8 -> 18781.529 | M8: =O8+R8 -> 255.531 | N8: =M$5 -> 73.5 | O8: 208.86 | P8: 155.57 | Q8: 0.3 | R8: =P8*Q8 -> 46.671
A9: 2 | B9: CBC | C9: CBC | F9: AB303 | G9: 입원료(병원-3등급) | H9: 1 | I9: 1 | J9: 5 | K9: =L9*H9*I9*J9 -> 226589.11 | L9: =M9*N9 -> 45317.822 | M9: =O9+R9 -> 616.569 | N9: =M$5 -> 73.5 | O9: 425.22 | P9: =O9 -> 425.22 | Q9: 0.45 | R9: =P9*Q9 -> 191.349
A10: 3 | B10: Inpatient care(special) | C10: 입원치료 (특별) | F10: AL756 | G10: 입원환자의약품관리료(6일분) | H10: 1 | I10: 1 | J10: 1 | K10: =L10*H10*I10*J10 -> 3475.08 | L10: =M10*N10 -> 3475.08 | M10: 47.28 | N10: =M$5 -> 73.5
A11: 4 | B11: Foley Catheterization | C11: 유치 카테터 삽입 | F11: AL300 | G11: 외래환자의약품관리료(방문당) | H11: 1 | I11: 1 | J11: 1 | K11: =L11*H11*I11*J11 -> 63.945 | L11: =M11*N11 -> 63.945 | M11: 0.87 | N11: =M$5 -> 73.5
A12: 5 | B12: Urine Bag | C12: 소변 주머니 | E12: II(기술및 행위료) | K12: =L12*H12*I12*J12 -> 0 | L12: =M12*N12 -> 0 | N12: =M$5 -> 73.5
A13: 6 | B13: Closed Reduction | C13: 비관혈적정복술 | K13: =L13*H13*I13*J13 -> 0 | L13: =M13*N13 -> 0 | N13: =M$5 -> 73.5
A14: 7 | B14: 입원환자 의약품 관리료 | C14: 입원 환자 의약품 관리료 | D14: 약제료 | E14: I(약제비,기본진료비,장비사용료) | F14: 648503580 | G14: 크린세프캅셀(세파클러)(퇴원약3일포함) | H14: 1 | I14: 3 | J14: 9 | K14: =L14*H14*I14*J14 -> 11799 | L14: =M14*N14 -> 437 | M14: 437 | N14: 1 | O14: 입원6,퇴원약2총8일, 구입가격 임의 산정
A15: 8 | B15: Basic Anesthesia | C15: 기본 마취 | F15: 648500640 | G15: 록스펜정(퇴원약3일포함) | H15: 1 | I15: 3 | J15: 9 | K15: =L15*H15*I15*J15 -> 3375 | L15: =M15*N15 -> 125 | M15: 125 | N15: 1 | O15: 입원6,퇴원약2총8일, 구입가격 임의 산정
A16: 9 | B16: Abdominal CT | C16: 복부 CT | E16: II(기술및 행위료) | F16: J2000 | G16: 입원환자조제복약지도료(1일당) | H16: 1 | I16: 1 | J16: 6 | K16: =L16*H16*I16*J16 -> 8012.97 | L16: =M16*N16 -> 1335.495 | M16: 18.17 | N16: =M$5 -> 73.5
A17: 10 | B17: Repalacement Arthroplasty | C17: 대체 관절 성형술 | F17: J1030 | G17: 퇴원환자조제료(3일분) | H17: 1 | I17: 1 | J17: 1 | K17: =L17*H17*I17*J17 -> 287.385 | L17: =M17*N17 -> 287.385 | M17: 3.91 | N17: =M$5 -> 73.5
A18: 11 | B18: Excision of joint | C18: 관절 절제술 | K18: =L18*H18*I18*J18 -> 0 | L18: =M18*N18 -> 0 | N18: =M$5 -> 73.5
A19: 12 | B19: Side Injection | C19: 사이드 인젝션 | D19: 주사료 | E19: I(약제비,기본진료비,장비사용료) | F19: 640001401 | G19: 씨제이5%포도당주사액 1000밀리리터 | H19: 1 | I19: 2 | J19: 5 | K19: =L19*H19*I19*J19 -> 16320 | L19: =M19*N19 -> 1632 | M19: 1632 | N19: 1
A20: 13 | B20: Biopsy | C20: 생검 | F20: 642101690 | G20: 유한세프라딘캡슐500밀리그램 | H20: 1 | I20: 3 | J20: 6 | K20: =L20*H20*I20*J20 -> 3672 | L20: =M20*N20 -> 204 | M20: 204 | N20: 1
A21: 14 | B21: Maintenance of Anesthesia | C21: 마취 유지 | F21: 641902781 | G21: 아미킨주100밀리그램(아미카신, 수액제주입로) | H21: 1 | I21: 2 | J21: 5 | K21: =L21*H21*I21*J21 -> 7000 | L21: =M21*N21 -> 700 | M21: 700 | N21: 1
A22: 15 | B22: 입원환자조제복약지도료 | C22: 입원 환자 조제 | F22: 647801231 | G22: 세트라졸주사500밀리그램(수액제주입로) | H22: 1 | I22: 2 | J22: 5 | K22: =L22*H22*I22*J22 -> 16280 | L22: =M22*N22 -> 1628 | M22: 1628 | N22: 1
A23: 16 | B23: LFT | C23: LFT | E23: II(기술및 행위료) | F23: KK053 | G23: 정맥내점적주사(5000-1000ml) | H23: 1 | I23: 2 | J23: 5 | K23: =L23*H23*I23*J23 -> 28356.3 | L23: =M23*N23 -> 2835.63 | M23: 38.58 | N23: =M$5 -> 73.5 | O23: 병당계산
A24: 17 | B24: Replacement of Extrimities(Finger) | C24: 극한의 교체 (손가락) | F24: KK054 | G24: 수액제주입로를 통한주사 | H24: 1 | I24: 2 | J24: 5 | K24: =L24*H24*I24*J24 -> 10275.3 | L24: =M24*N24 -> 1027.53 | M24: 13.98 | N24: =M$5 -> 73.5 | O24: 1일2회
A25: 18 | B25: Inpatient Care | C25: 입원 환자 관리 | F25: KK010 | G25: 피하또는근육내주사 | H25: 1 | I25: 2 | J25: 6 | K25: =L25*H25*I25*J25 -> 12965.4 | L25: =M25*N25 -> 1080.45 | M25: 14.7 | N25: =M$5 -> 73.5 | O25: 1일2회
A26: 19 | B26: Chest PA | C26: 가슴 PA | K26: =L26*H26*I26*J26 -> 0 | L26: =M26*N26 -> 0 | N26: =M$5 -> 73.5
A27: 20 | B27: Replacement of Extrimities(Toes) | C27: 극한의 교체 (발가락) | D27: 마취료 | E27: I(약제비,기본진료비,장비사용료) | K27: =L27*H27*I27*J27 -> 0 | L27: =M27*N27 -> 0 | N27: =M$5 -> 73.5
A28: 21 | B28: Intra Muscular Injection | C28: 근육 내 주입 | E28: II(기술및 행위료) | F28: L121501 | G28: 마취관리기본(상박신경총) | H28: 1.5 | I28: 1 | J28: 1 | K28: =L28*H28*I28*J28 -> 122424.91 | L28: =M28*N28 -> 81616.605 | M28: 1110.43 | N28: =M$5 -> 73.5 | O28: 기본1시간, 야간
A29: 22 | B29: Amputation of Extrimities(Finger) | C29: 극한의 절단 (손가락) | F29: L122501 | G29: 마취유지관리(상박신경총)료 | H29: 1.5 | I29: 44 | J29: 1 | K29: =L29*H29*I29*J29 -> 612438.75 | L29: =M29*N29 -> 9279.375 | M29: 126.25 | N29: =M$5 -> 73.5 | O29: 총11시간 15분단위, 야간
A30: 23 | B30: 말초혈관산소포화도감시 | C30: 말초 혈관 산소 포화도 감시 | F30: L7990 | G30: 마취통증의학과전문의초빙료 | H30: 1 | I30: 1 | J30: 1 | K30: =L30*H30*I30*J30 -> 104015.73 | L30: =M30*N30 -> 104015.73 | M30: 1415.18 | N30: =M$5 -> 73.5 | O30: 추가
A31: 24 | B31: Reconstruction of Thumb | C31: 엄지의 재건 | F31: L1310 | G31: 말초산소포화도감시 | H31: 1 | I31: 1 | J31: 1 | K31: =L31*H31*I31*J31 -> 0 | L31: =M31*N31 -> 0 | M31: 34.68 | O31: 추가
A32: 25 | B32: 재진진찰료 | C32: 재진 진찰료 | H32: 1 | I32: 1 | J32: 1 | K32: =L32*H32*I32*J32 -> 0 | L32: =M32*N32 -> 0
A33: 26 | B33: 퇴원환자조제료 | C33: 퇴원 환자 조제료 | D33: 처치및수술료 | E33: I(약제비,기본진료비,장비사용료) | K33: =L33*H33*I33*J33 -> 0 | L33: =M33*N33 -> 0 | N33: =M$5 -> 73.5
A34: 27 | B34: 퇴원환자의약품관리료 | C34: 퇴원 환자용 의약품 관리료 | E34: II(기술및 행위료) | F34: N058801 | G34: 사지접합수술(수족지) | H34: 1.5 | I34: 2 | J34: 1 | K34: =L34*H34*I34*J34 -> 3307877.1 | L34: =M34*N34 -> 1102625.7 | M34: 15001.71 | N34: =M$5 -> 73.5 | O34: 2개,야간
A35: 28 | B35: Aspiration | C35: 흡출 | F35: M0111 | G35: 수술후처치(창상, 단순) | H35: 1 | I35: 1 | J35: 4 | K35: =L35*H35*I35*J35 -> 17063.76 | L35: =M35*N35 -> 4265.94 | M35: 58.04 | N35: =M$5 -> 73.5 | O35: 수술한 다음날부터
A36: 29 | B36: Helicobacter Pylori 검사 | C36: 헬리코박터 파일로리 검사 | K36: =L36*H36*I36*J36 -> 0 | L36: =M36*N36 -> 0 | N36: =M$5 -> 73.5
A37: 30 | B37: 외래환자 의약품 관리료 | C37: 외래 환자 의약품 관리 비용 | D37: 식대 | E37: I(약제비,기본진료비,장비사용료) | F37: Y0000 | G37: 식대 | H37: 1 | I37: 1 | J37: 13 | K37: =L37*H37*I37*J37 -> 44070 | L37: =M37*N37 -> 3390 | M37: 3390 | N37: 1 | O37: 실제먹은식사
A38: 31 | B38: Position Change | C38: 위치 변경 | K38: =L38*H38*I38*J38 -> 0 | N38: =M$5 -> 73.5
A39: 32 | B39: EKG monitering | C39: 심전도 감시 | D39: 응급 | E39: I(약제비,기본진료비,장비사용료) | F39: V1300 | G39: 응급의료관리료(B등급, 지역) | H39: 1 | I39: 1 | J39: 1 | K39: =L39*H39*I39*J39 -> 51742.53 | L39: =M39*N39 -> 51742.53 | M39: 703.98 | N39: =M$5 -> 73.5 | O39: 응급에 준하는 증상이고 야간 내원하였으므로 응급실 내원으로 간주
A40: 33 | B40: Amputation of Extrimities(Toes) | C40: 극한의 절단 (발가락) | K40: =L40*H40*I40*J40 -> 0 | L40: =M40*N40 -> 0 | N40: =M$5 -> 73.5
A41: 34 | B41: Disarticulation of extrimities(Finger) | C41: 외계인의 분열 (손가락) | D41: 검사료 | E41: II(기술및 행위료) | F41: B1040 | G41: 적혈구 | H41: 1 | I41: 1 | J41: 1 | K41: =L41*H41*I41*J41 -> 806.295 | L41: =M41*N41 -> 806.295 | M41: 10.97 | N41: =M$5 -> 73.5 | O41: CBC
A42: 35 | B42: IV[100ml~500ml) | C42: IV [100ml ~ 500ml] | F42: B1050 | G42: 백혈구 | H42: 1 | I42: 1 | J42: 1 | K42: =L42*H42*I42*J42 -> 807.765 | L42: =M42*N42 -> 807.765 | M42: 10.99 | N42: =M$5 -> 73.5 | O42: CBC
A43: 36 | B43: Coagulation Time | C43: 응고시간 | F43: B1060 | G43: 혈소판 | H43: 1 | I43: 1 | J43: 1 | K43: =L43*H43*I43*J43 -> 954.765 | L43: =M43*N43 -> 954.765 | M43: 12.99 | N43: =M$5 -> 73.5 | O43: CBC
A44: 37 | B44: 외래환자조제료 | C44: 외래 환자 조제료 | F44: B1510 | G44: 출혈시간 | H44: 1 | I44: 1 | J44: 1 | K44: =L44*H44*I44*J44 -> 595.35 | L44: =M44*N44 -> 595.35 | M44: 8.1 | N44: =M$5 -> 73.5
A45: 38 | B45: Bleeding Time | C45: 출혈 시간 | F45: B1520 | G45: 응고시간 | H45: 1 | I45: 1 | J45: 1 | K45: =L45*H45*I45*J45 -> 1052.52 | L45: =M45*N45 -> 1052.52 | M45: 14.32 | N45: =M$5 -> 73.5
A46: 39 | B46: Salpingostomy | C46: 난관구절개 | K46: =L46*H46*I46*J46 -> 0 | L46: =M46*N46 -> 0 | N46: =M$5 -> 73.5
A47: 40 | B47: 초진료 | C47: ultragene | K47: =L47*H47*I47*J47 -> 0 | L47: =M47*N47 -> 0 | N47: =M$5 -> 73.5
A48: 41 | N48: =M$5 -> 73.5
A49: 42 | N49: =M$5 -> 73.5
A50: 43 | N50: =M$5 -> 73.5
A51: 44 | N51: =M$5 -> 73.5
A52: 45 | N52: =M$5 -> 73.5
A53: 46 | N53: =M$5 -> 73.5
A54: 47 | N54: =M$5 -> 73.5
A55: 48 | N55: =M$5 -> 73.5
A56: 49
A57: 50

Sheet 1-1번필수
A1: (별지 제 10호 서식) | Y1: (의과입원)
A2: 서식번호 | C2: G | D2: I | E2: 0 | F2: 2 | G2: 요양급여비용명세서 | T2: 요양기관
T3: 기호 | V3: 425-1234
A4: 등록번호 | C4: 123456 | G4: 증번호 | L4: 123456-56478
A5: 가입자성명 | C5: 홍길동 | G5: 공상등 구분 | T5: 명칭 | V5: 우송병원
A6: 수진자성명 | C6: 홍길동 52세 | G6: 주민등록번호 | L6: -
A7: 상 병 명 | G7: 분류기호 | J7: 수술 | K7: 진료과목 | L7: 상해외인 | N7: 특정기호 | P7: 면허종류 | R7: 면허번호 | T7: 당월요양개시일 | V7: 요양급여일수 (투약일수포함) | Y7: 진료결과
T8: 최초입원개시일
A9: 둘이상의 손가락만의 외상성 절단 (왼손 4, 5 번째) | G9: S68.2 | J9: 사지접합수술 | K9: 정형외과 | T9: 20180518 | V9: 9 | X9: 일 | Y9: 계속
T10: 20180518 | X10: 일
X11: 일
A12: 입원일수 | C12: 5 | D12: 일 | E12: 기본진료,약제,특정재료(1) | G12: 진료행위(2) | J12: 처방전발급번호 | V12: 처방일수 | Y12: 3
A13: 구분 | J13: 점검번호 | AA13: 단가 2018
A14: 1.진찰료(외래관리료 포함) | B14: 1.초진 | C14: 1 | D14: 회 | E14: =W16 -> 18790 | F14: 원 | G14: 야간및공휴 | I14: 회 | J14: 약품코드(일반명 또는 제품명코드) | L14: 약품명(일반 또는 제품명) | S14: 1회투약량 | U14: 1일투여횟수 | V14: 총투약일수 | AA14: 병원 | AB14: 73.5 | AC14: 의원 | AD14: 81.4
B15: 2.재진 | D15: 회 | F15: 원 | G15: 야간및공휴 | I15: 회 | J15: 코드 | L15: 분류(예외분류코드) | Q15: 단가 | S15: 1회투약량 | U15: 1일투여량또는실시횟수 | V15: 총투여일수또는실시횟수 | W15: 금액 | Y15: 면허종류 | Z15: 면허번호 | AA15: 점수 | AB15: 단가 | AC15: ='1번필수'!O7 -> 점수2&비고 | AD15: ='1번필수'!P7 -> 기본 | AE15: ='1번필수'!Q7 -> 가산율 | AF15: ='1번필수'!R7 -> 가산점수
B16: 3.의약품관리료 | E16: =W18+W19 -> 3550 | F16: 원 | J16: ='1번필수'!F8 -> AA15501 | L16: ='1번필수'!G8 -> 초진진찰료(야간) | Q16: =ROUNDUP(AA16*AB16,-1) -> 18790 | S16: ='1번필수'!H8 -> 1 | U16: ='1번필수'!I8 -> 1 | V16: ='1번필수'!J8 -> 1 | W16: =Q16*S16*U16*V16 -> 18790 | AA16: ='1번필수'!M8 -> 255.531 | AB16: =AB$14 -> 73.5 | AC16: ='1번필수'!O8 -> 208.86 | AD16: ='1번필수'!P8 -> 155.57 | AE16: ='1번필수'!Q8 -> 0.3 | AF16: ='1번필수'!R8 -> 46.671
B17: 4.응급 및 회송료 | E17: =W47 -> 51750 | F17: 원 | J17: ='1번필수'!F9 -> AB303 | L17: ='1번필수'!G9 -> 입원료(병원-3등급) | Q17: =ROUNDUP(AA17*AB17,-1) -> 45320 | S17: ='1번필수'!H9 -> 1 | U17: ='1번필수'!I9 -> 1 | V17: ='1번필수'!J9 -> 5 | W17: =Q17*S17*U17*V17 -> 226600 | AA17: ='1번필수'!M9 -> 616.569 | AB17: =AB$14 -> 73.5 | AC17: ='1번필수'!O9 -> 425.22 | AD17: ='1번필수'!P9 -> 425.22 | AE17: ='1번필수'!Q9 -> 0.45 | AF17: ='1번필수'!R9 -> 191.349
A18: 2.입원료 | B18: 1.일반 | C18: 5 | D18: 일 | E18: =W17 -> 226600 | F18: 원 | J18: ='1번필수'!F10 -> AL756 | L18: ='1번필수'!G10 -> 입원환자의약품관리료(6일분) | Q18: =ROUNDUP(AA18*AB18,-1) -> 3480 | S18: ='1번필수'!H10 -> 1 | U18: ='1번필수'!I10 -> 1 | V18: ='1번필수'!J10 -> 1 | W18: =Q18*S18*U18*V18 -> 3480 | AA18: ='1번필수'!M10 -> 47.28 | AB18: =AB$14 -> 73.5 | AC18: ='1번필수'!O10 -> 0
B19: 2.내과질환자, 정신질환자 | F19: 원 | J19: ='1번필수'!F11 -> AL300 | L19: ='1번필수'!G11 -> 외래환자의약품관리료(방문당) | Q19: =ROUNDUP(AA19*AB19,-1) -> 70 | S19: ='1번필수'!H11 -> 1 | U19: ='1번필수'!I11 -> 1 | V19: ='1번필수'!J11 -> 1 | W19: =Q19*S19*U19*V19 -> 70 | AA19: ='1번필수'!M11 -> 0.87 | AB19: =AB$14 -> 73.5 | AC19: ='1번필수'!O11 -> 0
B20: 만8세미만소아 | D20: 일 | J20: ='1번필수'!F12 -> 0 | L20: ='1번필수'!G12 -> 0 | Q20: =ROUNDUP(AA20*AB20,-1) -> 0 | S20: ='1번필수'!H12 -> 0 | U20: ='1번필수'!I12 -> 0 | V20: ='1번필수'!J12 -> 0 | W20: =Q20*S20*U20*V20 -> 0 | AA20: ='1번필수'!M12 -> 0 | AB20: =AB$14 -> 73.5 | AC20: ='1번필수'!O12 -> 0
B21: 3.중환자실 | D21: 일 | F21: 원 | J21: ='1번필수'!F13 -> 0 | L21: ='1번필수'!G13 -> 0 | Q21: =ROUNDUP(AA21*AB21,-1) -> 0 | S21: ='1번필수'!H13 -> 0 | U21: ='1번필수'!I13 -> 0 | V21: ='1번필수'!J13 -> 0 | W21: =Q21*S21*U21*V21 -> 0 | AA21: ='1번필수'!M13 -> 0 | AB21: =AB$14 -> 73.5 | AC21: ='1번필수'!O13 -> 0
B22: 4.격리병실 | D22: 일 | F22: 원 | J22: ='1번필수'!F14 -> 648503580 | L22: ='1번필수'!G14 -> 크린세프캅셀(세파클러)(퇴원약3일포함) | Q22: =ROUNDUP(AA22*AB22,-1) -> 440 | S22: ='1번필수'!H14 -> 1 | U22: ='1번필수'!I14 -> 3 | V22: ='1번필수'!J14 -> 9 | W22: =Q22*S22*U22*V22 -> 11880 | AA22: ='1번필수'!M14 -> 437 | AB22: 1 | AC22: ='1번필수'!O14 -> 입원6,퇴원약2총8일, 구입가격 임의 산정
B23: 5.신생아 | D23: 일 | F23: 원 | J23: ='1번필수'!F15 -> 648500640 | L23: ='1번필수'!G15 -> 록스펜정(퇴원약3일포함) | Q23: =ROUNDUP(AA23*AB23,-1) -> 130 | S23: ='1번필수'!H15 -> 1 | U23: ='1번필수'!I15 -> 3 | V23: ='1번필수'!J15 -> 9 | W23: =Q23*S23*U23*V23 -> 3510 | AA23: ='1번필수'!M15 -> 125 | AB23: 1 | AC23: ='1번필수'!O15 -> 입원6,퇴원약2총8일, 구입가격 임의 산정
B24: 6.기타 | D24: 일 | F24: 원 | J24: ='1번필수'!F16 -> J2000 | L24: ='1번필수'!G16 -> 입원환자조제복약지도료(1일당) | Q24: =ROUNDUP(AA24*AB24,-1) -> 1340 | S24: ='1번필수'!H16 -> 1 | U24: ='1번필수'!I16 -> 1 | V24: ='1번필수'!J16 -> 6 | W24: =Q24*S24*U24*V24 -> 8040 | AA24: ='1번필수'!M16 -> 18.17 | AB24: =AB$14 -> 73.5 | AC24: ='1번필수'!O16 -> 0
B25: 7.기본식대 | E25: =W45 -> 44070 | F25: 원 | J25: ='1번필수'!F17 -> J1030 | L25: ='1번필수'!G17 -> 퇴원환자조제료(3일분) | Q25: =ROUNDUP(AA25*AB25,-1) -> 290 | S25: ='1번필수'!H17 -> 1 | U25: ='1번필수'!I17 -> 1 | V25: ='1번필수'!J17 -> 1 | W25: =Q25*S25*U25*V25 -> 290 | AA25: ='1번필수'!M17 -> 3.91 | AB25: =AB$14 -> 73.5 | AC25: ='1번필수'!O17 -> 0
B26: 8.가산식대 | F26: 원 | J26: ='1번필수'!F18 -> 0 | L26: ='1번필수'!G18 -> 0 | Q26: =ROUNDUP(AA26*AB26,-1) -> 0 | S26: ='1번필수'!H18 -> 0 | U26: ='1번필수'!I18 -> 0 | V26: ='1번필수'!J18 -> 0 | W26: =Q26*S26*U26*V26 -> 0 | AA26: ='1번필수'!M18 -> 0 | AB26: =AB$14 -> 73.5 | AC26: ='1번필수'!O18 -> 0
A27: 3.투약료 | B27: 1.내복 | C27: 9 | D27: 일분 | E27: =W22+W23 -> 15390 | F27: 원 | G27: =W24+W25 -> 8330 | I27: 원 | J27: ='1번필수'!F19 -> 640001401 | L27: ='1번필수'!G19 -> 씨제이5%포도당주사액 1000밀리리터 | Q27: =ROUNDUP(AA27*AB27,-1) -> 1640 | S27: ='1번필수'!H19 -> 1 | U27: ='1번필수'!I19 -> 2 | V27: ='1번필수'!J19 -> 5 | W27: =Q27*S27*U27*V27 -> 16400 | AA27: ='1번필수'!M19 -> 1632 | AB27: 1 | AC27: ='1번필수'!O19 -> 0
B28: 2.외용 | D28: 일분 | F28: 원 | I28: 원 | J28: ='1번필수'!F20 -> 642101690 | L28: ='1번필수'!G20 -> 유한세프라딘캡슐500밀리그램 | Q28: =ROUNDUP(AA28*AB28,-1) -> 210 | S28: ='1번필수'!H20 -> 1 | U28: ='1번필수'!I20 -> 3 | V28: ='1번필수'!J20 -> 6 | W28: =Q28*S28*U28*V28 -> 3780 | AA28: ='1번필수'!M20 -> 204 | AB28: 1 | AC28: ='1번필수'!O20 -> 0
B29: 3.처방전 | C29: 1 | D29: 회 | J29: ='1번필수'!F21 -> 641902781 | L29: ='1번필수'!G21 -> 아미킨주100밀리그램(아미카신, 수액제주입로) | Q29: =ROUNDUP(AA29*AB29,-1) -> 700 | S29: ='1번필수'!H21 -> 1 | U29: ='1번필수'!I21 -> 2 | V29: ='1번필수'!J21 -> 5 | W29: =Q29*S29*U29*V29 -> 7000 | AA29: ='1번필수'!M21 -> 700 | AB29: 1 | AC29: ='1번필수'!O21 -> 0
A30: 4.주사료 | B30: 1.피하또는근육내 | C30: 6 | D30: 일 | E30: =W28 -> 3780 | F30: 원 | G30: =W33 -> 13080 | I30: 원 | J30: ='1번필수'!F22 -> 647801231 | L30: ='1번필수'!G22 -> 세트라졸주사500밀리그램(수액제주입로) | Q30: =ROUNDUP(AA30*AB30,-1) -> 1630 | S30: ='1번필수'!H22 -> 1 | U30: ='1번필수'!I22 -> 2 | V30: ='1번필수'!J22 -> 5 | W30: =Q30*S30*U30*V30 -> 16300 | AA30: ='1번필수'!M22 -> 1628 | AB30: 1 | AC30: ='1번필수'!O22 -> 0
B31: 2.정맥내 | C31: 5 | D31: 일 | E31: =W27 -> 16400 | F31: 원 | G31: =W31 -> 28400 | I31: 원 | J31: ='1번필수'!F23 -> KK053 | L31: ='1번필수'!G23 -> 정맥내점적주사(5000-1000ml) | Q31: =ROUNDUP(AA31*AB31,-1) -> 2840 | S31: ='1번필수'!H23 -> 1 | U31: ='1번필수'!I23 -> 2 | V31: ='1번필수'!J23 -> 5 | W31: =Q31*S31*U31*V31 -> 28400 | AA31: ='1번필수'!M23 -> 38.58 | AB31: =AB$14 -> 73.5 | AC31: ='1번필수'!O23 -> 병당계산
B32: 3.수액제 | C32: 5 | D32: 회 | E32: =W29+W30 -> 23300 | F32: 원 | G32: =W32 -> 10300 | I32: 원 | J32: ='1번필수'!F24 -> KK054 | L32: ='1번필수'!G24 -> 수액제주입로를 통한주사 | Q32: =ROUNDUP(AA32*AB32,-1) -> 1030 | S32: ='1번필수'!H24 -> 1 | U32: ='1번필수'!I24 -> 2 | V32: ='1번필수'!J24 -> 5 | W32: =Q32*S32*U32*V32 -> 10300 | AA32: ='1번필수'!M24 -> 13.98 | AB32: =AB$14 -> 73.5 | AC32: ='1번필수'!O24 -> 1일2회
B33: 4.기타 | D33: 회 | F33: 원 | I33: 원 | J33: ='1번필수'!F25 -> KK010 | L33: ='1번필수'!G25 -> 피하또는근육내주사 | Q33: =ROUNDUP(AA33*AB33,-1) -> 1090 | S33: ='1번필수'!H25 -> 1 | U33: ='1번필수'!I25 -> 2 | V33: ='1번필수'!J25 -> 6 | W33: =Q33*S33*U33*V33 -> 13080 | AA33: ='1번필수'!M25 -> 14.7 | AB33: =AB$14 -> 73.5 | AC33: ='1번필수'!O25 -> 1일2회
B34: 5.특정재료 | F34: 원 | J34: ='1번필수'!F26 -> 0 | L34: ='1번필수'!G26 -> 0 | Q34: =ROUNDUP(AA34*AB34,-1) -> 0 | S34: ='1번필수'!H26 -> 0 | U34: ='1번필수'!I26 -> 0 | V34: ='1번필수'!J26 -> 0 | W34: =Q34*S34*U34*V34 -> 0 | AA34: ='1번필수'!M26 -> 0 | AB34: =AB$14 -> 73.5 | AC34: ='1번필수'!O26 -> 0
B35: 6.수혈 | D35: 회 | F35: 원 | I35: 원 | J35: ='1번필수'!F27 -> 0 | L35: ='1번필수'!G27 -> 0 | Q35: =ROUNDUP(AA35*AB35,-1) -> 0 | S35: ='1번필수'!H27 -> 0 | U35: ='1번필수'!I27 -> 0 | V35: ='1번필수'!J27 -> 0 | W35: =Q35*S35*U35*V35 -> 0 | AA35: ='1번필수'!M27 -> 0 | AB35: =AB$14 -> 73.5 | AC35: ='1번필수'!O27 -> 0
A36: 5.마취료 | B36: 1.. | C36: 2 | D36: 회 | F36: 원 | G36: =SUM(W36:X39) -> 841480 | I36: 원 | J36: ='1번필수'!F28 -> L121501 | L36: ='1번필수'!G28 -> 마취관리기본(상박신경총) | Q36: =ROUNDUP(AA36*AB36,-1) -> 81620 | S36: ='1번필수'!H28 -> 1.5 | U36: ='1번필수'!I28 -> 1 | V36: ='1번필수'!J28 -> 1 | W36: =Q36*S36*U36*V36 -> 122430 | AA36: ='1번필수'!M28 -> 1110.43 | AB36: =AB$14 -> 73.5 | AC36: ='1번필수'!O28 -> 기본1시간, 야간
A37: 6.이학요법료 | B37: 1.. | D37: 종 | F37: 원 | I37: 원 | J37: ='1번필수'!F29 -> L122501 | L37: ='1번필수'!G29 -> 마취유지관리(상박신경총)료 | Q37: =ROUNDUP(AA37*AB37,-1) -> 9280 | S37: ='1번필수'!H29 -> 1.5 | U37: ='1번필수'!I29 -> 44 | V37: ='1번필수'!J29 -> 1 | W37: =Q37*S37*U37*V37 -> 612480 | AA37: ='1번필수'!M29 -> 126.25 | AB37: =AB$14 -> 73.5 | AC37: ='1번필수'!O29 -> 총11시간 15분단위, 야간
A38: 7.정신요법료 | B38: 1.. | D38: 종 | F38: 원 | I38: 원 | J38: ='1번필수'!F30 -> L7990 | L38: ='1번필수'!G30 -> 마취통증의학과전문의초빙료 | Q38: =ROUNDUP(AA38*AB38,-1) -> 104020 | S38: ='1번필수'!H30 -> 1 | U38: ='1번필수'!I30 -> 1 | V38: ='1번필수'!J30 -> 1 | W38: =Q38*S38*U38*V38 -> 104020 | AA38: ='1번필수'!M30 -> 1415.18 | AB38: =AB$14 -> 73.5 | AC38: ='1번필수'!O30 -> 추가
A39: 8.처치및수술료 | B39: 1.처치및수술 | C39: 2 | D39: 종 | F39: 원 | G39: =SUM(W42:X43) -> 3324970 | I39: 원 | J39: ='1번필수'!F31 -> L1310 | L39: ='1번필수'!G31 -> 말초산소포화도감시 | Q39: =ROUNDUP(AA39*AB39,-1) -> 2550 | S39: ='1번필수'!H31 -> 1 | U39: ='1번필수'!I31 -> 1 | V39: ='1번필수'!J31 -> 1 | W39: =Q39*S39*U39*V39 -> 2550 | AA39: ='1번필수'!M31 -> 34.68 | AB39: =AB$14 -> 73.5 | AC39: ='1번필수'!O31 -> 추가
B40: 3.케스트 | D40: 회 | F40: 원 | I40: 원 | J40: ='1번필수'!F32 -> 0 | L40: ='1번필수'!G32 -> 0 | Q40: =ROUNDUP(AA40*AB40,-1) -> 0 | S40: ='1번필수'!H32 -> 1 | U40: ='1번필수'!I32 -> 1 | V40: ='1번필수'!J32 -> 1 | W40: =Q40*S40*U40*V40 -> 0 | AA40: ='1번필수'!M32 -> 0 | AB40: =AB$14 -> 73.5 | AC40: ='1번필수'!O32 -> 0
A41: 9.검사료 | B41: 1.자체검사 | C41: 5 | D41: 종 | F41: 원 | G41: =SUM(W49:X53) -> 4240 | I41: 원 | J41: ='1번필수'!F33 -> 0 | L41: ='1번필수'!G33 -> 0 | Q41: =ROUNDUP(AA41*AB41,-1) -> 0 | S41: ='1번필수'!H33 -> 0 | U41: ='1번필수'!I33 -> 0 | V41: ='1번필수'!J33 -> 0 | W41: =Q41*S41*U41*V41 -> 0 | AA41: ='1번필수'!M33 -> 0 | AB41: =AB$14 -> 73.5 | AC41: ='1번필수'!O33 -> 0
B42: 2.위탁검사관리 | F42: 원 | J42: ='1번필수'!F34 -> N058801 | L42: ='1번필수'!G34 -> 사지접합수술(수족지) | Q42: =ROUNDUP(AA42*AB42,-1) -> 1102630 | S42: ='1번필수'!H34 -> 1.5 | U42: ='1번필수'!I34 -> 2 | V42: ='1번필수'!J34 -> 1 | W42: =Q42*S42*U42*V42 -> 3307890 | AA42: ='1번필수'!M34 -> 15001.71 | AB42: =AB$14 -> 73.5 | AC42: ='1번필수'!O34 -> 2개,야간
B43: 3.위탁검사 | D43: 종 | F43: 원 | J43: ='1번필수'!F35 -> M0111 | L43: ='1번필수'!G35 -> 수술후처치(창상, 단순) | Q43: =ROUNDUP(AA43*AB43,-1) -> 4270 | S43: ='1번필수'!H35 -> 1 | U43: ='1번필수'!I35 -> 1 | V43: ='1번필수'!J35 -> 4 | W43: =Q43*S43*U43*V43 -> 17080 | AA43: ='1번필수'!M35 -> 58.04 | AB43: =AB$14 -> 73.5 | AC43: ='1번필수'!O35 -> 수술한 다음날부터
A44: 10.영상진단및방사선치료료 | B44: 1.진단 | D44: 종 | F44: 원 | I44: 원 | J44: ='1번필수'!F36 -> 0 | L44: ='1번필수'!G36 -> 0 | Q44: =ROUNDUP(AA44*AB44,-1) -> 0 | S44: ='1번필수'!H36 -> 0 | U44: ='1번필수'!I36 -> 0 | V44: ='1번필수'!J36 -> 0 | W44: =Q44*S44*U44*V44 -> 0 | AA44: ='1번필수'!M36 -> 0 | AB44: =AB$14 -> 73.5 | AC44: ='1번필수'!O36 -> 0
B45: 2.치료 | D45: 종 | F45: 원 | I45: 원 | J45: ='1번필수'!F37 -> Y0000 | L45: ='1번필수'!G37 -> 식대 | Q45: =ROUNDUP(AA45*AB45,-1) -> 3390 | S45: ='1번필수'!H37 -> 1 | U45: ='1번필수'!I37 -> 1 | V45: ='1번필수'!J37 -> 13 | W45: =Q45*S45*U45*V45 -> 44070 | AA45: ='1번필수'!M37 -> 3390 | AB45: 1 | AC45: ='1번필수'!O37 -> 실제먹은식사
A46: S.특수장비 | B46: 1.CT | D46: 회 | F46: 원 | G46: =Y41 -> 0 | I46: 원 | J46: ='1번필수'!F38 -> 0 | L46: ='1번필수'!G38 -> 0 | Q46: =ROUNDUP(AA46*AB46,-1) -> 0 | S46: ='1번필수'!H38 -> 0 | U46: ='1번필수'!I38 -> 0 | V46: ='1번필수'!J38 -> 0 | W46: =Q46*S46*U46*V46 -> 0 | AA46: ='1번필수'!M38 -> 0 | AB46: =AB$14 -> 73.5 | AC46: ='1번필수'!O38 -> 0
B47: 2.MRI | D47: 회 | F47: 원 | G47: =Y42 -> 0 | I47: 원 | J47: ='1번필수'!F39 -> V1300 | L47: ='1번필수'!G39 -> 응급의료관리료(B등급, 지역) | Q47: =ROUNDUP(AA47*AB47,-1) -> 51750 | S47: ='1번필수'!H39 -> 1 | U47: ='1번필수'!I39 -> 1 | V47: ='1번필수'!J39 -> 1 | W47: =Q47*S47*U47*V47 -> 51750 | AA47: ='1번필수'!M39 -> 703.98 | AB47: =AB$14 -> 73.5 | AC47: ='1번필수'!O39 -> 응급에 준하는 증상이고 야간 내원하였으므로 응급실 내원으로 간주
B48: 3.PET | D48: 회 | F48: 원 | I48: 원 | J48: ='1번필수'!F40 -> 0 | L48: ='1번필수'!G40 -> 0 | Q48: =ROUNDUP(AA48*AB48,-1) -> 0 | S48: ='1번필수'!H40 -> 0 | U48: ='1번필수'!I40 -> 0 | V48: ='1번필수'!J40 -> 0 | W48: =Q48*S48*U48*V48 -> 0 | AA48: ='1번필수'!M40 -> 0 | AB48: =AB$14 -> 73.5 | AC48: ='1번필수'!O40 -> 0
A49: A.100분의 50본인부담 | B49: 1.의약품 | F49: 원 | I49: 원 | J49: ='1번필수'!F41 -> B1040 | L49: ='1번필수'!G41 -> 적혈구 | Q49: =ROUNDUP(AA49*AB49,-1) -> 810 | S49: ='1번필수'!H41 -> 1 | U49: ='1번필수'!I41 -> 1 | V49: ='1번필수'!J41 -> 1 | W49: =Q49*S49*U49*V49 -> 810 | AA49: ='1번필수'!M41 -> 10.97 | AB49: =AB$14 -> 73.5 | AC49: ='1번필수'!O41 -> CBC
B50: 2.치료재료 | F50: 원 | I50: 원 | J50: ='1번필수'!F42 -> B1050 | L50: ='1번필수'!G42 -> 백혈구 | Q50: =ROUNDUP(AA50*AB50,-1) -> 810 | S50: ='1번필수'!H42 -> 1 | U50: ='1번필수'!I42 -> 1 | V50: ='1번필수'!J42 -> 1 | W50: =Q50*S50*U50*V50 -> 810 | AA50: ='1번필수'!M42 -> 10.99 | AB50: =AB$14 -> 73.5 | AC50: ='1번필수'!O42 -> CBC
B51: 3.진료행위 | F51: 원 | I51: 원 | J51: ='1번필수'!F43 -> B1060 | L51: ='1번필수'!G43 -> 혈소판 | Q51: =ROUNDUP(AA51*AB51,-1) -> 960 | S51: ='1번필수'!H43 -> 1 | U51: ='1번필수'!I43 -> 1 | V51: ='1번필수'!J43 -> 1 | W51: =Q51*S51*U51*V51 -> 960 | AA51: ='1번필수'!M43 -> 12.99 | AB51: =AB$14 -> 73.5 | AC51: ='1번필수'!O43 -> CBC
A52: B.100분의80본인부담 | B52: 1.의약품 | F52: 원 | I52: 원 | J52: ='1번필수'!F44 -> B1510 | L52: ='1번필수'!G44 -> 출혈시간 | Q52: =ROUNDUP(AA52*AB52,-1) -> 600 | S52: ='1번필수'!H44 -> 1 | U52: ='1번필수'!I44 -> 1 | V52: ='1번필수'!J44 -> 1 | W52: =Q52*S52*U52*V52 -> 600 | AA52: ='1번필수'!M44 -> 8.1 | AB52: =AB$14 -> 73.5 | AC52: ='1번필수'!O44 -> 0
B53: 2.치료재료 | F53: 원 | I53: 원 | J53: ='1번필수'!F45 -> B1520 | L53: ='1번필수'!G45 -> 응고시간 | Q53: =ROUNDUP(AA53*AB53,-1) -> 1060 | S53: ='1번필수'!H45 -> 1 | U53: ='1번필수'!I45 -> 1 | V53: ='1번필수'!J45 -> 1 | W53: =Q53*S53*U53*V53 -> 1060 | AA53: ='1번필수'!M45 -> 14.32 | AB53: =AB$14 -> 73.5 | AC53: ='1번필수'!O45 -> 0
B54: 3.진료행위 | F54: 원 | I54: 원 | J54: ='1번필수'!F46 -> 0 | L54: ='1번필수'!G46 -> 0 | Q54: =ROUNDUP(AA54*AB54,-1) -> 0 | S54: ='1번필수'!H46 -> 0 | U54: ='1번필수'!I46 -> 0 | V54: ='1번필수'!J46 -> 0 | W54: =Q54*S54*U54*V54 -> 0 | AA54: ='1번필수'!M46 -> 0 | AB54: =AB$14 -> 73.5 | AC54: ='1번필수'!O46 -> 0
A55: C.100분의30본인부담 | B55: 1.의약품 | F55: 원 | I55: 원 | J55: ='1번필수'!F47 -> 0 | L55: ='1번필수'!G47 -> 0 | Q55: =ROUNDUP(AA55*AB55,-1) -> 0 | S55: ='1번필수'!H47 -> 0 | U55: ='1번필수'!I47 -> 0 | V55: ='1번필수'!J47 -> 0 | W55: =Q55*S55*U55*V55 -> 0 | AA55: ='1번필수'!M47 -> 0 | AB55: =AB$14 -> 73.5 | AC55: ='1번필수'!O47 -> 0
B56: 2.치료재료 | F56: 원 | I56: 원 | J56: ='1번필수'!F48 -> 0 | L56: ='1번필수'!G48 -> 0 | Q56: =ROUNDUP(AA56*AB56,-1) -> 0 | S56: ='1번필수'!H48 -> 0 | U56: ='1번필수'!I48 -> 0 | V56: ='1번필수'!J48 -> 0 | W56: =Q56*S56*U56*V56 -> 0 | AA56: ='1번필수'!M48 -> 0 | AB56: =AB$14 -> 73.5 | AC56: ='1번필수'!O48 -> 0
B57: 3.진료행위 | F57: 원 | I57: 원 | J57: ='1번필수'!F49 -> 0 | L57: ='1번필수'!G49 -> 0 | Q57: =ROUNDUP(AA57*AB57,-1) -> 0 | S57: ='1번필수'!H49 -> 0 | U57: ='1번필수'!I49 -> 0 | V57: ='1번필수'!J49 -> 0 | W57: =Q57*S57*U57*V57 -> 0 | AA57: ='1번필수'!M49 -> 0 | AB57: =AB$14 -> 73.5 | AC57: ='1번필수'!O49 -> 0
A58: D.100분의90본인부담 | B58: 1.의약품 | F58: 원 | I58: 원 | J58: ='1번필수'!F50 -> 0 | L58: ='1번필수'!G50 -> 0 | Q58: =ROUNDUP(AA58*AB58,-1) -> 0 | S58: ='1번필수'!H50 -> 0 | U58: ='1번필수'!I50 -> 0 | V58: ='1번필수'!J50 -> 0 | W58: =Q58*S58*U58*V58 -> 0 | AA58: ='1번필수'!M50 -> 0 | AB58: =AB$14 -> 73.5 | AC58: ='1번필수'!O50 -> 0
B59: 2.치료재료 | F59: 원 | I59: 원 | J59: ='1번필수'!F51 -> 0 | L59: ='1번필수'!G51 -> 0 | Q59: =ROUNDUP(AA59*AB59,-1) -> 0 | S59: ='1번필수'!H51 -> 0 | U59: ='1번필수'!I51 -> 0 | V59: ='1번필수'!J51 -> 0 | W59: =Q59*S59*U59*V59 -> 0 | AA59: ='1번필수'!M51 -> 0 | AB59: =AB$14 -> 73.5 | AC59: ='1번필수'!O51 -> 0
B60: 3.진료행위 | F60: 원 | I60: 원 | J60: ='1번필수'!F52 -> 0 | L60: ='1번필수'!G52 -> 0 | Q60: =ROUNDUP(AA60*AB60,-1) -> 0 | S60: ='1번필수'!H52 -> 0 | U60: ='1번필수'!I52 -> 0 | V60: ='1번필수'!J52 -> 0 | W60: =Q60*S60*U60*V60 -> 0 | AA60: ='1번필수'!M52 -> 0 | AB60: =AB$14 -> 73.5 | AC60: ='1번필수'!O52 -> 0
A61: U.건강보험100분의100본인부담 | B61: 1.의약품 | D61: 회 | F61: 원 | I61: 원 | J61: 특정내역
B62: 2.치료재료 | D62: 회 | F62: 원 | I62: 원
B63: 3.진료행위 | D63: 회 | F63: 원 | I63: 원
A64: V.보훈등100분의100본인부담 | B64: 1.의약품 | D64: 회 | F64: 원 | I64: 원
B65: 2.치료재료 | D65: 회 | F65: 원 | I65: 원
B66: 3.진료행위 | D66: 회 | F66: 원 | I66: 원
A67: W.비급여 | B67: 1.의약품 | D67: 회 | F67: 원 | I67: 원 | J67: 수술코드
B68: 2.치료재료 | D68: 회 | F68: 원 | I68: 원
B69: 3.진료행위 | D69: 회 | F69: 원 | I69: 원
A70: 특수장비총액 | I70: 원 | J70: 19.청구액 | N70: =E75-E76 -> 4371290 | T70: 원 | U70: 심사내역 | V70: 구분 | W70: 코드 | X70: 조정 | Z70: 1,2
A71: 보훈등100분의100본인부담총액 | I71: 원 | J71: 20. 본인부담상한초과금 | T71: 원
A72: 비급여총액 | I72: 원 | J72: 21.요양급여비용총액2, 진료비총액 | T72: 원
A73: 11. 소 계 | E73: =SUM(E14:E45) -> 403630 | F73: 원 | G73: =SUM(G27:H45) -> 4230800 | I73: 원 | J73: 22.보훈청구액 | T73: 원
A74: 12. 가 산 율 | E74: 20 | F74: % | G74: =G73*E74/100 -> 846160 | I74: 원 | J74: 23. 건강보험 100분의100분인부담총액 | T74: 원
A75: 15. 요양급여비용총액1 | E75: =E73+G73+G74 -> 5480590 | I75: 원 | J75: 24. 보훈본인일부부담금 | T75: 원 | Z75: 감1
A76: 16. 본인일부부담금 | E76: =ROUNDDOWN((E75-E25)*0.2+E25*0.5,-2) -> 1109300 | I76: 원 | J76: 25.100분의100미만 총액 | T76: 원 | Z76: 감2
A77: 17. 지원금 | I77: 원 | J77: 26. 100분의 100본인 일부부담금 | T77: 원 | Z77: 증1
A78: 18.장애인의료비 | I78: 원 | J78: 27. 100분의 100미만 청구액 | T78: 원 | Z78: 증2
A79: 일련번호 | E79: #심사조정 | J79: 28. 100분의 100미만 보훈청구액 | T79: 원 | V79: 계

Sheet 2번
A1: 문제 2 | B1: 다음 보기에서 빈칸에 맞는 항목을 골라내어 다음의 진료비 명세서을 작성 하시오. | J1: 반
B2: 병명 | C2: 요실금 | J2: 학번
B3: 입퇴원일시 | C3: 2018.06.18 오전4시 입원~ 2018. 06. 23 오후 7시 퇴원 | J3: 조
B4: 수술일시 | C4: 2018. 06.18 오전 5시~ 오전7시 | J4: 성명 | N4: 2018년
B5: 단 수기료는 횟수로 표시 할것 ex) 입원환자 의약품관리료 3일분이면 (7)*3 | M5: 병원 | N5: 73.5
B6: <보기> | C6: 종합병원 | M6: 의원 | N6: 81.4
A7: 번호 | B7: 항목 | C7: 번역 | D7: 구분 | E7: 구분2 | F7: 코드 | G7: 명칭 | H7: 양/회 | I7: 횟수/일 | J7: 일수 | K7: 총액 | L7: 단가 | M7: 점수 | N7: 점수당단가 | O7: 점수2&비고 | P7: 기본 | Q7: 가산율 | R7: 가산점수
A8: 1 | B8: Basic Anesthesia | C8: 기본 마취 | D8: 진찰료 및 입원료 | E8: I(약제비,기본진료비,장비사용료) | F8: AA25501 | G8: 재진진찰료(야간) | H8: 1 | I8: 1 | J8: 1 | K8: 13287.256 | L8: 13287.256 | M8: 180.779 | N8: 73.5
A9: 2 | B9: 입원환자조제복약료 | C9: 입원 환자 조제 | F9: AB300 | G9: 입원료(병원-3등급) | H9: 1 | I9: 1 | J9: 6 | K9: 253284.66 | L9: 42214.109 | M9: 574.34163 | N9: 73.5
A10: 3 | B10: biopsy | C10: 생검 | F10: AL756 | G10: 입원환자의약품관리료(3일분) | H10: 1 | I10: 1 | J10: 1 | K10: 3491.985 | L10: 3491.985 | M10: 47.51 | N10: 73.5
A11: 4 | B11: MRI(복부) | C11: MRI (복부) | F11: AL702 | G11: 외래환자의약품관리료(7일분) | H11: 1 | I11: 1 | J11: 1 | K11: 341.04 | L11: 341.04 | M11: 4.64 | N11: 73.5
A12: 5 | B12: Local Anesthesia | C12: 국소 마취 | E12: II(기술및 행위료) | N12: 73.5
A13: 6 | B13: CA125 | C13: CA125 | N13: 73.5
A14: 7 | B14: Hydroseloctomy | C14: 수종근본수술 | D14: 약제료 | E14: I(약제비,기본진료비,장비사용료) | F14: 644900310 | G14: 가나톤정 50mg | H14: 1 | I14: 5 | J14: 10 | K14: 396900 | L14: 7938 | M14: 108 | N14: 73.5
A15: 8 | B15: IV injection | C15: 정맥 주사 | F15: 641901220 | G15: 보령메이엑트정 100mg | H15: 1 | I15: 3 | J15: 7 | K15: 909121.5 | L15: 43291.5 | M15: 589 | N15: 73.5
A16: 9 | B16: IV[501ml~1,000ml) | C16: IV [501ml ~ 1,000ml] | E16: II(기술및 행위료) | F16: J2000 | G16: 입원환자조제복약지도료 | H16: 1 | I16: 1 | J16: 3 | K16: 3230.325 | L16: 1076.775 | M16: 14.65 | N16: 73.5
A17: 10 | B17: LFT | C17: LFT | F17: J1070 | G17: 퇴원환자조제료(7일분) | H17: 1 | I17: 1 | J17: 1 | K17: 1028.265 | L17: 1028.265 | M17: 13.99 | N17: 73.5
A18: 11 | B18: Inpatient Care | C18: 입원 환자 관리 | N18: 73.5
A19: 12 | B19: 엔후루란 | C19: 엔후루란(아리레인) | D19: 주사료 | E19: I(약제비,기본진료비,장비사용료) | F19: 644904070 | G19: 트리젤주 100ml | H19: 1 | I19: 3 | J19: 3 | L19: 103120.5 | N19: 73.5
A20: 13 | B20: 아산화질소 | C20: nitrogen dioxide | F20: 644904490 | G20: 하트만용액 1000cc(IV) | H20: 1 | I20: 2 | J20: 3 | L20: 113484 | N20: 73.5
A21: 14 | B21: Angio Needle 22G | C21: 안지오 니들 22G | F21: 644902271 | G21: 중외5%포도당주사액 1000밀리리터 | H21: 1 | I21: 1 | J21: 5 | L21: 119952 | N21: 73.5
A22: 15 | B22: 입원환자의약품관리료 | C22: 입원 환자 의약품 관리료 | F22: 645000450 | G22: 타라신주 30mg/ml | H22: 1 | I22: 3 | J22: 5
A23: 16 | B23: IM | C23: 메신저 | F23: 0 | G23: 도미컴주 5MG/5ML | H23: 1 | I23: 2 | J23: 1
A24: 17 | B24: Simple dressing | C24: 간단한 드레싱 | F24: 641902780 | G24: 아미킨주 100mg | H24: 1 | I24: 2 | J24: 6 | L24: 0 | N24: 73.5
A25: 18 | B25: 퇴원환자 의약품 관리료 | C25: 퇴원 환자용 의약품 관리료 | E25: II(기술및 행위료) | F25: 671801140 | G25: 대원황산아트로핀주 0.5mg/ml | H25: 1 | I25: 1 | J25: 1 | L25: 119952 | N25: 73.5
A26: 19 | B26: O2 | C26: O2 | F26: 655501561 | G26: 에스메론주(25mg/2.5mL) | H26: 1 | I26: 1 | J26: 1 | L26: 2953.23 | N26: 73.5
A27: 20 | B27: Suture Wire | C27: 봉합사 와이어 | F27: 0 | G27: 모비놀주 | H27: 1 | I27: 2 | J27: 1 | L27: 0 | N27: 73.5
A28: 21 | B28: OP for Urinary Incontinence | C28: 요실금 치료를위한 수술 | F28: KK051 | G28: 정맥내점적주사(-100ml) | H28: 1 | I28: 3 | J28: 3 | N28: 73.5
A29: 22 | B29: Sclalp Needle 20G | C29: 스컬프 바늘 20G | D29: 마취료 | E29: I(약제비,기본진료비,장비사용료) | F29: KK053 | G29: 정맥내점적주사(500-1000ml) | H29: 1 | I29: 1 | J29: 11
A30: 23 | B30: 퇴원환자 조제료 | C30: 퇴원 환자 조제료 | E30: II(기술및 행위료) | F30: KK054 | G30: 수액제주입로를 통한주사 | H30: 1 | I30: 2 | J30: 5
A31: 24 | B31: 전해질 검사 | C31: purity inspection
A32: 25 | B32: 펜토탈 소디움 | C32: pent 토탈 소디움 | F32: L1213 | G32: 마취관리[1시간 기준] 척수마취 | H32: 1 | I32: 1 | J32: 1.5 | L32: 983.01 | M32: 700 | N32: 73.5
A33: 26 | B33: Infectious Wound Dressing | C33: 감염 상처 드레싱 | F33: L1223 | G33: 마취유지[15분당] 척수마취 | H33: 1 | I33: 4 | J33: 1.5 | L33: 132.07 | M33: 300 | N33: 73.5
A34: 27 | B34: IV[100ml~500ml) | C34: IV [100ml ~ 500ml]
A35: 28 | B35: 외래환자의약품관리료 | C35: 외래 환자 의약품 관리 비용 | D35: 처치및수술료 | E35: I(약제비,기본진료비,장비사용료) | F35: R3564 | G35: 요실금수술-질강을 통한 수술-자가근막을이용한경우[근막채취료포함] | H35: 1 | I35: 1 | J35: 1.5 | L35: 3703.23 | M35: 3656 | N35: 73.5
A36: 29 | B36: 응급의료관리료 | C36: mercapture | E36: II(기술및 행위료) | F36: M0111 | G36: 수술후처치(창상,단순) | H36: 1 | I36: 1 | J36: 5 | L36: 53.63 | M36: 0 | N36: 73.5
A37: 30 | B37: Side Injection | C37: 사이드 인젝션
A38: 31 | B38: Nephrectomy | C38: 신장 절제술 | F38: Y0000 | G38: 식대 | H38: 1 | I38: 1 | J38: 17 | L38: 3390 | M38: 14.61 | N38: 73.5
A39: 32 | B39: Maintenance of Anesthesia | C39: 마취 유지
A40: 33 | B40: Inpatient Care(special) | C40: 입원 환자 관리 (특별) | F40: AC105 | G40: 응급의료관리료(지역) | H40: 1 | I40: 1 | J40: 1 | L40: 270.76 | M40: 861 | N40: 73.5
A41: 34 | B41: IV(100ml 미만) | C41: IV (100ml 미만)
A42: 35 | B42: 마취중 말초산소포화도 감시 | C42: 마취 중 말초 산소 포화도 감시
A43: 36 | B43: Foley Catheterization | C43: 폴리 카테터 삽입
A44: 37 | B44: Bandage | C44: 붕대
A45: 38 | B45: Ureteroneocystostomy | C45: ureteroneocystostomy
A46: 39 | B46: 항이뇨호로몬 | C46: 항 이뇨 호로몬
A47: 40 | B47: 피리놀주 | C47: pyrene
A48: 41
A49: 42 | F49: 0 | G49: 0 | H49: 0 | I49: 0 | J49: 0 | K49: 0 | L49: 0 | M49: 0 | N49: 73.5
A50: 43 | F50: 0 | G50: 0 | H50: 0 | I50: 0 | J50: 0 | K50: 0 | L50: 0 | M50: 0 | N50: 73.5
A51: 44 | F51: 0 | G51: 0 | H51: 0 | I51: 0 | J51: 0 | K51: 0 | L51: 0 | M51: 0 | N51: 73.5
A52: 45 | F52: 0 | G52: 0 | H52: 0 | I52: 0 | J52: 0 | K52: 0 | L52: 0 | M52: 0 | N52: 73.5
A53: 46 | F53: 0 | G53: 0 | H53: 0 | I53: 0 | J53: 0 | K53: 0 | L53: 0 | M53: 0 | N53: 73.5
A54: 47 | F54: 0 | G54: 0 | H54: 0 | I54: 0 | J54: 0 | K54: 0 | L54: 0 | M54: 0 | N54: 73.5
A55: 48 | F55: 0 | G55: 0 | H55: 0 | I55: 0 | J55: 0 | K55: 0 | L55: 0 | M55: 0 | N55: 73.5
A56: 49 | F56: 0 | G56: 0 | H56: 0 | I56: 0 | J56: 0 | K56: 0 | L56: 0 | M56: 0 | N56: 73.5
A57: 50 | F57: 0 | G57: 0 | H57: 0 | I57: 0 | J57: 0 | K57: 0 | L57: 0 | M57: 0 | N57: 73.5
F58: 0 | G58: 0 | H58: 0 | I58: 0 | J58: 0 | K58: 0 | L58: 0 | M58: 0 | N58: 73.5
F59: 0 | G59: 0 | H59: 0 | I59: 0 | J59: 0 | K59: 0 | L59: 0 | M59: 0 | N59: 73.5

Sheet 2-1번
A1: (별지 제 10호 서식) | N1: 입원2번 | Y1: (의과입원)
A2: 서식번호 | C2: G | D2: I | E2: 0 | F2: 2 | G2: 요양급여비용명세서 | T2: 요양기관
T3: 기호 | V3: 425-1234
A4: 등록번호 | C4: 123456 | G4: 증번호 | L4: 123456-56478
A5: 가입자성명 | C5: 홍길동 | G5: 공상등 구분 | T5: 명칭 | V5: 우송병원
A6: 수진자성명 | C6: 홍길녀 55세 | L6: -
A7: 상 병 명 | G7: 분류기호 | J7: 수술 | K7: 진료과목 | L7: 상해외인 | N7: 특정기호 | P7: 면허종류 | R7: 면허번호 | T7: 당월요양개시일 | V7: 요양급여일수 (투약일수포함) | Y7: 진료결과
T8: 최초입원개시일
A9: 상세불명의 요실금 | G9: R32 | J9: 요실금수술 | T9: 20120621 | V9: 13 | X9: 일 | Y9: 계속
T10: 20120605
X11: 일
X12: 일
A13: 입원일수 | C13: 5 | D13: 일 | E13: 기본진료,약제,특정재료(1) | G13: 진료행위(2) | J13: 처방전발급번호 | V13: 처방일수 | Y13: 7
A14: 구분 | J14: 점검번호
A15: 1.진찰료(외래관리료 포함) | B15: 1.초진 | D15: 회 | F15: 원 | G15: 야간및공휴 | I15: 회 | J15: 약품코드(일반명및제품명코드) | L15: 약품명(일반 및 제품명) | S15: 1회투약량 | U15: 1일투여횟수 | V15: 총투약일수
B16: 2.재진 | C16: 1 | D16: 회 | E16: =W17 -> 13080 | F16: 원 | G16: 야간및공휴 | I16: 회 | J16: 코드 | L16: 분류(예외분류코드) | O16: 상한가 | Q16: 단가 | S16: 1회투약량 | U16: 1일투여량또는실시횟수 | V16: 총투여일수또는실시횟수 | W16: 금액 | X16: 약제상한차액 | Y16: 면허종류 | Z16: 면허번호 | AA16: 점수 | AB16: 단가
B17: 3.의약품관리료 | E17: =SUM(W19:W20) -> 3780 | F17: 원 | J17: AA25501 | L17: 재진진찰료(야간) | Q17: =ROUNDUP(AA17*AB17,-1) -> 13080 | S17: 1 | U17: 1 | V17: 1 | W17: =Q17*S17*U17*V17 -> 13080 | X17: =O17-Q17 -> -13080 | AA17: =AC17+AD17*AE17 -> 180.779 | AB17: 72.3 | AC17: 151.37 | AD17: 98.03 | AE17: 0.3
B18: 4.응급 및 회송료 | E18: =W43 -> 19580 | F18: 원 | J18: AB300 | L18: 입원료(병원-3등급) | Q18: =ROUNDUP(AA18*AB18,-1) -> 41530 | S18: 1 | U18: 1 | V18: 6 | W18: =Q18*S18*U18*V18 -> 249180 | AA18: =AD18 -> 574.34163 | AB18: =AB17 -> 72.3 | AC18: 412.75 | AD18: =AC18*1.15*1.1*1.1 -> 574.34163
A19: 2.입원료 | B19: 1.일반 | C19: 5 | D19: 일 | E19: =W18 -> 249180 | F19: 원 | J19: AL756 | L19: 입원환자의약품관리료(3일분) | Q19: =ROUNDUP(AA19*AB19,-1) -> 3440 | S19: 1 | U19: 1 | V19: 1 | W19: =Q19*S19*U19*V19 -> 3440 | AA19: 47.51 | AB19: =AB18 -> 72.3 | AC19: 약3일간복용
B20: 2.내과질환자, 정신질환자 | F20: 원 | J20: AL702 | L20: 외래환자의약품관리료(7일분) | Q20: =ROUNDUP(AA20*AB20,-1) -> 340 | S20: 1 | U20: 1 | V20: 1 | W20: =Q20*S20*U20*V20 -> 340 | AA20: 4.64 | AB20: =AB19 -> 72.3 | AC20: 퇴원약7일분
B21: 만8세미만소아 | D21: 일 | J21: 644900310 | L21: 가나톤정 50mg | O21: 108 | Q21: 100 | S21: 1 | U21: 5 | V21: 10 | W21: =Q21*S21*U21*V21 -> 5000 | X21: =O21-Q21 -> 8 | AB21: =AB20 -> 72.3 | AC21: 입원+퇴원약, 약구매가 임의 조정
B22: 3.중환자실 | D22: 일 | F22: 원 | J22: 641901220 | L22: 보령메이엑트정 100mg | O22: 589 | Q22: 550 | S22: 1 | U22: 3 | V22: 7 | W22: =Q22*S22*U22*V22 -> 11550 | X22: =O22-Q22 -> 39 | AB22: =AB21 -> 72.3 | AC22: 퇴원약,약구매가 임의 조정
B23: 4.격리병실 | D23: 일 | F23: 원 | J23: J2000 | L23: 입원환자조제복약지도료 | Q23: =ROUNDUP(AA23*AB23,-1) -> 1060 | S23: 1 | U23: 1 | V23: 3 | W23: =Q23*S23*U23*V23 -> 3180 | AA23: 14.65 | AB23: =AB22 -> 72.3 | AC23: 3일간
B24: 5.신생아 | D24: 일 | F24: 원 | J24: J1070 | L24: 퇴원환자조제료(7일분) | Q24: =ROUNDUP(AA24*AB24,-1) -> 1020 | S24: 1 | U24: 1 | V24: 1 | W24: =Q24*S24*U24*V24 -> 1020 | AA24: 13.99 | AB24: =AB23 -> 72.3
B25: 6.기타 | D25: 일 | F25: 원 | J25: 644904490 | L25: 하트만용액 1000cc(IV) | O25: 1544 | Q25: 1500 | S25: 1 | U25: 2 | V25: 3 | W25: =Q25*S25*U25*V25 -> 9000 | X25: =O25-Q25 -> 44 | AB25: =AB24 -> 72.3 | AC25: 약구매가 임의 조정
B26: 7.기본식대 | E26: =W42 -> 57630 | F26: 원 | J26: 644902271 | L26: 중외5%포도당주사액 1000밀리리터 | O26: 1632 | Q26: 1600 | S26: 1 | U26: 1 | V26: 5 | W26: =Q26*S26*U26*V26 -> 8000 | X26: =O26-Q26 -> 32 | AB26: =AB25 -> 72.3 | AC26: 약구매가 임의 조정
B27: 8.가산식대 | F27: 원 | J27: KK053 | L27: 정맥내점적주사(500-1000ml) | Q27: =ROUNDUP(AA27*AB27,-1) -> 2910 | S27: 1 | U27: 1 | V27: 11 | W27: =Q27*S27*U27*V27 -> 32010 | AA27: 40.18 | AB27: =AB25 -> 72.3
A28: 3.투약료 | B28: 1.내복 | C28: 3 | D28: 일분 | E28: =W21+W22 -> 16550 | F28: 원 | G28: =W23+W24 -> 4200 | I28: 원 | J28: 644904070 | L28: 트리젤주 100ml | O28: 1403 | Q28: 1400 | S28: 1 | U28: 3 | V28: 3 | W28: =Q28*S28*U28*V28 -> 12600 | X28: =O28-Q28 -> 3 | AB28: =AB27 -> 72.3 | AC28: 약구매가 임의 조정
B29: 2.외용 | D29: 일분 | F29: 원 | I29: 원 | J29: KK051 | L29: 정맥내점적주사(-100ml) | Q29: =ROUNDUP(AA29*AB29,-1) -> 900 | S29: 1 | U29: 3 | V29: 3 | W29: =Q29*S29*U29*V29 -> 8100 | AA29: 12.38 | AB29: =AB28 -> 72.3
B30: 3.처방전 | D30: 회 | L30: 도미컴주 5MG/5ML | S30: 1 | U30: 2 | V30: 1 | W30: =Q30*S30*U30*V30 -> 0 | AB30: =AB29 -> 72.3 | AC30: 현재 삭제된약재임
A31: 4.주사료 | B31: 1.피하또는근육내 | D31: 일 | E31: =SUM(W30:W34) -> 11650 | F31: 원 | G31: =W35 -> 12720 | I31: 원 | J31: 641902780 | L31: 아미킨주 100mg | O31: 700 | Q31: 650 | S31: 1 | U31: 2 | V31: 6 | W31: =Q31*S31*U31*V31 -> 7800 | X31: =O31-Q31 -> 50 | AB31: =AB30 -> 72.3 | AC31: 약구매가 임의 조정
B32: 2.정맥내 | C32: 5 | D32: 일 | E32: =W25+W26+W28 -> 29600 | F32: 원 | G32: =W27+W29 -> 40110 | I32: 원 | J32: 671801140 | L32: 대원황산아트로핀주 0.5mg/ml | O32: 300 | Q32: 250 | S32: 1 | U32: 1 | V32: 1 | W32: =Q32*S32*U32*V32 -> 250 | X32: =O32-Q32 -> 50 | AB32: =AB31 -> 72.3 | AC32: 약구매가 임의 조정
B33: 3.수액제 | D33: 회 | E33: =W36 -> 12750 | F33: 원 | G33: =W37 -> 10300 | I33: 원 | J33: 655501561 | L33: 에스메론주(25mg/2.5mL) | O33: 3656 | Q33: 3600 | S33: 1 | U33: 1 | V33: 1 | W33: =Q33*S33*U33*V33 -> 3600 | X33: =O33-Q33 -> 56 | AB33: =AB32 -> 72.3 | AC33: 약구매가 임의 조정
B34: 4.기타 | D34: 회 | F34: 원 | I34: 원 | L34: 모비놀주 | S34: 1 | U34: 2 | V34: 1 | W34: =Q34*S34*U34*V34 -> 0 | AB34: =AB33 -> 72.3 | AC34: 미등재약재임
B35: 5.특정재료 | F35: 원 | J35: KK010 | L35: 피하또는근육내주사 | Q35: =ROUNDUP(AA35*AB35,-1) -> 1060 | S35: 1 | U35: 2 | V35: 6 | W35: =Q35*S35*U35*V35 -> 12720 | AA35: 14.61 | AB35: =AB34 -> 72.3
B36: 6.수혈 | D36: 회 | F36: 원 | I36: 원 | J36: 645000450 | L36: 타라신주 30mg/ml | O36: 861 | Q36: 850 | S36: 1 | U36: 3 | V36: 5 | W36: =Q36*S36*U36*V36 -> 12750 | X36: =O36-Q36 -> 11 | AB36: =AB35 -> 72.3 | AC36: 약구매가 임의 조정
A37: 5.마취료 | B37: 1.. | C37: 1 | D37: 회 | F37: 원 | G37: =SUM(W38:W39) -> 163920 | I37: 원 | J37: KK054 | L37: 수액제주입로를 통한주사 | Q37: =ROUNDUP(AA37*AB37,-1) -> 1030 | S37: 1 | U37: 2 | V37: 5 | W37: =Q37*S37*U37*V37 -> 10300 | AA37: 14.17 | AB37: =AB36 -> 72.3
A38: 6.이학요법료 | B38: 1.. | D38: 종 | F38: 원 | I38: 원 | J38: L1213 | L38: 마취관리[1시간 기준] 척수마취 | Q38: =ROUNDUP(AA38*AB38,-1) -> 71080 | S38: 1 | U38: 1 | V38: 1.5 | W38: =Q38*S38*U38*V38 -> 106620 | AA38: 983.01 | AB38: =AB37 -> 72.3
A39: 7.정신요법료 | B39: 1.. | D39: 종 | F39: 원 | I39: 원 | J39: L1223 | L39: 마취유지[15분당] 척수마취 | Q39: =ROUNDUP(AA39*AB39,-1) -> 9550 | S39: 1 | U39: 4 | V39: 1.5 | W39: =Q39*S39*U39*V39 -> 57300 | AA39: 132.07 | AB39: =AB38 -> 72.3
A40: 8.처치및수술료 | B40: 1.처치및수술 | C40: 1 | D40: 종 | F40: 원 | G40: =W40+W41 -> 421025 | I40: 원 | J40: R3564 | L40: 요실금수술-질강을 통한 수술-자가근막을이용한경우[근막채취료포함] | Q40: =ROUNDUP(AA40*AB40,-1) -> 267750 | S40: 1 | U40: 1 | V40: 1.5 | W40: =Q40*S40*U40*V40 -> 401625 | AA40: 3703.23 | AB40: =AB39 -> 72.3
B41: 3.케스트 | D41: 회 | F41: 원 | I41: 원 | J41: M0111 | L41: 수술후처치(창상,단순) | Q41: =ROUNDUP(AA41*AB41,-1) -> 3880 | S41: 1 | U41: 1 | V41: 5 | W41: =Q41*S41*U41*V41 -> 19400 | AA41: 53.63 | AB41: =AB40 -> 72.3
A42: 9.검사료 | B42: 1.자체검사 | D42: 종 | F42: 원 | I42: 원 | J42: Y0000 | L42: 식대 | Q42: 3390 | S42: 1 | U42: 1 | V42: 17 | W42: =Q42*S42*U42*V42 -> 57630 | AB42: =AB41 -> 72.3
B43: 2.위탁검사관리 | F43: 원 | J43: AC105 | L43: 응급의료관리료(지역) | Q43: =ROUNDUP(AA43*AB43,-1) -> 19580 | S43: 1 | U43: 1 | V43: 1 | W43: =Q43*S43*U43*V43 -> 19580 | AA43: 270.76 | AB43: =AB42 -> 72.3 | AC43: 응급증상 아님, 야간 내원이므로 응급실 내원으로 간주
B44: 3.위탁검사 | D44: 종 | F44: 원 | Q44: =ROUNDUP(AA44*AB44,-1) -> 0 | W44: =Q44*S44*U44*V44 -> 0 | AB44: =AB43 -> 72.3
A45: 10.영상진단및방사선치료료 | B45: 1.진단 | D45: 종 | F45: 원 | I45: 원 | Q45: =ROUNDUP(AA45*AB45,-1) -> 0 | W45: =Q45*S45*U45*V45 -> 0 | AB45: =AB44 -> 72.3
B46: 2.치료 | D46: 종 | F46: 원 | I46: 원 | Q46: =ROUNDUP(AA46*AB46,-1) -> 0 | W46: =Q46*S46*U46*V46 -> 0 | AB46: =AB45 -> 72.3
A47: S.특수장비 | B47: 1.CT | D47: 회 | F47: 원 | G47: =Y42 -> 0 | I47: 원 | Q47: =ROUNDUP(AA47*AB47,-1) -> 0 | W47: =Q47*S47*U47*V47 -> 0 | AB47: =AB46 -> 72.3
B48: 2.MRI | D48: 회 | F48: 원 | G48: =Y43 -> 0 | I48: 원 | Q48: =ROUNDUP(AA48*AB48,-1) -> 0 | W48: =Q48*S48*U48*V48 -> 0 | AB48: =AB47 -> 72.3
B49: 3.PET | D49: 회 | F49: 원 | I49: 원 | Q49: =ROUNDUP(AA49*AB49,-1) -> 0 | W49: =Q49*S49*U49*V49 -> 0 | AB49: =AB48 -> 72.3
A50: A.100분의100미만본인부담1 | B50: 1.의약품 | F50: 원 | I50: 원 | Q50: =ROUNDUP(AA50*AB50,-1) -> 0 | W50: =Q50*S50*U50*V50 -> 0 | AB50: =AB49 -> 72.3
B51: 2.치료재료 | F51: 원 | I51: 원 | Q51: =ROUNDUP(AA51*AB51,-1) -> 0 | W51: =Q51*S51*U51*V51 -> 0 | AB51: =AB50 -> 72.3
B52: 3.진료행위 | F52: 원 | I52: 원 | Q52: =ROUNDUP(AA52*AB52,-1) -> 0 | W52: =Q52*S52*U52*V52 -> 0 | AB52: =AB51 -> 72.3
A53: B.100분의100미만본인부담2 | B53: 1.의약품 | F53: 원 | I53: 원 | Q53: =ROUNDUP(AA53*AB53,-1) -> 0 | W53: =Q53*S53*U53*V53 -> 0 | AB53: =AB52 -> 72.3
B54: 2.치료재료 | F54: 원 | I54: 원 | Q54: =ROUNDUP(AA54*AB54,-1) -> 0 | W54: =Q54*S54*U54*V54 -> 0 | AB54: =AB53 -> 72.3
B55: 3.진료행위 | F55: 원 | I55: 원 | Q55: =ROUNDUP(AA55*AB55,-1) -> 0 | W55: =Q55*S55*U55*V55 -> 0 | AB55: =AB54 -> 72.3
A56: U.건강보험100분의100본인부담 | B56: 1.의약품 | D56: 회 | F56: 원 | I56: 원 | J56: 특정내역
B57: 2.치료재료 | D57: 회 | F57: 원 | I57: 원
B58: 3.진료행위 | D58: 회 | E58: =E18 -> 19580 | F58: 원 | I58: 원
A59: V.보훈등100분의100본인부담 | B59: 1.의약품 | D59: 회 | F59: 원 | I59: 원
B60: 2.치료재료 | D60: 회 | F60: 원 | I60: 원
B61: 3.진료행위 | D61: 회 | F61: 원 | I61: 원
A62: W.비급여 | B62: 1.의약품 | D62: 회 | F62: 원 | I62: 원 | J62: 수술코드
B63: 2.치료재료 | D63: 회 | F63: 원 | I63: 원
B64: 3.진료행위 | D64: 회 | F64: 원 | I64: 원
A65: 특수장비총액 | I65: 원 | J65: 18.장애인의료비 | T65: 원 | U65: 심사내역 | V65: 구분 | W65: 코드 | X65: 조정 | Y65: 약제상한차액조정 | Z65: 1,2
A66: 보훈등100분의100본인부담총액 | I66: 원 | J66: 19.청구액 | N66: =E71-E73 -> 924330 | T66: 원
A67: 비급여총액 | I67: 원 | J67: 20. 본인부담상한초과금 | T67: 원
A68: 11. 소 계 | E68: =SUM(E15:E46) -> 413800 | F68: 원 | G68: =SUM(G28:H46) -> 652275 | I68: 원 | J68: 21.요양급여비용총액2, 진료비총액 | T68: 원
A69: 12. 가 산 율 | E69: 20 | F69: % | G69: =G68*E69/100 -> 130455 | I69: 원 | J69: 22.보훈청구액 | T69: 원
A70: 13. 약 제 상 한 차 액 총 액 | I70: 원 | J70: 23. 건강보험 100분의100분인부담총액 | T70: 원
A71: 14. 수진자요양급여비용총액 | E71: =E68+G68+G69 -> 1196530 | I71: 원 | J71: 24. 보훈본인일부부담금 | T71: 원 | Z71: 감1
A72: 15. 요양급여비용총액1 | I72: 원 | J72: 25.100분의100미만 총액 | T72: 원 | Z72: 감2
A73: 16. 본인일부부담금 | E73: =ROUNDDOWN((E71-E26-E18)*0.2+E26*0.5+E18,-2) -> 272200 | I73: 원 | J73: 26. 100분의 100본인 일부부담금 | T73: 원 | Z73: 증1
A74: 17. 지원금 | E74: 응급의료관리료 본인 부담 | I74: 원 | J74: 27. 100분의 100미만 청구액 | T74: 원 | Z74: 증2
A75: 일련번호 | E75: #심사조정 | J75: 28. 100분의 100미만 보훈청구액 | T75: 원 | V75: 계
A76: 다중바코드

Sheet 포괄
A1: (별지 제 10호 서식) | N1: 입원2번 | Y1: (의과입원)
A2: 서식번호 | C2: G | D2: I | E2: 0 | F2: 2 | G2: 요양급여비용명세서 | T2: 요양기관
T3: 기호 | V3: 425-1234
A4: 등록번호 | C4: 123456 | G4: 증번호 | L4: 123456-56478
A5: 가입자성명 | C5: 홍길동 | G5: 공상등 구분 | T5: 명칭 | V5: 우송병원
A6: 수진자성명 | C6: 홍길녀 55세 | L6: -
A7: 상 병 명 | G7: 분류기호 | J7: 수술 | K7: 진료과목 | L7: 상해외인 | N7: 특정기호 | P7: 면허종류 | R7: 면허번호 | T7: 당월요양개시일 | V7: 요양급여일수 (투약일수포함) | Y7: 진료결과
T8: 최초입원개시일
A9: 상세불명의 요실금 | G9: R32 | J9: 요실금수술 | T9: 20120621 | V9: 13 | X9: 일 | Y9: 계속
T10: 20120605
X11: 일
X12: 일
A13: 입원일수 | C13: 5 | D13: 일 | E13: 기본진료,약제,특정재료(1) | G13: 진료행위(2) | J13: 처방전발급번호 | V13: 처방일수 | Y13: 7
A14: 구분 | J14: 점검번호
A15: 1.진찰료(외래관리료 포함) | B15: 1.초진 | D15: 회 | F15: 원 | G15: 야간및공휴 | I15: 회 | J15: 약품코드(일반명및제품명코드) | L15: 약품명(일반 및 제품명) | S15: 1회투약량 | U15: 1일투여횟수 | V15: 총투약일수
B16: 2.재진 | D16: 회 | F16: 원 | G16: 야간및공휴 | I16: 회 | J16: 코드 | L16: 분류(예외분류코드) | O16: 상한가 | Q16: 단가 | S16: 1회투약량 | U16: 1일투여량또는실시횟수 | V16: 총투여일수또는실시횟수 | W16: 금액 | X16: 약제상한차액 | Y16: 면허종류 | Z16: 면허번호 | AA16: 점수 | AB16: 단가
B17: 3.의약품관리료 | F17: 원 | J17: N04200 | L17: 포괄(기타자궁적출술,의원,2일) | Q17: =ROUND(AA17*AB17,-1) -> 1211840 | S17: 1 | U17: 1 | V17: 1 | W17: =Q17*S17*U17*V17 -> 1211840 | AA17: 15339.8 | AB17: 79
B18: 4.응급 및 회송료 | F18: 원 | L18: 식대는 사식 | Q18: 3390 | S18: 1 | U18: 3 | V18: 2 | W18: =Q18*S18*U18*V18 -> 20340 | AB18: =AB17 -> 79
A19: 2.입원료 | B19: 1.일반 | C19: 2 | D19: 일 | E19: =W17 -> 1211840 | F19: 원 | L19: 영양사가산 | Q19: 550 | S19: 1 | U19: 3 | V19: 2 | W19: =Q19*S19*U19*V19 -> 3300 | AB19: =AB18 -> 79
B20: 2.내과질환자, 정신질환자 | F20: 원 | AB20: =AB19 -> 79
B21: 만8세미만소아 | D21: 일 | AB21: =AB20 -> 79
B22: 3.중환자실 | D22: 일 | F22: 원 | AB22: =AB21 -> 79
B23: 4.격리병실 | D23: 일 | F23: 원 | AB23: =AB22 -> 79
B24: 5.신생아 | D24: 일 | F24: 원 | AB24: =AB23 -> 79
B25: 6.기타 | D25: 일 | F25: 원 | AB25: =AB24 -> 79
B26: 7.기본식대 | E26: =W42 -> 0 | F26: 원 | AB26: =AB25 -> 79
B27: 8.가산식대 | F27: 원 | AB27: =AB25 -> 79
A28: 3.투약료 | B28: 1.내복 | C28: 3 | D28: 일분 | E28: =W21+W22 -> 0 | F28: 원 | G28: =W23+W24 -> 0 | I28: 원 | AB28: =AB27 -> 79
B29: 2.외용 | D29: 일분 | F29: 원 | I29: 원 | AB29: =AB28 -> 79
B30: 3.처방전 | D30: 회 | AB30: =AB29 -> 79
A31: 4.주사료 | B31: 1.피하또는근육내 | D31: 일 | E31: =SUM(W30:W34) -> 0 | F31: 원 | G31: =W35 -> 0 | I31: 원 | AB31: =AB30 -> 79
B32: 2.정맥내 | C32: 5 | D32: 일 | E32: =W25+W26+W28 -> 0 | F32: 원 | G32: =W27+W29 -> 0 | I32: 원 | AB32: =AB31 -> 79
B33: 3.수액제 | D33: 회 | E33: =W36 -> 0 | F33: 원 | G33: =W37 -> 0 | I33: 원 | AB33: =AB32 -> 79
B34: 4.기타 | D34: 회 | F34: 원 | I34: 원 | AB34: =AB33 -> 79
B35: 5.특정재료 | F35: 원 | AB35: =AB34 -> 79
B36: 6.수혈 | D36: 회 | F36: 원 | I36: 원 | AB36: =AB35 -> 79
A37: 5.마취료 | B37: 1.. | C37: 1 | D37: 회 | F37: 원 | G37: =SUM(W38:W39) -> 0 | I37: 원 | AB37: =AB36 -> 79
A38: 6.이학요법료 | B38: 1.. | D38: 종 | F38: 원 | I38: 원 | AB38: =AB37 -> 79
A39: 7.정신요법료 | B39: 1.. | D39: 종 | F39: 원 | I39: 원 | AB39: =AB38 -> 79
A40: 8.처치및수술료 | B40: 1.처치및수술 | C40: 1 | D40: 종 | F40: 원 | G40: =W40+W41 -> 0 | I40: 원 | AB40: =AB39 -> 79
B41: 3.케스트 | D41: 회 | F41: 원 | I41: 원 | AB41: =AB40 -> 79
A42: 9.검사료 | B42: 1.자체검사 | D42: 종 | F42: 원 | I42: 원 | AB42: =AB41 -> 79
B43: 2.위탁검사관리 | F43: 원 | AB43: =AB42 -> 79
B44: 3.위탁검사 | D44: 종 | F44: 원 | AB44: =AB43 -> 79
A45: 10.영상진단및방사선치료료 | B45: 1.진단 | D45: 종 | F45: 원 | I45: 원 | AB45: =AB44 -> 79
B46: 2.치료 | D46: 종 | F46: 원 | I46: 원 | AB46: =AB45 -> 79
A47: S.특수장비 | B47: 1.CT | D47: 회 | F47: 원 | G47: =Y42 -> 0 | I47: 원 | AB47: =AB46 -> 79
B48: 2.MRI | D48: 회 | F48: 원 | G48: =Y43 -> 0 | I48: 원 | AB48: =AB47 -> 79
B49: 3.PET | D49: 회 | F49: 원 | I49: 원 | AB49: =AB48 -> 79
A50: A.100분의100미만본인부담1 | B50: 1.의약품 | F50: 원 | I50: 원 | AB50: =AB49 -> 79
B51: 2.치료재료 | F51: 원 | I51: 원 | AB51: =AB50 -> 79
B52: 3.진료행위 | F52: 원 | I52: 원 | AB52: =AB51 -> 79
A53: B.100분의100미만본인부담2 | B53: 1.의약품 | F53: 원 | I53: 원 | AB53: =AB52 -> 79
B54: 2.치료재료 | F54: 원 | I54: 원 | AB54: =AB53 -> 79
B55: 3.진료행위 | F55: 원 | I55: 원 | Q55: =ROUNDUP(AA55*AB55,-1) -> 0 | W55: =Q55*S55*U55*V55 -> 0 | AB55: =AB54 -> 79
A56: U.건강보험100분의100본인부담 | B56: 1.의약품 | D56: 회 | F56: 원 | I56: 원 | J56: 특정내역
B57: 2.치료재료 | D57: 회 | F57: 원 | I57: 원
B58: 3.진료행위 | D58: 회 | E58: =E18 -> 0 | F58: 원 | I58: 원
A59: V.보훈등100분의100본인부담 | B59: 1.의약품 | D59: 회 | F59: 원 | I59: 원
B60: 2.치료재료 | D60: 회 | F60: 원 | I60: 원
B61: 3.진료행위 | D61: 회 | F61: 원 | I61: 원
A62: W.비급여 | B62: 1.의약품 | D62: 회 | F62: 원 | I62: 원 | J62: 수술코드
B63: 2.치료재료 | D63: 회 | F63: 원 | I63: 원
B64: 3.진료행위 | D64: 회 | F64: 원 | I64: 원
A65: 특수장비총액 | I65: 원 | J65: 18.장애인의료비 | T65: 원 | U65: 심사내역 | V65: 구분 | W65: 코드 | X65: 조정 | Y65: 약제상한차액조정 | Z65: 1,2
A66: 보훈등100분의100본인부담총액 | I66: 원 | J66: 19.청구액 | N66: =E71-E73 -> 969540 | T66: 원
A67: 비급여총액 | I67: 원 | J67: 20. 본인부담상한초과금 | T67: 원
A68: 11. 소 계 | E68: =SUM(E15:E46) -> 1211840 | F68: 원 | G68: =SUM(G28:H46) -> 0 | I68: 원 | J68: 21.요양급여비용총액2, 진료비총액 | T68: 원
A69: 12. 가 산 율 | F69: % | G69: =G68*E69/100 -> 0 | I69: 원 | J69: 22.보훈청구액 | T69: 원
A70: 13. 약 제 상 한 차 액 총 액 | I70: 원 | J70: 23. 건강보험 100분의100분인부담총액 | T70: 원
A71: 14. 수진자요양급여비용총액 | E71: =E68+G68+G69 -> 1211840 | I71: 원 | J71: 24. 보훈본인일부부담금 | T71: 원 | Z71: 감1
A72: 15. 요양급여비용총액1 | I72: 원 | J72: 25.100분의100미만 총액 | T72: 원 | Z72: 감2
A73: 16. 본인일부부담금 | E73: =ROUNDDOWN((E71)*0.2+E26*0.5,-2) -> 242300 | I73: 원 | J73: 26. 100분의 100본인 일부부담금 | T73: 원 | Z73: 증1
A74: 17. 지원금 | I74: 원 | J74: 27. 100분의 100미만 청구액 | T74: 원 | Z74: 증2
A75: 일련번호 | E75: #심사조정 | J75: 28. 100분의 100미만 보훈청구액 | T75: 원 | V75: 계
A76: 다중바코드

Sheet Sheet1
A1: (별지 제 10호 서식) | Y1: (의과입원)
A2: 서식번호 | C2: G | D2: I | E2: 0 | F2: 2 | G2: 요양급여비용명세서 | T2: 요양기관
T3: 기호 | V3: 425-1234
A4: 등록번호 | C4: 123456 | G4: 증번호 | L4: 123456-56478
A5: 가입자성명 | C5: 홍길동 | G5: 공상등 구분 | T5: 명칭 | V5: 우송병원
A6: 수진자성명 | C6: 홍길동 52세 | G6: 주민등록번호 | L6: -
A7: 상 병 명 | G7: 분류기호 | J7: 수술 | K7: 진료과목 | L7: 상해외인 | N7: 특정기호 | P7: 면허종류 | R7: 면허번호 | T7: 당월요양개시일 | V7: 요양급여일수 (투약일수포함) | Y7: 진료결과
T8: 최초입원개시일
A9: 둘이상의 손가락만의 외상성 절단 (왼손 4, 5 번째) | G9: S68.2 | J9: 사지접합수술 | K9: 정형외과 | T9: 20180413 | V9: 8 | X9: 일 | Y9: 계속
T10: 20180421 | X10: 일
X11: 일
A12: 입원일수 | C12: 5 | D12: 일 | E12: 기본진료,약제,특정재료(1) | G12: 진료행위(2) | J12: 처방전발급번호 | L12: 20180421-0005 | V12: 처방일수 | Y12: 2
A13: 구분 | J13: 점검번호 | L13: =L12 -> 20180421-0005 | AA13: 단가 2018
A14: 1.진찰료(외래관리료 포함) | B14: 1.초진 | C14: 1 | D14: 회 | E14: =W16 -> 18790 | F14: 원 | G14: 야간및공휴 | I14: 회 | J14: 약품코드(일반명 또는 제품명코드) | L14: 약품명(일반 또는 제품명) | S14: 1회투약량 | U14: 1일투여횟수 | V14: 총투약일수 | AA14: 병원 | AB14: 73.5 | AC14: 의원 | AD14: 81.4
B15: 2.재진 | D15: 회 | F15: 원 | G15: 야간및공휴 | I15: 회 | J15: 코드 | L15: 분류(예외분류코드) | Q15: 단가 | S15: 1회투약량 | U15: 1일투여량또는실시횟수 | V15: 총투여일수또는실시횟수 | W15: 금액 | Y15: 면허종류 | Z15: 면허번호 | AA15: 점수 | AB15: 단가 | AC15: 비고
B16: 3.의약품관리료 | E16: =SUM(W18:W19) -> 3630 | F16: 원 | J16: AA15501 | L16: 초진진찰료(야간) | Q16: =ROUNDUP(AA16*AB16,-1) -> 18790 | S16: 1 | U16: 1 | V16: 1 | W16: =Q16*S16*U16*V16 -> 18790 | AA16: =AC16+AD16*AE16 -> 255.531 | AB16: =AB14 -> 73.5 | AC16: 208.86 | AD16: 155.57 | AE16: 0.3
B17: 4.응급 및 회송료 | E17: =W36 -> 19910 | F17: 원 | J17: AB303 | L17: 입원료(병원-3등급) | Q17: =ROUNDUP(AA17*AB17,-1) -> 42220 | S17: 1 | U17: 1 | V17: 5 | W17: =Q17*S17*U17*V17 -> 211100 | AA17: =AD17 -> 574.34163 | AB17: =AB16 -> 73.5 | AC17: 412.75 | AD17: =AC17*1.15*1.1*1.1 -> 574.34163
A18: 2.입원료 | B18: 1.일반 | C18: 5 | D18: 일 | E18: =W17 -> 211100 | F18: 원 | J18: AL756 | L18: 입원환자의약품관리료(6일분) | Q18: =ROUNDUP(AA18*AB18,-1) -> 3500 | S18: 1 | U18: 1 | V18: 1 | W18: =Q18*S18*U18*V18 -> 3500 | AA18: 47.51 | AB18: =AB17 -> 73.5
B19: 2.내과질환자, 정신질환자 | F19: 원 | J19: AL702 | L19: 외래환자의약품관리료(2일분) | Q19: =ROUNDUP(AA19*AB19,-1) -> 130 | S19: 1 | U19: 1 | V19: 1 | W19: =Q19*S19*U19*V19 -> 130 | AA19: 1.76 | AB19: =AB18 -> 73.5
B20: 만8세미만소아 | D20: 일 | J20: 648503580 | L20: 크린세프캡슐 250mg | S20: 1 | U20: 3 | V20: 8 | W20: =Q20*S20*U20*V20 -> 0 | AB20: =AB19 -> 73.5 | AC20: 입원6,퇴원약2총8일, 구입가격 임의 산정
B21: 3.중환자실 | D21: 일 | F21: 원 | J21: 648500640 | L21: 록스펜정 60mg | S21: 1 | U21: 3 | V21: 8 | W21: =Q21*S21*U21*V21 -> 0 | AB21: =AB20 -> 73.5 | AC21: 입원6,퇴원약2총8일, 구입가격 임의 산정
B22: 4.격리병실 | D22: 일 | F22: 원 | J22: J2000 | L22: 입원환자조제복약지도료 | Q22: =ROUNDUP(AA22*AB22,-1) -> 1080 | S22: 1 | U22: 1 | V22: 6 | W22: =Q22*S22*U22*V22 -> 6480 | AA22: 14.65 | AB22: =AB21 -> 73.5
B23: 5.신생아 | D23: 일 | F23: 원 | J23: J1020 | L23: 퇴원환자조제료 | Q23: =ROUNDUP(AA23*AB23,-1) -> 430 | S23: 1 | U23: 1 | V23: 2 | W23: =Q23*S23*U23*V23 -> 860 | AA23: 5.76 | AB23: =AB22 -> 73.5
B24: 6.기타 | D24: 일 | F24: 원 | J24: 645101002 | L24: 대한포도당주사액 5% 1L | S24: 1 | U24: 2 | V24: 5 | W24: =Q24*S24*U24*V24 -> 0 | AB24: =AB23 -> 73.5 | AC24: 구입가격 임의 산정
B25: 7.기본식대 | E25: =W35 -> 44070 | F25: 원 | J25: 648502071 | L25: 신풍세프라딘주 500mg(IM) | S25: 1 | U25: 3 | V25: 6 | W25: =Q25*S25*U25*V25 -> 0 | AB25: =AB24 -> 73.5 | AC25: 구입가격 임의 산정
B26: 8.가산식대 | F26: 원 | J26: 641902781 | L26: 아미킨주 100mg(수액제주입) | S26: 1 | U26: 2 | V26: 5 | W26: =Q26*S26*U26*V26 -> 0 | AB26: =AB24 -> 73.5 | AC26: 구입가격 임의 산정
A27: 3.투약료 | B27: 1.내복 | C27: 9 | D27: 일분 | E27: =SUM(W20:W21) -> 0 | F27: 원 | G27: =SUM(W22:W23) -> 7340 | I27: 원 | J27: 647801231 | L27: 세트라졸 500mg(수액제주입로) | S27: 1 | U27: 2 | V27: 5 | W27: =Q27*S27*U27*V27 -> 0 | AB27: =AB26 -> 73.5 | AC27: 구입가격 임의 산정
B28: 2.외용 | D28: 일분 | F28: 원 | I28: 원 | J28: KK053 | L28: 정맥내점적주사(5000-1000ml) | Q28: =ROUNDUP(AA28*AB28,-1) -> 2960 | S28: 1 | U28: 2 | V28: 5 | W28: =Q28*S28*U28*V28 -> 29600 | AA28: 40.18 | AB28: =AB27 -> 73.5 | AC28: 병당계산
B29: 3.처방전 | C29: 1 | D29: 회 | J29: KK010 | L29: 피하또는근육내주사 | Q29: =ROUNDUP(AA29*AB29,-1) -> 1080 | S29: 1 | U29: 2 | V29: 6 | W29: =Q29*S29*U29*V29 -> 12960 | AA29: 14.61 | AB29: =AB28 -> 73.5 | AC29: 1일2회
A30: 4.주사료 | B30: 1.피하또는근육내 | C30: 6 | D30: 일 | E30: =W25 -> 0 | F30: 원 | G30: =W29 -> 12960 | I30: 원 | J30: KK054 | L30: 수액제주입로를 통한주사 | Q30: =ROUNDUP(AA30*AB30,-1) -> 1050 | S30: 1 | U30: 2 | V30: 5 | W30: =Q30*S30*U30*V30 -> 10500 | AA30: 14.17 | AB30: =AB29 -> 73.5 | AC30: 1일2회
B31: 2.정맥내 | C31: 5 | D31: 일 | E31: =W24 -> 0 | F31: 원 | G31: =W28 -> 29600 | I31: 원 | J31: L121501 | L31: 마취(상박신경총)관리기본 | Q31: =ROUNDUP(AA31*AB31,-1) -> 81100 | S31: 1.5 | U31: 1 | V31: 1 | W31: =Q31*S31*U31*V31 -> 121650 | AA31: 1103.37 | AB31: =AB30 -> 73.5 | AC31: 기본1시간, 야간
B32: 3.수액제 | C32: 5 | D32: 회 | E32: =SUM(W26:W27) -> 0 | F32: 원 | G32: =W30 -> 10500 | I32: 원 | J32: L122501 | L32: 마취유지관리(상박신경총)료 | Q32: =ROUNDUP(AA32*AB32,-1) -> 9710 | S32: 1.5 | U32: 44 | V32: 1 | W32: =Q32*S32*U32*V32 -> 640860 | AA32: 132.07 | AB32: =AB31 -> 73.5 | AC32: 총11시간 15분단위, 야간
B33: 4.기타 | D33: 회 | F33: 원 | I33: 원 | J33: N058801 | L33: 사지접합술(수족지) | Q33: =ROUNDUP(AA33*AB33,-1) -> 799150 | S33: 1.5 | U33: 1 | V33: 2 | W33: =Q33*S33*U33*V33 -> 2397450 | AA33: 10872.75 | AB33: =AB32 -> 73.5 | AC33: 2개,야간
B34: 5.특정재료 | F34: 원 | J34: M0111 | L34: 수술후처치(창상,단순) | Q34: =ROUNDUP(AA34*AB34,-1) -> 3950 | S34: 1 | U34: 1 | V34: 4 | W34: =Q34*S34*U34*V34 -> 15800 | AA34: 53.63 | AB34: =AB33 -> 73.5
B35: 6.수혈 | D35: 회 | F35: 원 | I35: 원 | J35: Y0000 | L35: 식대 | Q35: 3390 | S35: 1 | U35: 1 | V35: 13 | W35: =Q35*S35*U35*V35 -> 44070 | AA35: 3390 | AB35: =AB34 -> 73.5 | AC35: 실제먹은식사
A36: 5.마취료 | B36: 1.. | C36: 1 | D36: 회 | F36: 원 | G36: =SUM(W31:W32) -> 762510 | I36: 원 | J36: AC105 | L36: 응급의료관리료(지역) | Q36: =ROUNDUP(AA36*AB36,-1) -> 19910 | S36: 1 | U36: 1 | V36: 1 | W36: =Q36*S36*U36*V36 -> 19910 | AA36: 270.76 | AB36: =AB35 -> 73.5 | AC36: 응급에 준하는 증상이고 야간 내원하였으므로 응급실 내원으로 간주
A37: 6.이학요법료 | B37: 1.. | D37: 종 | F37: 원 | I37: 원 | Q37: =ROUNDUP(AA37*AB37,-1) -> 0 | W37: =Q37*S37*U37*V37 -> 0 | AB37: =AB36 -> 73.5
A38: 7.정신요법료 | B38: 1.. | D38: 종 | F38: 원 | I38: 원 | Q38: =ROUNDUP(AA38*AB38,-1) -> 0 | W38: =Q38*S38*U38*V38 -> 0 | AB38: =AB37 -> 73.5
A39: 8.처치및수술료 | B39: 1.처치및수술 | C39: 1 | D39: 종 | F39: 원 | G39: =SUM(W33:W34) -> 2413250 | I39: 원 | Q39: =ROUNDUP(AA39*AB39,-1) -> 0 | W39: =Q39*S39*U39*V39 -> 0 | AB39: =AB38 -> 73.5
B40: 3.케스트 | D40: 회 | F40: 원 | I40: 원 | Q40: =ROUNDUP(AA40*AB40,-1) -> 0 | W40: =Q40*S40*U40*V40 -> 0 | AB40: =AB39 -> 73.5
A41: 9.검사료 | B41: 1.자체검사 | D41: 종 | F41: 원 | I41: 원 | Q41: =ROUNDUP(AA41*AB41,-1) -> 0 | W41: =Q41*S41*U41*V41 -> 0 | AB41: =AB40 -> 73.5
B42: 2.위탁검사관리 | F42: 원 | Q42: =ROUNDUP(AA42*AB42,-1) -> 0 | W42: =Q42*S42*U42*V42 -> 0 | AB42: =AB41 -> 73.5
B43: 3.위탁검사 | D43: 종 | F43: 원 | Q43: =ROUNDUP(AA43*AB43,-1) -> 0 | W43: =Q43*S43*U43*V43 -> 0 | AB43: =AB42 -> 73.5
A44: 10.영상진단및방사선치료료 | B44: 1.진단 | D44: 종 | F44: 원 | I44: 원 | Q44: =ROUNDUP(AA44*AB44,-1) -> 0 | W44: =Q44*S44*U44*V44 -> 0 | AB44: =AB43 -> 73.5
B45: 2.치료 | D45: 종 | F45: 원 | I45: 원 | Q45: =ROUNDUP(AA45*AB45,-1) -> 0 | W45: =Q45*S45*U45*V45 -> 0 | AB45: =AB44 -> 73.5
A46: S.특수장비 | B46: 1.CT | D46: 회 | F46: 원 | G46: =Y41 -> 0 | I46: 원 | Q46: =ROUNDUP(AA46*AB46,-1) -> 0 | W46: =Q46*S46*U46*V46 -> 0 | AB46: =AB45 -> 73.5
B47: 2.MRI | D47: 회 | F47: 원 | G47: =Y42 -> 0 | I47: 원 | Q47: =ROUNDUP(AA47*AB47,-1) -> 0 | W47: =Q47*S47*U47*V47 -> 0 | AB47: =AB46 -> 73.5
B48: 3.PET | D48: 회 | F48: 원 | I48: 원 | Q48: =ROUNDUP(AA48*AB48,-1) -> 0 | W48: =Q48*S48*U48*V48 -> 0 | AB48: =AB47 -> 73.5
A49: A.100분의 50본인부담 | B49: 1.의약품 | F49: 원 | I49: 원 | Q49: =ROUNDUP(AA49*AB49,-1) -> 0 | W49: =Q49*S49*U49*V49 -> 0 | AB49: =AB48 -> 73.5
B50: 2.치료재료 | F50: 원 | I50: 원 | Q50: =ROUNDUP(AA50*AB50,-1) -> 0 | W50: =Q50*S50*U50*V50 -> 0 | AB50: =AB49 -> 73.5
B51: 3.진료행위 | F51: 원 | I51: 원 | Q51: =ROUNDUP(AA51*AB51,-1) -> 0 | W51: =Q51*S51*U51*V51 -> 0 | AB51: =AB50 -> 73.5
A52: B.100분의80본인부담 | B52: 1.의약품 | F52: 원 | I52: 원 | Q52: =ROUNDUP(AA52*AB52,-1) -> 0 | W52: =Q52*S52*U52*V52 -> 0 | AB52: =AB48 -> 73.5
B53: 2.치료재료 | F53: 원 | I53: 원 | Q53: =ROUNDUP(AA53*AB53,-1) -> 0 | W53: =Q53*S53*U53*V53 -> 0 | AB53: =AB52 -> 73.5
B54: 3.진료행위 | F54: 원 | I54: 원 | Q54: =ROUNDUP(AA54*AB54,-1) -> 0 | W54: =Q54*S54*U54*V54 -> 0 | AB54: =AB53 -> 73.5
A55: C.100분의30본인부담 | B55: 1.의약품 | F55: 원 | I55: 원 | Q55: =ROUNDUP(AA55*AB55,-1) -> 0 | W55: =Q55*S55*U55*V55 -> 0 | AB55: =AB51 -> 73.5
B56: 2.치료재료 | F56: 원 | I56: 원 | Q56: =ROUNDUP(AA56*AB56,-1) -> 0 | W56: =Q56*S56*U56*V56 -> 0 | AB56: =AB55 -> 73.5
B57: 3.진료행위 | F57: 원 | I57: 원 | Q57: =ROUNDUP(AA57*AB57,-1) -> 0 | W57: =Q57*S57*U57*V57 -> 0 | AB57: =AB56 -> 73.5
A58: D.100분의90본인부담 | B58: 1.의약품 | F58: 원 | I58: 원 | Q58: =ROUNDUP(AA58*AB58,-1) -> 0 | W58: =Q58*S58*U58*V58 -> 0 | AB58: =AB51 -> 73.5
B59: 2.치료재료 | F59: 원 | I59: 원 | Q59: =ROUNDUP(AA59*AB59,-1) -> 0 | W59: =Q59*S59*U59*V59 -> 0 | AB59: =AB58 -> 73.5
B60: 3.진료행위 | F60: 원 | I60: 원 | Q60: =ROUNDUP(AA60*AB60,-1) -> 0 | W60: =Q60*S60*U60*V60 -> 0 | AB60: =AB59 -> 73.5
A61: U.건강보험100분의100본인부담 | B61: 1.의약품 | D61: 회 | F61: 원 | I61: 원 | J61: 특정내역
B62: 2.치료재료 | D62: 회 | F62: 원 | I62: 원
B63: 3.진료행위 | D63: 회 | F63: 원 | I63: 원
A64: V.보훈등100분의100본인부담 | B64: 1.의약품 | D64: 회 | F64: 원 | I64: 원
B65: 2.치료재료 | D65: 회 | F65: 원 | I65: 원
B66: 3.진료행위 | D66: 회 | F66: 원 | I66: 원
A67: W.비급여 | B67: 1.의약품 | D67: 회 | F67: 원 | I67: 원 | J67: 수술코드
B68: 2.치료재료 | D68: 회 | F68: 원 | I68: 원
B69: 3.진료행위 | D69: 회 | F69: 원 | I69: 원
A70: 특수장비총액 | I70: 원 | J70: 19.청구액 | N70: =E75-E76 -> 3331592 | T70: 원 | U70: 심사내역 | V70: 구분 | W70: 코드 | X70: 조정 | Z70: 1,2
A71: 보훈등100분의100본인부담총액 | I71: 원 | J71: 20. 본인부담상한초과금 | T71: 원
A72: 비급여총액 | I72: 원 | J72: 21.요양급여비용총액2, 진료비총액 | T72: 원
A73: 11. 소 계 | E73: =SUM(E14:E45) -> 297500 | F73: 원 | G73: =SUM(G27:H45) -> 3236160 | I73: 원 | J73: 22.보훈청구액 | T73: 원
A74: 12. 가 산 율 | E74: 20 | F74: % | G74: =G73*E74/100 -> 647232 | I74: 원 | J74: 23. 건강보험 100분의100분인부담총액 | T74: 원
A75: 15. 요양급여비용총액1 | E75: =E73+G73+G74 -> 4180892 | I75: 원 | J75: 24. 보훈본인일부부담금 | T75: 원 | Z75: 감1
A76: 16. 본인일부부담금 | E76: =ROUNDDOWN((E75-E25)*0.2+E25*0.5,-2) -> 849300 | I76: 원 | J76: 25.100분의100미만 총액 | T76: 원 | Z76: 감2
A77: 17. 지원금 | I77: 원 | J77: 26. 100분의 100본인 일부부담금 | T77: 원 | Z77: 증1
A78: 18.장애인의료비 | I78: 원 | J78: 27. 100분의 100미만 청구액 | T78: 원 | Z78: 증2
A79: 일련번호 | E79: #심사조정 | J79: 28. 100분의 100미만 보훈청구액 | T79: 원 | V79: 계

Sheet 문제풀이양식
A1: 문제 1 | B1: 다음 보기에서 빈칸에 맞는 항목을 골라내어 다음의 진료비 명세서을 작성 하시오. | J1: 반
B2: 병명 | J2: 학번
B3: 입퇴원일시 | J3: 조
B4: 수술일시 | J4: 성명 | N4: 2018년
B5: 단 수기료는 횟수로 표시 할것 ex) 입원환자 의약품관리료 3일분이면 (7)*3 | M5: 병원 | N5: 73.5
B6: <보기> | M6: 의원 | N6: 81.4
A7: 번호 | B7: 항목 | C7: 번역 | D7: 구분 | E7: 구분2 | F7: 코드 | G7: 명칭 | H7: 양/회 | I7: 횟수/일 | J7: 일수 | K7: 총액 | L7: 단가 | M7: 점수 | N7: 점수당단가 | O7: 점수2&비고 | P7: 기본 | Q7: 가산율 | R7: 가산점수
A8: 1 | D8: 진찰료 및 입원료 | E8: I(약제비,기본진료비,장비사용료) | K8: =L8*H8*I8*J8 -> 0 | L8: =M8*N8 -> 0 | N8: =N$5 -> 73.5
A9: 2 | K9: =L9*H9*I9*J9 -> 0 | L9: =M9*N9 -> 0 | N9: =N$5 -> 73.5
A10: 3 | K10: =L10*H10*I10*J10 -> 0 | L10: =M10*N10 -> 0 | N10: =N$5 -> 73.5
A11: 4 | K11: =L11*H11*I11*J11 -> 0 | L11: =M11*N11 -> 0 | N11: =N$5 -> 73.5
A12: 5 | E12: II(기술및 행위료) | K12: =L12*H12*I12*J12 -> 0 | L12: =M12*N12 -> 0 | N12: =N$5 -> 73.5
A13: 6 | K13: =L13*H13*I13*J13 -> 0 | L13: =M13*N13 -> 0 | N13: =N$5 -> 73.5
A14: 7 | D14: 약제료 | E14: I(약제비,기본진료비,장비사용료) | K14: =L14*H14*I14*J14 -> 0 | L14: =M14*N14 -> 0 | N14: =N$5 -> 73.5
A15: 8 | K15: =L15*H15*I15*J15 -> 0 | L15: =M15*N15 -> 0 | N15: =N$5 -> 73.5
A16: 9 | E16: II(기술및 행위료) | K16: =L16*H16*I16*J16 -> 0 | L16: =M16*N16 -> 0 | N16: =N$5 -> 73.5
A17: 10 | K17: =L17*H17*I17*J17 -> 0 | L17: =M17*N17 -> 0 | N17: =N$5 -> 73.5
A18: 11 | K18: =L18*H18*I18*J18 -> 0 | L18: =M18*N18 -> 0 | N18: =N$5 -> 73.5
A19: 12 | D19: 주사료 | E19: I(약제비,기본진료비,장비사용료) | K19: =L19*H19*I19*J19 -> 0 | L19: =M19*N19 -> 0 | N19: =N$5 -> 73.5
A20: 13 | K20: =L20*H20*I20*J20 -> 0 | L20: =M20*N20 -> 0 | N20: =N$5 -> 73.5
A21: 14 | K21: =L21*H21*I21*J21 -> 0 | L21: =M21*N21 -> 0 | N21: =N$5 -> 73.5
A22: 15 | K22: =L22*H22*I22*J22 -> 0 | L22: =M22*N22 -> 0 | N22: =N$5 -> 73.5
A23: 16 | E23: II(기술및 행위료) | K23: =L23*H23*I23*J23 -> 0 | L23: =M23*N23 -> 0 | N23: =N$5 -> 73.5
A24: 17 | K24: =L24*H24*I24*J24 -> 0 | L24: =M24*N24 -> 0 | N24: =N$5 -> 73.5
A25: 18 | K25: =L25*H25*I25*J25 -> 0 | L25: =M25*N25 -> 0 | N25: =N$5 -> 73.5
A26: 19 | K26: =L26*H26*I26*J26 -> 0 | L26: =M26*N26 -> 0 | N26: =N$5 -> 73.5
A27: 20 | D27: 마취료 | E27: I(약제비,기본진료비,장비사용료) | K27: =L27*H27*I27*J27 -> 0 | L27: =M27*N27 -> 0 | N27: =N$5 -> 73.5
A28: 21 | E28: II(기술및 행위료) | K28: =L28*H28*I28*J28 -> 0 | L28: =M28*N28 -> 0 | N28: =N$5 -> 73.5
A29: 22 | K29: =L29*H29*I29*J29 -> 0 | L29: =M29*N29 -> 0 | N29: =N$5 -> 73.5
A30: 23 | K30: =L30*H30*I30*J30 -> 0 | L30: =M30*N30 -> 0 | N30: =N$5 -> 73.5
A31: 24 | D31: 처치및수술료 | E31: I(약제비,기본진료비,장비사용료) | K31: =L31*H31*I31*J31 -> 0 | L31: =M31*N31 -> 0 | N31: =N$5 -> 73.5
A32: 25 | E32: II(기술및 행위료) | K32: =L32*H32*I32*J32 -> 0 | L32: =M32*N32 -> 0 | N32: =N$5 -> 73.5
A33: 26 | K33: =L33*H33*I33*J33 -> 0 | L33: =M33*N33 -> 0 | N33: =N$5 -> 73.5
A34: 27 | K34: =L34*H34*I34*J34 -> 0 | L34: =M34*N34 -> 0 | N34: =N$5 -> 73.5
A35: 28 | K35: =L35*H35*I35*J35 -> 0 | L35: =M35*N35 -> 0 | N35: =N$5 -> 73.5
A36: 29 | K36: =L36*H36*I36*J36 -> 0 | L36: =M36*N36 -> 0 | N36: =N$5 -> 73.5
A37: 30 | K37: =L37*H37*I37*J37 -> 0 | L37: =M37*N37 -> 0 | N37: =N$5 -> 73.5
A38: 31 | K38: =L38*H38*I38*J38 -> 0 | L38: =M38*N38 -> 0 | N38: =N$5 -> 73.5
A39: 32 | K39: =L39*H39*I39*J39 -> 0 | L39: =M39*N39 -> 0 | N39: =N$5 -> 73.5
A40: 33 | K40: =L40*H40*I40*J40 -> 0 | L40: =M40*N40 -> 0 | N40: =N$5 -> 73.5
A41: 34 | K41: =L41*H41*I41*J41 -> 0 | L41: =M41*N41 -> 0 | N41: =N$5 -> 73.5
A42: 35 | K42: =L42*H42*I42*J42 -> 0 | L42: =M42*N42 -> 0 | N42: =N$5 -> 73.5
A43: 36 | K43: =L43*H43*I43*J43 -> 0 | L43: =M43*N43 -> 0 | N43: =N$5 -> 73.5
A44: 37 | K44: =L44*H44*I44*J44 -> 0 | L44: =M44*N44 -> 0 | N44: =N$5 -> 73.5
... A57: 50 | K57: =L57*H57*I57*J57 -> 0 | L57: =M57*N57 -> 0 | N57: =N$5 -> 73.5

Sheet 입원명세서양식
A1: (별지 제 10호 서식) | Y1: (의과입원)
A2: 서식번호 | C2: G | D2: I | E2: 0 | F2: 2 | G2: 요양급여비용명세서 | T2: 요양기관
T3: 기호 | V3: 425-1234
A4: 등록번호 | C4: 123456 | G4: 증번호 | L4: 123456-56478
A5: 가입자성명 | C5: 홍길동 | G5: 공상등 구분 | T5: 명칭
A6: 수진자성명 | G6: 주민등록번호 | L6: -
A7: 상 병 명 | G7: 분류기호 | J7: 수술 | K7: 진료과목 | L7: 상해외인 | N7: 특정기호 | P7: 면허종류 | R7: 면허번호 | T7: 당월요양개시일 | V7: 요양급여일수 (투약일수포함) | Y7: 진료결과
T8: 최초입원개시일
X9: 일
X10: 일
X11: 일
A12: 입원일수 | D12: 일 | E12: 기본진료,약제,특정재료(1) | G12: 진료행위(2) | J12: 처방전발급번호 | V12: 처방일수
A13: 구분 | J13: 점검번호 | AA13: 단가 2018
A14: 1.진찰료(외래관리료 포함) | B14: 1.초진 | D14: 회 | F14: 원 | G14: 야간및공휴 | I14: 회 | J14: 약품코드(일반명 또는 제품명코드) | L14: 약품명(일반 또는 제품명) | S14: 1회투약량 | U14: 1일투여횟수 | V14: 총투약일수 | AA14: 병원 | AB14: 73.5 | AC14: 의원 | AD14: 81.4
B15: 2.재진 | D15: 회 | F15: 원 | G15: 야간및공휴 | I15: 회 | J15: 코드 | L15: 분류(예외분류코드) | Q15: 단가 | S15: 1회투약량 | U15: 1일투여량또는실시횟수 | V15: 총투여일수또는실시횟수 | W15: 금액 | Y15: 면허종류 | Z15: 면허번호 | AA15: 점수 | AB15: 단가 | AC15: ='1번필수'!O7 -> 점수2&비고 | AD15: ='1번필수'!P7 -> 기본 | AE15: ='1번필수'!Q7 -> 가산율 | AF15: ='1번필수'!R7 -> 가산점수
B16: 3.의약품관리료 | F16: 원 | Q16: =ROUNDUP(AA16*AB16,-1) -> 0 | W16: =Q16*S16*U16*V16 -> 0 | AB16: =AB$14 -> 73.5
B17: 4.응급 및 회송료 | F17: 원 | Q17: =ROUNDUP(AA17*AB17,-1) -> 0 | W17: =Q17*S17*U17*V17 -> 0 | AB17: =AB$14 -> 73.5
A18: 2.입원료 | B18: 1.일반 | D18: 일 | F18: 원 | Q18: =ROUNDUP(AA18*AB18,-1) -> 0 | W18: =Q18*S18*U18*V18 -> 0 | AB18: =AB$14 -> 73.5
B19: 2.내과질환자, 정신질환자 | F19: 원 | Q19: =ROUNDUP(AA19*AB19,-1) -> 0 | W19: =Q19*S19*U19*V19 -> 0 | AB19: =AB$14 -> 73.5
B20: 만8세미만소아 | D20: 일 | Q20: =ROUNDUP(AA20*AB20,-1) -> 0 | W20: =Q20*S20*U20*V20 -> 0 | AB20: =AB$14 -> 73.5
B21: 3.중환자실 | D21: 일 | F21: 원 | Q21: =ROUNDUP(AA21*AB21,-1) -> 0 | W21: =Q21*S21*U21*V21 -> 0 | AB21: =AB$14 -> 73.5
B22: 4.격리병실 | D22: 일 | F22: 원 | Q22: =ROUNDUP(AA22*AB22,-1) -> 0 | W22: =Q22*S22*U22*V22 -> 0 | AB22: =AB$14 -> 73.5
B23: 5.신생아 | D23: 일 | F23: 원 | Q23: =ROUNDUP(AA23*AB23,-1) -> 0 | W23: =Q23*S23*U23*V23 -> 0 | AB23: =AB$14 -> 73.5
B24: 6.기타 | D24: 일 | F24: 원 | Q24: =ROUNDUP(AA24*AB24,-1) -> 0 | W24: =Q24*S24*U24*V24 -> 0 | AB24: =AB$14 -> 73.5
B25: 7.기본식대 | F25: 원 | Q25: =ROUNDUP(AA25*AB25,-1) -> 0 | W25: =Q25*S25*U25*V25 -> 0 | AB25: =AB$14 -> 73.5
B26: 8.가산식대 | F26: 원 | Q26: =ROUNDUP(AA26*AB26,-1) -> 0 | W26: =Q26*S26*U26*V26 -> 0 | AB26: =AB$14 -> 73.5
A27: 3.투약료 | B27: 1.내복 | D27: 일분 | F27: 원 | I27: 원 | Q27: =ROUNDUP(AA27*AB27,-1) -> 0 | W27: =Q27*S27*U27*V27 -> 0 | AB27: =AB$14 -> 73.5
B28: 2.외용 | D28: 일분 | F28: 원 | I28: 원 | Q28: =ROUNDUP(AA28*AB28,-1) -> 0 | W28: =Q28*S28*U28*V28 -> 0 | AB28: =AB$14 -> 73.5
B29: 3.처방전 | D29: 회 | Q29: =ROUNDUP(AA29*AB29,-1) -> 0 | W29: =Q29*S29*U29*V29 -> 0 | AB29: =AB$14 -> 73.5
A30: 4.주사료 | B30: 1.피하또는근육내 | D30: 일 | F30: 원 | I30: 원 | Q30: =ROUNDUP(AA30*AB30,-1) -> 0 | W30: =Q30*S30*U30*V30 -> 0 | AB30: =AB$14 -> 73.5
B31: 2.정맥내 | D31: 일 | F31: 원 | I31: 원 | Q31: =ROUNDUP(AA31*AB31,-1) -> 0 | W31: =Q31*S31*U31*V31 -> 0 | AB31: =AB$14 -> 73.5
B32: 3.수액제 | D32: 회 | F32: 원 | I32: 원 | Q32: =ROUNDUP(AA32*AB32,-1) -> 0 | W32: =Q32*S32*U32*V32 -> 0 | AB32: =AB$14 -> 73.5
B33: 4.기타 | D33: 회 | F33: 원 | I33: 원 | Q33: =ROUNDUP(AA33*AB33,-1) -> 0 | W33: =Q33*S33*U33*V33 -> 0 | AB33: =AB$14 -> 73.5
B34: 5.특정재료 | F34: 원 | Q34: =ROUNDUP(AA34*AB34,-1) -> 0 | W34: =Q34*S34*U34*V34 -> 0 | AB34: =AB$14 -> 73.5
B35: 6.수혈 | D35: 회 | F35: 원 | I35: 원 | Q35: =ROUNDUP(AA35*AB35,-1) -> 0 | W35: =Q35*S35*U35*V35 -> 0 | AB35: =AB$14 -> 73.5
A36: 5.마취료 | B36: 1.. | D36: 회 | F36: 원 | I36: 원 | Q36: =ROUNDUP(AA36*AB36,-1) -> 0 | W36: =Q36*S36*U36*V36 -> 0 | AB36: =AB$14 -> 73.5
A37: 6.이학요법료 | B37: 1.. | D37: 종 | F37: 원 | I37: 원 | Q37: =ROUNDUP(AA37*AB37,-1) -> 0 | W37: =Q37*S37*U37*V37 -> 0 | AB37: =AB$14 -> 73.5
A38: 7.정신요법료 | B38: 1.. | D38: 종 | F38: 원 | I38: 원 | Q38: =ROUNDUP(AA38*AB38,-1) -> 0 | W38: =Q38*S38*U38*V38 -> 0 | AB38: =AB$14 -> 73.5
A39: 8.처치및수술료 | B39: 1.처치및수술 | D39: 종 | F39: 원 | I39: 원 | Q39: =ROUNDUP(AA39*AB39,-1) -> 0 | W39: =Q39*S39*U39*V39 -> 0 | AB39: =AB$14 -> 73.5
B40: 3.케스트 | D40: 회 | F40: 원 | I40: 원 | Q40: =ROUNDUP(AA40*AB40,-1) -> 0 | W40: =Q40*S40*U40*V40 -> 0 | AB40: =AB$14 -> 73.5
A41: 9.검사료 | B41: 1.자체검사 | D41: 종 | F41: 원 | I41: 원 | Q41: =ROUNDUP(AA41*AB41,-1) -> 0 | W41: =Q41*S41*U41*V41 -> 0 | AB41: =AB$14 -> 73.5
B42: 2.위탁검사관리 | F42: 원 | Q42: =ROUNDUP(AA42*AB42,-1) -> 0 | W42: =Q42*S42*U42*V42 -> 0 | AB42: =AB$14 -> 73.5
B43: 3.위탁검사 | D43: 종 | F43: 원 | Q43: =ROUNDUP(AA43*AB43,-1) -> 0 | W43: =Q43*S43*U43*V43 -> 0 | AB43: =AB$14 -> 73.5
A44: 10.영상진단및방사선치료료 | B44: 1.진단 | D44: 종 | F44: 원 | I44: 원 | Q44: =ROUNDUP(AA44*AB44,-1) -> 0 | W44: =Q44*S44*U44*V44 -> 0 | AB44: =AB$14 -> 73.5
B45: 2.치료 | D45: 종 | F45: 원 | I45: 원 | Q45: =ROUNDUP(AA45*AB45,-1) -> 0 | W45: =Q45*S45*U45*V45 -> 0 | AB45: =AB$14 -> 73.5
A46: S.특수장비 | B46: 1.CT | D46: 회 | F46: 원 | I46: 원 | Q46: =ROUNDUP(AA46*AB46,-1) -> 0 | W46: =Q46*S46*U46*V46 -> 0 | AB46: =AB$14 -> 73.5
B47: 2.MRI | D47: 회 | F47: 원 | I47: 원 | Q47: =ROUNDUP(AA47*AB47,-1) -> 0 | W47: =Q47*S47*U47*V47 -> 0 | AB47: =AB$14 -> 73.5
B48: 3.PET | D48: 회 | F48: 원 | I48: 원 | Q48: =ROUNDUP(AA48*AB48,-1) -> 0 | W48: =Q48*S48*U48*V48 -> 0 | AB48: =AB$14 -> 73.5
A49: A.100분의 50본인부담 | B49: 1.의약품 | F49: 원 | I49: 원 | Q49: =ROUNDUP(AA49*AB49,-1) -> 0 | W49: =Q49*S49*U49*V49 -> 0 | AB49: =AB$14 -> 73.5
B50: 2.치료재료 | F50: 원 | I50: 원 | Q50: =ROUNDUP(AA50*AB50,-1) -> 0 | W50: =Q50*S50*U50*V50 -> 0 | AB50: =AB$14 -> 73.5
B51: 3.진료행위 | F51: 원 | I51: 원 | Q51: =ROUNDUP(AA51*AB51,-1) -> 0 | AB51: =AB$14 -> 73.5
A52: B.100분의80본인부담 | B52: 1.의약품 | F52: 원 | I52: 원 | Q52: =ROUNDUP(AA52*AB52,-1) -> 0 | AB52: =AB$14 -> 73.5
B53: 2.치료재료 | F53: 원 | I53: 원 | Q53: =ROUNDUP(AA53*AB53,-1) -> 0 | AB53: =AB$14 -> 73.5
B54: 3.진료행위 | F54: 원 | I54: 원 | Q54: =ROUNDUP(AA54*AB54,-1) -> 0 | AB54: =AB$14 -> 73.5
A55: C.100분의30본인부담 | B55: 1.의약품 | F55: 원 | I55: 원 | Q55: =ROUNDUP(AA55*AB55,-1) -> 0 | AB55: =AB$14 -> 73.5
B56: 2.치료재료 | F56: 원 | I56: 원 | Q56: =ROUNDUP(AA56*AB56,-1) -> 0 | AB56: =AB$14 -> 73.5
B57: 3.진료행위 | F57: 원 | I57: 원 | Q57: =ROUNDUP(AA57*AB57,-1) -> 0 | AB57: =AB$14 -> 73.5
A58: D.100분의90본인부담 | B58: 1.의약품 | F58: 원 | I58: 원 | Q58: =ROUNDUP(AA58*AB58,-1) -> 0 | AB58: =AB$14 -> 73.5
B59: 2.치료재료 | F59: 원 | I59: 원 | Q59: =ROUNDUP(AA59*AB59,-1) -> 0 | AB59: =AB$14 -> 73.5
B60: 3.진료행위 | F60: 원 | I60: 원 | Q60: =ROUNDUP(AA60*AB60,-1) -> 0 | AB60: =AB$14 -> 73.5
A61: U.건강보험100분의100본인부담 | B61: 1.의약품 | D61: 회 | F61: 원 | I61: 원 | J61: 특정내역
B62: 2.치료재료 | D62: 회 | F62: 원 | I62: 원
B63: 3.진료행위 | D63: 회 | F63: 원 | I63: 원
A64: V.보훈등100분의100본인부담 | B64: 1.의약품 | D64: 회 | F64: 원 | I64: 원
B65: 2.치료재료 | D65: 회 | F65: 원 | I65: 원
B66: 3.진료행위 | D66: 회 | F66: 원 | I66: 원
A67: W.비급여 | B67: 1.의약품 | D67: 회 | F67: 원 | I67: 원 | J67: 수술코드
B68: 2.치료재료 | D68: 회 | F68: 원 | I68: 원
B69: 3.진료행위 | D69: 회 | F69: 원 | I69: 원
A70: 특수장비총액 | I70: 원 | J70: 19.청구액 | N70: =E75-E76 -> 0 | T70: 원 | U70: 심사내역 | V70: 구분 | W70: 코드 | X70: 조정 | Z70: 1,2
A71: 보훈등100분의100본인부담총액 | I71: 원 | J71: 20. 본인부담상한초과금 | T71: 원
A72: 비급여총액 | I72: 원 | J72: 21.요양급여비용총액2, 진료비총액 | T72: 원
A73: 11. 소 계 | E73: =SUM(E14:E45) -> 0 | F73: 원 | G73: =SUM(G27:H45) -> 0 | I73: 원 | J73: 22.보훈청구액 | T73: 원
A74: 12. 가 산 율 | F74: % | G74: =G73*E74/100 -> 0 | I74: 원 | J74: 23. 건강보험 100분의100분인부담총액 | T74: 원
A75: 15. 요양급여비용총액1 | E75: =E73+G73+G74 -> 0 | I75: 원 | J75: 24. 보훈본인일부부담금 | T75: 원 | Z75: 감1
A76: 16. 본인일부부담금 | E76: =ROUNDDOWN((E75-E25)*0.2+E25*0.5,-2) -> 0 | I76: 원 | J76: 25.100분의100미만 총액 | T76: 원 | Z76: 감2
A77: 17. 지원금 | I77: 원 | J77: 26. 100분의 100본인 일부부담금 | T77: 원 | Z77: 증1
A78: 18.장애인의료비 | I78: 원 | J78: 27. 100분의 100미만 청구액 | T78: 원 | Z78: 증2
A79: 일련번호 | E79: #심사조정 | J79: 28. 100분의 100미만 보훈청구액 | T79: 원 | V79: 계

Sheet Sheet4
B2: AA25501 | C2: 재진진찰료(야간) | D2: 180.779 | E2: 1 | F2: 1 | G2: 1
B3: AB300 | C3: 입원료(병원-3등급) | D3: 574.34163 | E3: 1 | F3: 1 | G3: 6
B4: AL756 | C4: 입원환자의약품관리료(3일분) | D4: 47.51 | E4: 1 | F4: 1 | G4: 1
B5: AL702 | C5: 외래환자의약품관리료(7일분) | D5: 4.64 | E5: 1 | F5: 1 | G5: 1
B6: 644900310 | C6: 가나톤정 50mg | D6: 108 | E6: 1 | F6: 5 | G6: 10
B7: 641901220 | C7: 보령메이엑트정 100mg | D7: 589 | E7: 1 | F7: 3 | G7: 7
B8: J2000 | C8: 입원환자조제복약지도료 | D8: 14.65 | E8: 1 | F8: 1 | G8: 3
B9: J1070 | C9: 퇴원환자조제료(7일분) | D9: 13.99 | E9: 1 | F9: 1 | G9: 1
B10: 644904490 | C10: 하트만용액 1000cc(IV) | D10: 1544 | E10: 1 | F10: 2 | G10: 3 | I10: 644904070 | J10: 트리젤주 100ml | K10: 1403 | L10: 1 | M10: 3 | N10: 3
B11: 644902271 | C11: 중외5%포도당주사액 1000밀리리터 | D11: 1632 | E11: 1 | F11: 1 | G11: 5 | I11: 644904490 | J11: 하트만용액 1000cc(IV) | K11: 1544 | L11: 1 | M11: 2 | N11: 3
B12: KK053 | C12: 정맥내점적주사(500-1000ml) | D12: 40.18 | E12: 1 | F12: 1 | G12: 11 | I12: 644902271 | J12: 중외5%포도당주사액 1000밀리리터 | K12: 1632 | L12: 1 | M12: 1 | N12: 5
B13: 644904070 | C13: 트리젤주 100ml | D13: 1403 | E13: 1 | F13: 3 | G13: 3 | I13: 645000450 | J13: 타라신주 30mg/ml | K13: 861 | L13: 1 | M13: 3 | N13: 5
B14: KK051 | C14: 정맥내점적주사(-100ml) | D14: 12.38 | E14: 1 | F14: 3 | G14: 3 | I14: 0 | J14: 도미컴주 5MG/5ML | K14: 0 | L14: 1 | M14: 2 | N14: 1
C15: 도미컴주 5MG/5ML | E15: 1 | F15: 2 | G15: 1 | I15: 641902780 | J15: 아미킨주 100mg | K15: 700 | L15: 1 | M15: 2 | N15: 6
B16: 641902780 | C16: 아미킨주 100mg | D16: 700 | E16: 1 | F16: 2 | G16: 6 | I16: 671801140 | J16: 대원황산아트로핀주 0.5mg/ml | K16: 300 | L16: 1 | M16: 1 | N16: 1
B17: 671801140 | C17: 대원황산아트로핀주 0.5mg/ml | D17: 300 | E17: 1 | F17: 1 | G17: 1 | I17: 655501561 | J17: 에스메론주(25mg/2.5mL) | K17: 3656 | L17: 1 | M17: 1 | N17: 1
B18: 655501561 | C18: 에스메론주(25mg/2.5mL) | D18: 3656 | E18: 1 | F18: 1 | G18: 1 | I18: 0 | J18: 모비놀주 | K18: 0 | L18: 1 | M18: 2 | N18: 1
C19: 모비놀주 | E19: 1 | F19: 2 | G19: 1
B20: KK010 | C20: 피하또는근육내주사 | D20: 14.61 | E20: 1 | F20: 2 | G20: 6 | I20: KK051 | J20: 정맥내점적주사(-100ml) | K20: 1 | L20: 3 | M20: 3 | O20: 12.38
B21: 645000450 | C21: 타라신주 30mg/ml | D21: 861 | E21: 1 | F21: 3 | G21: 5 | I21: KK053 | J21: 정맥내점적주사(500-1000ml) | K21: 1 | L21: 1 | M21: 11 | O21: 40.18
B22: KK054 | C22: 수액제주입로를 통한주사 | D22: 14.17 | E22: 1 | F22: 2 | G22: 5 | I22: KK054 | J22: 수액제주입로를 통한주사 | K22: 1 | L22: 2 | M22: 5 | O22: 14.17
B23: L1213 | C23: 마취관리[1시간 기준] 척수마취 | D23: 1 | E23: 1 | F23: 1.5 | H23: 983.01
B24: L1223 | C24: 마취유지[15분당] 척수마취 | D24: 1 | E24: 4 | F24: 1.5 | H24: 132.07
B25: R3564 | C25: 요실금수술-질강을 통한 수술-자가근막을이용한경우[근막채취료포함] | D25: 1 | E25: 1 | F25: 1.5 | H25: 3703.23
B26: M0111 | C26: 수술후처치(창상,단순) | D26: 1 | E26: 1 | F26: 5 | H26: 53.63
B27: Y0000 | C27: 식대 | D27: 1 | E27: 1 | F27: 17 | H27: 3390
B28: AC105 | C28: 응급의료관리료(지역) | D28: 1 | E28: 1 | F28: 1 | H28: 270.76
