Workbook

Sheet 1번
C1: 문제번호 | D1: 1
C2: 학반 | D2: A
C3: 학번 | D3: 201620014
C4: 성명 | D4: 홍길동
C5: 조명칭 | D5: 구름
C6: 조원들 | D6: 김길동, 홍길동, 박길동, 이길동
C7: 요양기관구분 | D7: 의원
A9: 수정전 | G9: 수정후
A10: 성별 | B10: 나이 | C10: 코드 | D10: 병명 | E10: 진료과 | G10: =A10 -> 성별 | H10: =B10 -> 나이 | I10: =C10 -> 코드 | J10: =D10 -> 병명 | K10: 변경사유 | L10: 진료과
A11: 남 | B11: 61 | C11: I120 | D11: 신부전을 동반한 고혈압성 신장병 | E11: 신장내과 | G11: =A11 -> 남 | H11: =B11 -> 61 | I11: I12.0 | J11: 신부전을 동반한 고혈압성 신장병 | L11: =E11 -> 신장내과
C12: I493 | D12: 심실조기탈분극 | I12: I49.3 | J12: 심실조기탈분극
I13: =C13 -> 0 | J13: =D13 -> 0
I14: =C14 -> 0 | J14: =D14 -> 0
C16: 수정전 | H16: 수정후 | M16: 의원 | N16: 81.4 | O16: 병원급이상 | P16: 73.5
C17: 구분 | D17: 진료내역 | E17: 횟수 | F17: 일수 | H17: 진료과 | I17: 코드 | J17: 분류 | K17: 횟수 | L17: 일수 | M17: 변경사유 | N17: 점수 | O17: 단가 | P17: 비용 | Q17: 1칸 | R17: 2칸
C18: 진찰료 | D18: 재진(주간) | E18: 1 | F18: 1 | H18: =C18 -> 진찰료 | I18: AA254 | J18: 재진진찰료(의원) | K18: =E18 -> 1 | L18: =F18 -> 1 | M18: 명칭 | N18: 134.47 | O18: =N16 -> 81.4 | P18: =N18*K18*L18*O18 -> 10945.858 | Q18: =P18 -> 10945.858
D19: 외래환자의약품관리료 | E19: 1 | F19: 1 | I19: AL801 | J19: 외래환자의약품관리료(의원,1일분) | K19: =E19 -> 1 | L19: =F19 -> 1 | M19: 명칭 | N19: 2.34 | O19: =O18 -> 81.4 | P19: =N19*K19*L19*O19 -> 190.476 | Q19: =P19 -> 190.476
C20: 약재료 | D20: 외래환자조제복약지도료 | H20: =C20 -> 약재료 | J20: 외래환자조제복약지도료 | M20: 처방전 | O20: =O19 -> 81.4 | P20: =N20*K20*L20*O20 -> 0
D21: 아가메이트젤리 | E21: 3 | F21: 14 | J21: 아가메이트젤리 | M21: 처방전 | O21: =O20 -> 81.4 | P21: =N21*K21*L21*O21 -> 0
D22: 보령아스트릭스캡슐 | E22: 1 | F22: 14 | J22: 보령아스트릭스캡슐 | M22: 처방전 | O22: =O21 -> 81.4 | P22: =N22*K22*L22*O22 -> 0
D23: 코자정 | E23: 1 | F23: 14 | J23: 코자정 | M23: 처방전 | O23: =O22 -> 81.4 | P23: =N23*K23*L23*O23 -> 0
D24: 달라트렌정 | E24: 2 | F24: 14 | J24: 달라트렌정 | M24: 처방전 | O24: =O23 -> 81.4 | P24: =N24*K24*L24*O24 -> 0
D25: 이소켓서방켑슐 | E25: 1 | F25: 14 | J25: 이소켓서방켑슐 | M25: 처방전 | O25: =O24 -> 81.4 | P25: =N25*K25*L25*O25 -> 0
D26: 리피도정 | E26: 1 | F26: 14 | J26: 리피도정 | M26: 처방전 | O26: =O25 -> 81.4 | P26: =N26*K26*L26*O26 -> 0
D27: 네프로정 | E27: 6 | F27: 14 | J27: 네프로정 | M27: 처방전 | O27: =O26 -> 81.4 | P27: =N27*K27*L27*O27 -> 0
D28: 레날민정 | E28: 1 | F28: 14 | J28: 레날민정 | M28: 처방전 | O28: =O27 -> 81.4 | P28: =N28*K28*L28*O28 -> 0
D29: 한일셀벡스켑슐 | E29: 2 | F29: 14 | J29: 한일셀벡스켑슐 | M29: 처방전 | O29: =O28 -> 81.4 | P29: =N29*K29*L29*O29 -> 0
D30: 썬지로이드정 | E30: 2 | F30: 14 | J30: 썬지로이드정 | M30: 처방전 | O30: =O29 -> 81.4 | P30: =N30*K30*L30*O30 -> 0
C31: 주사료 | D31: 피하근육내주사 | E31: 1 | F31: 1 | H31: =C31 -> 주사료 | I31: KK010 | J31: 피하 또는 근육내주사 | K31: =E31 -> 1 | L31: =F31 -> 1 | M31: 명칭 | N31: 14.7 | O31: =O30 -> 81.4 | P31: =N31*K31*L31*O31 -> 1196.58 | R31: =P31 -> 1196.58
D32: 네스프프리필드시린지주지주 | E32: 2 | F32: 1 | I32: 666300331 | J32: 네스프프리필드시린지 주 40 | K32: 1 | L32: =F32 -> 1 | M32: 1회로수정 | N32: 36409 | O32: 1 | P32: =N32*K32*L32*O32 -> 36409 | Q32: =P32 -> 36409
K33: =E33 -> 0 | L33: =F33 -> 0 | O33: =O31 -> 81.4 | P33: =N33*K33*L33*O33 -> 0
C34: 처치및 수술료 | D34: 계속적복막관류술 | E34: 2 | F34: 1 | H34: =C34 -> 처치및 수술료 | I34: O7071 | J34: 계속적복막관류술(도관삽입, 대망절제) | K34: 1 | L34: =F34 -> 1 | M34: 외래처치1회 | N34: 1905.51 | O34: =O33 -> 81.4 | P34: =N34*K34*L34*O34 -> 155108.51 | R34: =P34 -> 155108.51
J35: 재료대 누락 | K35: =E35 -> 0 | L35: =F35 -> 0 | O35: =O34 -> 81.4 | P35: =N35*K35*L35*O35 -> 0
C36: 검사료 | D36: 요소질소 BUN(PN포함) | E36: 1 | F36: 1 | H36: =C36 -> 검사료 | I36: C3730 | J36: 요소질소 [NPN 포함] | K36: =E36 -> 1 | L36: =F36 -> 1 | M36: 명칭 | N36: 21.52 | O36: =O35 -> 81.4 | P36: =N36*K36*L36*O36 -> 1751.728 | R36: =P36 -> 1751.728
D37: 크레아티닌 | E37: 1 | F37: 1 | I37: C3750 | J37: 크레아티닌 | K37: =E37 -> 1 | L37: =F37 -> 1 | N37: 16.75 | O37: =O36 -> 81.4 | P37: =N37*K37*L37*O37 -> 1363.45 | R37: =P37 -> 1363.45
D38: 인 | E38: 1 | F38: 1 | I38: C3794 | J38: 전해질(인) | K38: =E38 -> 1 | L38: =F38 -> 1 | M38: 명칭 | N38: 15.15 | O38: =O37 -> 81.4 | P38: =N38*K38*L38*O38 -> 1233.21 | R38: =P38 -> 1233.21
D39: 총칼슘 | E39: 1 | F39: 1 | I39: C3795 | J39: 전해질(총칼슘) | K39: =E39 -> 1 | L39: =F39 -> 1 | M39: 명칭 | N39: 15.94 | O39: =O38 -> 81.4 | P39: =N39*K39*L39*O39 -> 1297.516 | R39: =P39 -> 1297.516 | S39: =SUM(R36:R39) -> 5645.904
J40: =D40 -> 0 | K40: =E40 -> 0 | L40: =F40 -> 0 | P40: =N40*K40*L40*O40 -> 0 | Q40: =SUM(Q18:Q39) -> 47545.334 | R40: =SUM(R18:R39) -> 161951
Q41: 15 | R41: =R40*Q41/100 -> 24292.65
Q42: 계 | R42: =Q40+R40+R41 -> 233788.98
Q43: 30 | R43: =ROUNDDOWN(R42*Q43/100,-2) -> 70100
R44: =R42-R43 -> 163688.98

Sheet 1-1번
A1: (별지 제 11-1호 서식) | D1: 문제 | E1: ='1번'!D1 -> 1 | Y1: (의과외래)
A2: 서식번호 | C2: G | D2: I | E2: 0 | F2: 3 | G2: 요양급여비용명세서 | T2: 요양기관
T3: 기호 | V3: J-252525
A4: 등록번호 | C4: 123456 | G4: 증번호
A5: 가입자성명 | C5: 홍길동 | G5: 공상등 구분 | T5: 명칭 | V5: ='1번'!D7 -> 의원
A6: 수진자성명 | C6: 남 61 | K6: -
A7: 상 병 명 | G7: 분류기호 | J7: 수술 | K7: 진료과목 | L7: 상해외인 | N7: 특정기호 | P7: 면허종류 | R7: 면허번호 | T7: 당원요양개시일 | V7: 당월요양급여일수(원내투약일수포함) | Y7: 진료결과
A8: ='1번'!J11 -> 신부전을 동반한 고혈압성 신장병 | G8: ='1번'!I11 -> I12.0 | P8: 12345 | T8: 20180330 | V8: 2 | X8: 일 | Y8: 계속
A9: ='1번'!J12 -> 심실조기탈분극 | G9: ='1번'!I12 -> I49.3 | T9: 20180330 | V9: 2 | X9: 일
X10: 일
A11: 총내원일수 | C11: 1 | D11: 일 | E11: 내원일 | F11: 1 2 3 4 5 6 7 8 9 10 11 12 13 14 15 16 17 18 19 20 21 22 23 24 25 26 27 28 29 30 31
A12: 구분 | E12: 기본진료,약제,특정재료(1) | G12: 진료행위(2) | J12: 처방전발급번호 | L12: 20170403-0005 | T12: 처방일수 | V12: 14 | W12: 본인부담금발생횟수 | X12: 1 | Y12: 직접조제횟수 | Z12: 0 | AB12: 2018
J13: 점검번호 | L13: 20170403-0005 | AB13: 의원 | AC13: 81.4
A14: 1.진찰료(외래관리료 포함) | B14: 1.초진 | D14: 회 | F14: 원 | G14: 야간및공휴 | I14: 회 | J14: 약품코드(일반명및제품명코드) | L14: 약품명(일반 및 제품명) | T14: 1회투약량 | V14: 1일투여횟수 | W14: 총투약일수 | AB14: 병원이상 | AC14: 73.5
B15: 2.재진 | C15: 1 | D15: 회 | E15: =X16 -> 10946 | F15: 원 | G15: 야간및공휴 | I15: 회 | J15: 코드 | L15: 분류(예외분류코드) | P15: 상한가 | R15: 단가 | T15: 1회투약량 | V15: 1회투여량또는실시횟수 | W15: 총투여일수또는실시횟수 | X15: 금액 | Z15: 면허종류 | AA15: 면허번호 | AB15: 점수 | AC15: 단가
B16: 3.의약품관리료 | E16: =X17 -> 190 | F16: 원 | J16: ='1번'!I18 -> AA254 | L16: ='1번'!J18 -> 재진진찰료(의원) | R16: =ROUND(AB16*AC16,0) -> 10946 | T16: 1 | V16: ='1번'!K18 -> 1 | W16: ='1번'!L18 -> 1 | X16: =R16*T16*V16*W16 -> 10946 | AB16: ='1번'!N18 -> 134.47 | AC16: =AC13 -> 81.4
B17: 4.응급 및 회송료 | F17: 원 | J17: ='1번'!I19 -> AL801 | L17: ='1번'!J19 -> 외래환자의약품관리료(의원,1일분) | R17: =ROUND(AB17*AC17,0) -> 190 | T17: 1 | V17: ='1번'!K19 -> 1 | W17: ='1번'!L19 -> 1 | X17: =R17*T17*V17*W17 -> 190 | AB17: ='1번'!N19 -> 2.34 | AC17: =AC16 -> 81.4
B18: 5.가정간호기본방문료 | F18: 원 | J18: ='1번'!I20 -> 0 | L18: ='1번'!J20 -> 외래환자조제복약지도료 | R18: =ROUND(AB18*AC18,0) -> 0 | T18: 1 | V18: ='1번'!K20 -> 0 | W18: ='1번'!L20 -> 0 | X18: =R18*T18*V18*W18 -> 0 | AB18: ='1번'!N20 -> 0 | AC18: =AC17 -> 81.4
B19: 6.만성질환관리료 | D19: 회 | F19: 원 | J19: ='1번'!I21 -> 0 | L19: ='1번'!J21 -> 아가메이트젤리 | R19: =ROUND(AB19*AC19,0) -> 0 | T19: 1 | V19: ='1번'!K21 -> 0 | W19: ='1번'!L21 -> 0 | X19: =R19*T19*V19*W19 -> 0 | AB19: ='1번'!N21 -> 0 | AC19: =AC18 -> 81.4
A20: 3.투약료 | B20: 1.내복 | D20: 일분 | F20: 원 | I20: 원 | J20: ='1번'!I22 -> 0 | L20: ='1번'!J22 -> 보령아스트릭스캡슐 | R20: =ROUND(AB20*AC20,0) -> 0 | T20: 1 | V20: ='1번'!K22 -> 0 | W20: ='1번'!L22 -> 0 | X20: =R20*T20*V20*W20 -> 0 | AB20: ='1번'!N22 -> 0 | AC20: =AC19 -> 81.4
B21: 2.외용 | D21: 일분 | F21: 원 | I21: 원 | J21: ='1번'!I23 -> 0 | L21: ='1번'!J23 -> 코자정 | R21: =ROUND(AB21*AC21,0) -> 0 | T21: 1 | V21: ='1번'!K23 -> 0 | W21: ='1번'!L23 -> 0 | X21: =R21*T21*V21*W21 -> 0 | AB21: ='1번'!N23 -> 0 | AC21: =AC20 -> 81.4
B22: 3.처방전 | D22: 회 | J22: ='1번'!I24 -> 0 | L22: ='1번'!J24 -> 달라트렌정 | R22: =ROUND(AB22*AC22,0) -> 0 | T22: 1 | V22: ='1번'!K24 -> 0 | W22: ='1번'!L24 -> 0 | X22: =R22*T22*V22*W22 -> 0 | AB22: ='1번'!N24 -> 0 | AC22: =AC21 -> 81.4
A23: 4.주사료 | B23: 1.피하또는근육내 | C23: 1 | D23: 일 | E23: =X30 -> 36409 | F23: 원 | G23: =X29 -> 1197 | I23: 원 | J23: ='1번'!I25 -> 0 | L23: ='1번'!J25 -> 이소켓서방켑슐 | R23: =ROUND(AB23*AC23,0) -> 0 | T23: 1 | V23: ='1번'!K25 -> 0 | W23: ='1번'!L25 -> 0 | X23: =R23*T23*V23*W23 -> 0 | AB23: ='1번'!N25 -> 0 | AC23: =AC22 -> 81.4
B24: 2.정맥내 | D24: 일 | F24: 원 | I24: 원 | J24: ='1번'!I26 -> 0 | L24: ='1번'!J26 -> 리피도정 | R24: =ROUND(AB24*AC24,0) -> 0 | T24: 1 | V24: ='1번'!K26 -> 0 | W24: ='1번'!L26 -> 0 | X24: =R24*T24*V24*W24 -> 0 | AB24: ='1번'!N26 -> 0 | AC24: =AC23 -> 81.4
B25: 3.수액제 | D25: 회 | F25: 원 | I25: 원 | J25: ='1번'!I27 -> 0 | L25: ='1번'!J27 -> 네프로정 | R25: =ROUND(AB25*AC25,0) -> 0 | T25: 1 | V25: ='1번'!K27 -> 0 | W25: ='1번'!L27 -> 0 | X25: =R25*T25*V25*W25 -> 0 | AB25: ='1번'!N27 -> 0 | AC25: =AC24 -> 81.4
B26: 4.기타 | D26: 회 | F26: 원 | I26: 원 | J26: ='1번'!I28 -> 0 | L26: ='1번'!J28 -> 레날민정 | R26: =ROUND(AB26*AC26,0) -> 0 | T26: 1 | V26: ='1번'!K28 -> 0 | W26: ='1번'!L28 -> 0 | X26: =R26*T26*V26*W26 -> 0 | AB26: ='1번'!N28 -> 0 | AC26: =AC25 -> 81.4
B27: 5.특정재료 | F27: 원 | J27: ='1번'!I29 -> 0 | L27: ='1번'!J29 -> 한일셀벡스켑슐 | R27: =ROUND(AB27*AC27,0) -> 0 | T27: 1 | V27: ='1번'!K29 -> 0 | W27: ='1번'!L29 -> 0 | X27: =R27*T27*V27*W27 -> 0 | AB27: ='1번'!N29 -> 0 | AC27: =AC26 -> 81.4
B28: 6.수혈 | D28: 회 | F28: 원 | I28: 원 | J28: ='1번'!I30 -> 0 | L28: ='1번'!J30 -> 썬지로이드정 | R28: =ROUND(AB28*AC28,0) -> 0 | T28: 1 | V28: ='1번'!K30 -> 0 | W28: ='1번'!L30 -> 0 | X28: =R28*T28*V28*W28 -> 0 | AB28: ='1번'!N30 -> 0 | AC28: =AC27 -> 81.4
A29: 5.마취료 | B29: 1.. | D29: 회 | F29: 원 | I29: 원 | J29: ='1번'!I31 -> KK010 | L29: ='1번'!J31 -> 피하 또는 근육내주사 | R29: =ROUND(AB29*AC29,0) -> 1197 | T29: 1 | V29: ='1번'!K31 -> 1 | W29: ='1번'!L31 -> 1 | X29: =R29*T29*V29*W29 -> 1197 | AB29: ='1번'!N31 -> 14.7 | AC29: =AC28 -> 81.4
A30: 6.이학요법료 | B30: 1.. | D30: 종 | F30: 원 | I30: 원 | J30: ='1번'!I32 -> 666300331 | L30: ='1번'!J32 -> 네스프프리필드시린지 주 40 | R30: ='1번'!N32 -> 36409 | T30: 1 | V30: ='1번'!K32 -> 1 | W30: ='1번'!L32 -> 1 | X30: =R30*T30*V30*W30 -> 36409 | AC30: =AC29 -> 81.4
A31: 7.정신요법료 | B31: 1.. | D31: 종 | F31: 원 | I31: 원 | J31: ='1번'!I33 -> 0 | L31: ='1번'!J33 -> 0 | R31: =ROUND(AB31*AC31,0) -> 0 | T31: 1 | V31: ='1번'!K33 -> 0 | W31: ='1번'!L33 -> 0 | X31: =R31*T31*V31*W31 -> 0 | AB31: ='1번'!N33 -> 0 | AC31: =AC30 -> 81.4
A32: 8.처치및수술료 | B32: 1.처치및수술 | C32: 1 | D32: 종 | F32: 원 | G32: =X32 -> 155109 | I32: 원 | J32: ='1번'!I34 -> O7071 | L32: ='1번'!J34 -> 계속적복막관류술(도관삽입, 대망절제) | R32: =ROUND(AB32*AC32,0) -> 155109 | T32: 1 | V32: ='1번'!K34 -> 1 | W32: ='1번'!L34 -> 1 | X32: =R32*T32*V32*W32 -> 155109 | AB32: ='1번'!N34 -> 1905.51 | AC32: =AC31 -> 81.4
B33: 3.케스트 | D33: 회 | F33: 원 | I33: 원 | J33: ='1번'!I35 -> 0 | L33: ='1번'!J35 -> 재료대 누락 | R33: =ROUND(AB33*AC33,0) -> 0 | T33: 1 | V33: ='1번'!K35 -> 0 | W33: ='1번'!L35 -> 0 | X33: =R33*T33*V33*W33 -> 0 | AB33: ='1번'!N35 -> 0 | AC33: =AC32 -> 81.4
A34: 9.검사료 | B34: 1.자체검사 | C34: 4 | D34: 종 | F34: 원 | G34: =SUM(X34:Y37) -> 5646 | I34: 원 | J34: ='1번'!I36 -> C3730 | L34: ='1번'!J36 -> 요소질소 [NPN 포함] | R34: =ROUND(AB34*AC34,0) -> 1752 | T34: 1 | V34: ='1번'!K36 -> 1 | W34: ='1번'!L36 -> 1 | X34: =R34*T34*V34*W34 -> 1752 | AB34: ='1번'!N36 -> 21.52 | AC34: =AC33 -> 81.4
B35: 2.위탁검사관리 | F35: 원 | J35: ='1번'!I37 -> C3750 | L35: ='1번'!J37 -> 크레아티닌 | R35: =ROUND(AB35*AC35,0) -> 1363 | T35: 1 | V35: ='1번'!K37 -> 1 | W35: ='1번'!L37 -> 1 | X35: =R35*T35*V35*W35 -> 1363 | AB35: ='1번'!N37 -> 16.75 | AC35: =AC34 -> 81.4
B36: 3.위탁검사 | D36: 종 | F36: 원 | J36: ='1번'!I38 -> C3794 | L36: ='1번'!J38 -> 전해질(인) | R36: =ROUND(AB36*AC36,0) -> 1233 | T36: 1 | V36: ='1번'!K38 -> 1 | W36: ='1번'!L38 -> 1 | X36: =R36*T36*V36*W36 -> 1233 | AB36: ='1번'!N38 -> 15.15 | AC36: =AC35 -> 81.4
A37: 10.영상진단및방사선치료료 | B37: 1.진단 | D37: 종 | F37: 원 | I37: 원 | J37: ='1번'!I39 -> C3795 | L37: ='1번'!J39 -> 전해질(총칼슘) | R37: =ROUND(AB37*AC37,0) -> 1298 | T37: 1 | V37: ='1번'!K39 -> 1 | W37: ='1번'!L39 -> 1 | X37: =R37*T37*V37*W37 -> 1298 | AB37: ='1번'!N39 -> 15.94 | AC37: =AC36 -> 81.4
B38: 2.치료 | D38: 종 | F38: 원 | I38: 원 | J38: ='1번'!I40 -> 0 | R38: =ROUND(AB38*AC38,0) -> 0 | T38: 1 | X38: =R38*T38*V38*W38 -> 0 | AC38: =AC37 -> 81.4
A39: S.특수장비 | B39: 1.CT | D39: 회 | F39: 원 | I39: 원 | J39: ='1번'!I41 -> 0 | R39: =ROUND(AB39*AC39,0) -> 0 | T39: 1 | X39: =R39*T39*V39*W39 -> 0 | AC39: =AC38 -> 81.4
B40: 2.MRI | D40: 회 | F40: 원 | I40: 원 | J40: ='1번'!I42 -> 0 | R40: =ROUND(AB40*AC40,0) -> 0 | T40: 1 | X40: =R40*T40*V40*W40 -> 0 | AC40: =AC39 -> 81.4
B41: 3.PET | D41: 회 | F41: 원 | I41: 원 | J41: ='1번'!I43 -> 0 | R41: =ROUND(AB41*AC41,0) -> 0 | T41: 1 | X41: =R41*T41*V41*W41 -> 0 | AC41: =AC40 -> 81.4
A42: T.특수재료 및 관련 행위료 | B42: 1.치료재료 | D42: 개 | F42: 원 | J42: ='1번'!I44 -> 0 | R42: =ROUND(AB42*AC42,0) -> 0 | T42: 1 | X42: =R42*T42*V42*W42 -> 0 | AC42: =AC41 -> 81.4
B43: 2.진료행위 | J43: ='1번'!I45 -> 0 | R43: =ROUND(AB43*AC43,0) -> 0 | T43: 1 | X43: =R43*T43*V43*W43 -> 0 | AC43: =AC42 -> 81.4
A44: A.100분의50본인부담 | B44: 1.의약품 | F44: 원 | I44: 원 | J44: ='1번'!I46 -> 0 | R44: =ROUND(AB44*AC44,0) -> 0 | T44: 1 | X44: =R44*T44*V44*W44 -> 0 | AC44: =AC43 -> 81.4
B45: 2.치료재료 | F45: 원 | I45: 원 | J45: ='1번'!I47 -> 0 | R45: =ROUND(AB45*AC45,0) -> 0 | T45: 1 | X45: =R45*T45*V45*W45 -> 0 | AC45: =AC44 -> 81.4
B46: 3.진료행위 | F46: 원 | I46: 원 | R46: =ROUND(AB46*AC46,0) -> 0 | T46: 1 | X46: =R46*T46*V46*W46 -> 0 | AC46: =AC45 -> 81.4
A47: B.100분의80본인부담 | B47: 1.의약품 | F47: 원 | I47: 원 | R47: =ROUND(AB47*AC47,0) -> 0 | T47: 1 | X47: =R47*T47*V47*W47 -> 0 | AC47: =AC46 -> 81.4
B48: 2.치료재료 | F48: 원 | I48: 원 | R48: =ROUND(AB48*AC48,0) -> 0 | T48: 1 | X48: =R48*T48*V48*W48 -> 0 | AC48: =AC47 -> 81.4
B49: 3.진료행위 | F49: 원 | I49: 원 | R49: =ROUND(AB49*AC49,0) -> 0 | T49: 1 | X49: =R49*T49*V49*W49 -> 0 | AC49: =AC48 -> 81.4
A50: D.100분의30본인부담 | B50: 1.의약품 | F50: 원 | I50: 원 | R50: =ROUND(AB50*AC50,0) -> 0 | T50: 1 | X50: =R50*T50*V50*W50 -> 0 | AC50: =AC49 -> 81.4
B51: 2.치료재료 | F51: 원 | I51: 원 | R51: =ROUND(AB51*AC51,0) -> 0 | T51: 1 | X51: =R51*T51*V51*W51 -> 0 | AC51: =AC50 -> 81.4
B52: 3.진료행위 | F52: 원 | I52: 원 | R52: =ROUND(AB52*AC52,0) -> 0 | T52: 1 | X52: =R52*T52*V52*W52 -> 0 | AC52: =AC51 -> 81.4
A53: E.100분의90본인부담 | B53: 1.의약품 | F53: 원 | I53: 원 | R53: =ROUND(AB53*AC53,0) -> 0 | T53: 1 | X53: =R53*T53*V53*W53 -> 0 | AC53: =AC52 -> 81.4
B54: 2.치료재료 | F54: 원 | I54: 원 | R54: =ROUND(AB54*AC54,0) -> 0 | T54: 1 | X54: =R54*T54*V54*W54 -> 0 | AC54: =AC53 -> 81.4
B55: 3.진료행위 | F55: 원 | I55: 원 | R55: =ROUND(AB55*AC55,0) -> 0 | T55: 1 | X55: =R55*T55*V55*W55 -> 0 | AC55: =AC54 -> 81.4
A56: U.건강보험100분의100본인부담 | B56: 1.의약품 | D56: 회 | F56: 원 | I56: 원 | J56: 특정내역
B57: 2.치료재료 | D57: 회 | F57: 원 | I57: 원
B58: 3.진료행위 | D58: 회 | F58: 원 | I58: 원
A59: V.보훈등100분의100본인부담 | B59: 1.의약품 | D59: 회 | F59: 원 | I59: 원
B60: 2.치료재료 | D60: 회 | F60: 원 | I60: 원
B61: 3.진료행위 | D61: 회 | F61: 원 | I61: 원
A62: W.비급여 | B62: 1.의약품 | D62: 회 | F62: 원 | I62: 원 | J62: 수술코드
B63: 2.치료재료 | D63: 회 | F63: 원 | I63: 원
B64: 3.진료행위 | D64: 회 | F64: 원 | I64: 원
A65: 투약료총액 | I65: 원 | J65: 18.장애인의료비 | T65: 원 | U65: 심사내역 | V65: 구분 | W65: 코드 | Y65: 조정 | AA65: 1.2
A66: 특수장비총액 | I66: 원 | J66: 19. 청구액 | O66: =E72-E73 -> 163690 | T66: 원
A67: 특수재료 및 관련행위료 총액 | I67: 원 | J67: 20.본인부담상한액초과액 | T67: 원
A68: 보훈등 100분의 100 본인부담총액 | I68: 원 | J68: 21.요양급여비용총액2, 진료비총액 | T68: 원
A69: 비급여총액 | I69: 원 | J69: 22. 보훈청구액 | T69: 원
A70: 11. 소계 | E70: =SUM(E14:E42) -> 47545 | F70: 원 | G70: =SUM(G20:H42) -> 161952 | I70: 원 | J70: 23.건강보험100분의100본인부담총액 | O70: =E69 -> 0 | T70: 원
A71: 12. 가산율 | E71: 15 | F71: % | G71: =ROUND(G70*E71/100,0) -> 24293 | I71: 원 | J71: 24.보훈본인일부부담금 | T71: 원 | AA71: 감1
A72: 15. 요양급여비용총액1 | E72: =E70+G70+G71 -> 233790 | I72: 원 | J72: 25.100분의100미만총액 | T72: 원 | AA72: 감2
A73: 16. 본인일부부담금 | E73: =ROUNDDOWN(E72*0.3,-2) -> 70100 | I73: 원 | J73: 26.100분의100미만본인일부부담금 | T73: 원 | AA73: 증1
A74: 17. 지원금 | I74: 원 | J74: 27.100분의100미만청구액 | T74: 원 | AA74: 증2
A75: 일련번호 | E75: #심사조정 | J75: 28.100분의100미만보훈청구액 | T75: 원 | V75: 계
J76: [정률] | V76: 190mm*320mm(일반용지 60g/m^2(재활용품)

Sheet 2번
C1: 문제번호 | D1: 2
C2: 학반 | D2: A
C3: 학번 | D3: 201620014
C4: 성명 | D4: 홍길동
C5: 조명칭 | D5: 구름
C6: 조원들 | D6: 김길동, 홍길동, 박길동, 이길동
C7: 요양기관구분 | D7: 병원
A9: 수정전 | G9: 수정후
A10: 성별 | B10: 나이 | C10: 코드 | D10: 병명 | E10: 진료과 | G10: =A10 -> 성별 | H10: =B10 -> 나이 | I10: =C10 -> 코드 | J10: =D10 -> 병명 | K10: 변경사유 | L10: 진료과
A11: 남 | B11: 38 | C11: I120 | D11: 고혈압성 신장질환 | E11: 신장내과 | G11: =A11 -> 남 | H11: =B11 -> 38 | I11: I12.0 | J11: 신부전을 동반한 고혈압성 신장병 | K11: 명칭 | L11: =E11 -> 신장내과
C12: E875 | D12: 고칼륨혈증 | I12: E87.5 | J12: =D12 -> 고칼륨혈증
I13: =C13 -> 0 | J13: =D13 -> 0
I14: =C14 -> 0 | J14: =D14 -> 0
C16: 수정전 | H16: 수정후 | M16: 의원 | N16: 81.4 | O16: 병원급이상 | P16: 73.5
C17: 구분 | D17: 진료내역 | E17: 횟수 | F17: 일수 | H17: 진료과 | I17: 코드 | J17: 분류 | K17: 횟수 | L17: 일수 | M17: 변경사유 | N17: 점수 | O17: 단가 | P17: 비용 | Q17: 1칸 | R17: 2칸
C18: 진찰료 | D18: 재진(주간) | E18: 1 | F18: 1 | H18: =C18 -> 진찰료 | I18: AA255 | J18: 재진진찰료(병원) | K18: =E18 -> 1 | L18: =F18 -> 1 | M18: 명칭 | N18: 151.37 | O18: =P16 -> 73.5 | P18: =N18*K18*L18*O18 -> 11125.695 | Q18: =P18 -> 11125.695
D19: 외래환자의약품관리료 | E19: 1 | F19: 1 | I19: AL300 | J19: =D19 -> 외래환자의약품관리료 | M19: 삭제 | O19: =O18 -> 73.5 | P19: =N19*K19*L19*O19 -> 0
O20: =O19 -> 73.5 | P20: =N20*K20*L20*O20 -> 0
C21: 약재료 | D21: 외래환자조제복약지도료 | H21: =C21 -> 약재료 | J21: =D21 -> 외래환자조제복약지도료 | M21: 처방전 | O21: =O20 -> 73.5 | P21: =N21*K21*L21*O21 -> 0
D22: 이무테라정 | E22: 1 | F22: 28 | J22: =D22 -> 이무테라정 | M22: 처방전 | O22: =O21 -> 73.5 | P22: =N22*K22*L22*O22 -> 0
D23: 니솔딘정 | E23: 0.5 | F23: 28 | J23: =D23 -> 니솔딘정 | M23: 처방전 | O23: =O22 -> 73.5 | P23: =N23*K23*L23*O23 -> 0
D24: 소론도정 | E24: 1 | F24: 28 | J24: =D24 -> 소론도정 | M24: 처방전 | O24: =O23 -> 73.5 | P24: =N24*K24*L24*O24 -> 0
D25: 토렌도정 | E25: 1 | F25: 28 | J25: =D25 -> 토렌도정 | M25: 처방전 | O25: =O24 -> 73.5 | P25: =N25*K25*L25*O25 -> 0
D26: 트리테이스정 | E26: 1 | F26: 28 | J26: =D26 -> 트리테이스정 | M26: 처방전 | O26: =O25 -> 73.5 | P26: =N26*K26*L26*O26 -> 0
J27: =D27 -> 0 | K27: =E27 -> 0 | L27: =F27 -> 0 | O27: =O26 -> 73.5 | P27: =N27*K27*L27*O27 -> 0
C28: 주사료 | H28: =C28 -> 주사료 | J28: =D28 -> 0 | K28: =E28 -> 0 | L28: =F28 -> 0 | O28: =O27 -> 73.5 | P28: =N28*K28*L28*O28 -> 0
J29: =D29 -> 0 | K29: =E29 -> 0 | L29: =F29 -> 0 | O29: =O28 -> 73.5 | P29: =N29*K29*L29*O29 -> 0
C30: 처치및 수술료 | H30: =C30 -> 처치및 수술료 | J30: =D30 -> 0 | K30: =E30 -> 0 | L30: =F30 -> 0 | O30: =O29 -> 73.5 | P30: =N30*K30*L30*O30 -> 0
J31: =D31 -> 0 | K31: =E31 -> 0 | L31: =F31 -> 0 | O31: =O30 -> 73.5 | P31: =N31*K31*L31*O31 -> 0
C32: 검사료 | D32: 총단백정량 | E32: 1 | F32: 1 | H32: =C32 -> 검사료 | I32: C2200 | J32: =D32 -> 총단백정량 | K32: =E32 -> 1 | L32: =F32 -> 1 | N32: 17.71 | O32: =O31 -> 73.5 | P32: =N32*K32*L32*O32 -> 1301.685 | R32: =P32 -> 1301.685
D33: 알부민 | E33: 1 | F33: 1 | I33: C2210 | J33: =D33 -> 알부민 | K33: =E33 -> 1 | L33: =F33 -> 1 | N33: 22.45 | O33: =O32 -> 73.5 | P33: =N33*K33*L33*O33 -> 1650.075 | R33: =P33 -> 1650.075
D34: 알칼리포스포타제 | E34: 1 | F34: 1 | I34: B2602 | J34: 포스파타제(알칼리) | K34: =E34 -> 1 | L34: =F34 -> 1 | N34: 20.09 | O34: =O33 -> 73.5 | P34: =N34*K34*L34*O34 -> 1476.615 | R34: =P34 -> 1476.615
D35: SGOT | E35: 1 | F35: 1 | I35: B2570 | J35: AST(SGOT) | K35: =E35 -> 1 | L35: =F35 -> 1 | N35: 23.58 | O35: =O34 -> 73.5 | P35: =N35*K35*L35*O35 -> 1733.13 | R35: =P35 -> 1733.13
D36: SGPT | E36: 1 | F36: 1 | I36: B2580 | J36: ALT(SGPT) | K36: =E36 -> 1 | L36: =F36 -> 1 | N36: 23.01 | O36: =O35 -> 73.5 | P36: =N36*K36*L36*O36 -> 1691.235 | R36: =P36 -> 1691.235
D37: 총콜레스트롤정량(SERUM) | E37: 1 | F37: 1 | I37: C2411 | J37: 콜레스트롤정량(총콜레스트롤) | K37: =E37 -> 1 | L37: =F37 -> 1 | N37: 22.02 | O37: =O36 -> 73.5 | P37: =N37*K37*L37*O37 -> 1618.47 | R37: =P37 -> 1618.47
D38: 트리그리세라이드지질(SERUM) | E38: 1 | F38: 1 | I38: C2443 | J38: 지질(트리그리세라이드) | K38: =E38 -> 1 | L38: =F38 -> 1 | N38: 46.89 | O38: =O37 -> 73.5 | P38: =N38*K38*L38*O38 -> 3446.415 | R38: =P38 -> 3446.415
D39: HDL콜레스트롤(SERUM) | E39: 1 | F39: 1 | I39: C2420 | J39: HDL 콜레스트롤 | K39: =E39 -> 1 | L39: =F39 -> 1 | N39: 80.37 | O39: =O38 -> 73.5 | P39: =N39*K39*L39*O39 -> 5907.195 | R39: =P39 -> 5907.195 | S39: =SUM(R32:R39) -> 18824.82
D40: 아포지단백A | E40: 1 | F40: 1 | I40: C2461 | J40: =D40 -> 아포지단백A | M40: 심혈관계 질환의 위험도 | O40: =O39 -> 73.5 | P40: =N40*K40*L40*O40 -> 0
D41: 아포지단백B | E41: 1 | F41: 1 | I41: C2462 | J41: =D41 -> 아포지단백B | M41: 심혈관계 질환의 위험도 | O41: =O40 -> 73.5 | P41: =N41*K41*L41*O41 -> 0
J42: =D42 -> 0 | K42: =E42 -> 0 | L42: =F42 -> 0
P43: 소계 | Q43: =SUM(Q18:Q42) -> 11125.695 | R43: =SUM(R18:R42) -> 18824.82
P44: 가산률 | Q44: 20 | R44: =R43*Q44/100 -> 3764.964
P45: 총계 | R45: =Q43+R43+R44 -> 33715.479
P46: 본인 | Q46: 40 | R46: =ROUNDDOWN(R45*Q46/100,-2) -> 13400
P47: 청구액 | R47: =R45-R46 -> 20315.479

Sheet 2-1번
A1: (별지 제 11-1호 서식) | D1: 문제 | E1: ='2번'!D1 -> 2 | Y1: (의과외래)
A2: 서식번호 | C2: G | D2: I | E2: 0 | F2: 3 | G2: 요양급여비용명세서 | T2: 요양기관
T3: 기호 | V3: J-252525
A4: 등록번호 | C4: 123456 | G4: 증번호
A5: 가입자성명 | C5: 홍길동 | G5: 공상등 구분 | T5: 명칭 | V5: ='2번'!D7 -> 병원
A6: 수진자성명 | C6: 남 38 | K6: -
A7: 상 병 명 | G7: 분류기호 | J7: 수술 | K7: 진료과목 | L7: 상해외인 | N7: 특정기호 | P7: 면허종류 | R7: 면허번호 | T7: 당원요양개시일 | V7: 당월요양급여일수(원내투약일수포함) | Y7: 진료결과
A8: ='2번'!J11 -> 신부전을 동반한 고혈압성 신장병 | G8: ='2번'!I11 -> I12.0 | P8: 12345 | T8: 20180330 | V8: 2 | X8: 일 | Y8: 계속
A9: ='2번'!J12 -> 고칼륨혈증 | G9: ='2번'!I12 -> E87.5 | X9: 일
A10: ='2번'!J13 -> 0 | G10: ='2번'!I13 -> 0 | X10: 일
A11: 총내원일수 | C11: 1 | D11: 일 | E11: 내원일 | F11: 1 2 3 4 5 6 7 8 9 10 11 12 13 14 15 16 17 18 19 20 21 22 23 24 25 26 27 28 29 30 31
A12: 구분 | E12: 기본진료,약제,특정재료(1) | G12: 진료행위(2) | J12: 처방전발급번호 | L12: 20170403-0005 | T12: 처방일수 | V12: 1 | W12: 본인부담금발생횟수 | X12: 1 | Y12: 직접조제횟수 | Z12: 0 | AB12: 2018
J13: 점검번호 | L13: 20170403-0005 | AB13: 의원 | AC13: 81.4
A14: 1.진찰료(외래관리료 포함) | B14: 1.초진 | D14: 회 | F14: 원 | G14: 야간및공휴 | I14: 회 | J14: 약품코드(일반명및제품명코드) | L14: 약품명(일반 및 제품명) | T14: 1회투약량 | V14: 1일투여횟수 | W14: 총투약일수 | AB14: 병원이상 | AC14: 73.5
B15: 2.재진 | C15: 1 | D15: 회 | E15: =X16 -> 11126 | F15: 원 | G15: 야간및공휴 | I15: 회 | J15: 코드 | L15: 분류(예외분류코드) | P15: 상한가 | R15: 단가 | T15: 1회투약량 | V15: 1회투여량또는실시횟수 | W15: 총투여일수또는실시횟수 | X15: 금액 | Z15: 면허종류 | AA15: 면허번호 | AB15: 점수 | AC15: 단가
B16: 3.의약품관리료 | F16: 원 | J16: ='2번'!I18 -> AA255 | L16: ='2번'!J18 -> 재진진찰료(병원) | R16: =ROUND(AB16*AC16,0) -> 11126 | T16: 1 | V16: ='2번'!K18 -> 1 | W16: ='2번'!L18 -> 1 | X16: =R16*T16*V16*W16 -> 11126 | AB16: ='2번'!N18 -> 151.37 | AC16: =AC14 -> 73.5
B17: 4.응급 및 회송료 | F17: 원 | J17: ='2번'!I19 -> AL300 | L17: ='2번'!J19 -> 외래환자의약품관리료 | R17: =ROUND(AB17*AC17,0) -> 0 | T17: 1 | V17: ='2번'!K19 -> 0 | W17: ='2번'!L19 -> 0 | X17: =R17*T17*V17*W17 -> 0 | AB17: ='2번'!N19 -> 0 | AC17: =AC16 -> 73.5
B18: 5.가정간호기본방문료 | F18: 원 | J18: ='2번'!I20 -> 0 | L18: ='2번'!J20 -> 0 | R18: =ROUND(AB18*AC18,0) -> 0 | T18: 1 | V18: ='2번'!K20 -> 0 | W18: ='2번'!L20 -> 0 | X18: =R18*T18*V18*W18 -> 0 | AB18: ='2번'!N20 -> 0 | AC18: =AC17 -> 73.5
B19: 6.만성질환관리료 | D19: 회 | F19: 원 | J19: ='2번'!I21 -> 0 | L19: ='2번'!J21 -> 외래환자조제복약지도료 | R19: =ROUND(AB19*AC19,0) -> 0 | T19: 1 | V19: ='2번'!K21 -> 0 | W19: ='2번'!L21 -> 0 | X19: =R19*T19*V19*W19 -> 0 | AB19: ='2번'!N21 -> 0 | AC19: =AC18 -> 73.5
A20: 3.투약료 | B20: 1.내복 | D20: 일분 | F20: 원 | I20: 원 | J20: ='2번'!I22 -> 0 | L20: ='2번'!J22 -> 이무테라정 | R20: =ROUND(AB20*AC20,0) -> 0 | T20: 1 | V20: ='2번'!K22 -> 0 | W20: ='2번'!L22 -> 0 | X20: =R20*T20*V20*W20 -> 0 | AB20: ='2번'!N22 -> 0 | AC20: =AC19 -> 73.5
B21: 2.외용 | D21: 일분 | F21: 원 | I21: 원 | J21: ='2번'!I23 -> 0 | L21: ='2번'!J23 -> 니솔딘정 | R21: =ROUND(AB21*AC21,0) -> 0 | T21: 1 | V21: ='2번'!K23 -> 0 | W21: ='2번'!L23 -> 0 | X21: =R21*T21*V21*W21 -> 0 | AB21: ='2번'!N23 -> 0 | AC21: =AC20 -> 73.5
B22: 3.처방전 | D22: 회 | J22: ='2번'!I24 -> 0 | L22: ='2번'!J24 -> 소론도정 | R22: =ROUND(AB22*AC22,0) -> 0 | T22: 1 | V22: ='2번'!K24 -> 0 | W22: ='2번'!L24 -> 0 | X22: =R22*T22*V22*W22 -> 0 | AB22: ='2번'!N24 -> 0 | AC22: =AC21 -> 73.5
A23: 4.주사료 | B23: 1.피하또는근육내 | D23: 일 | F23: 원 | I23: 원 | J23: ='2번'!I25 -> 0 | L23: ='2번'!J25 -> 토렌도정 | R23: =ROUND(AB23*AC23,0) -> 0 | T23: 1 | V23: ='2번'!K25 -> 0 | W23: ='2번'!L25 -> 0 | X23: =R23*T23*V23*W23 -> 0 | AB23: ='2번'!N25 -> 0 | AC23: =AC22 -> 73.5
B24: 2.정맥내 | D24: 일 | F24: 원 | I24: 원 | J24: ='2번'!I26 -> 0 | L24: ='2번'!J26 -> 트리테이스정 | R24: =ROUND(AB24*AC24,0) -> 0 | T24: 1 | V24: ='2번'!K26 -> 0 | W24: ='2번'!L26 -> 0 | X24: =R24*T24*V24*W24 -> 0 | AB24: ='2번'!N26 -> 0 | AC24: =AC23 -> 73.5
B25: 3.수액제 | D25: 회 | F25: 원 | I25: 원 | J25: ='2번'!I27 -> 0 | L25: ='2번'!J27 -> 0 | R25: =ROUND(AB25*AC25,0) -> 0 | T25: 1 | V25: ='2번'!K27 -> 0 | W25: ='2번'!L27 -> 0 | X25: =R25*T25*V25*W25 -> 0 | AB25: ='2번'!N27 -> 0 | AC25: =AC24 -> 73.5
B26: 4.기타 | D26: 회 | F26: 원 | I26: 원 | J26: ='2번'!I28 -> 0 | L26: ='2번'!J28 -> 0 | R26: =ROUND(AB26*AC26,0) -> 0 | T26: 1 | V26: ='2번'!K28 -> 0 | W26: ='2번'!L28 -> 0 | X26: =R26*T26*V26*W26 -> 0 | AB26: ='2번'!N28 -> 0 | AC26: =AC25 -> 73.5
B27: 5.특정재료 | F27: 원 | J27: ='2번'!I29 -> 0 | L27: ='2번'!J29 -> 0 | R27: =ROUND(AB27*AC27,0) -> 0 | T27: 1 | V27: ='2번'!K29 -> 0 | W27: ='2번'!L29 -> 0 | X27: =R27*T27*V27*W27 -> 0 | AB27: ='2번'!N29 -> 0 | AC27: =AC26 -> 73.5
B28: 6.수혈 | D28: 회 | F28: 원 | I28: 원 | J28: ='2번'!I30 -> 0 | L28: ='2번'!J30 -> 0 | R28: =ROUND(AB28*AC28,0) -> 0 | T28: 1 | V28: ='2번'!K30 -> 0 | W28: ='2번'!L30 -> 0 | X28: =R28*T28*V28*W28 -> 0 | AB28: ='2번'!N30 -> 0 | AC28: =AC27 -> 73.5
A29: 5.마취료 | B29: 1.. | D29: 회 | F29: 원 | I29: 원 | J29: ='2번'!I31 -> 0 | L29: ='2번'!J31 -> 0 | R29: =ROUND(AB29*AC29,0) -> 0 | T29: 1 | V29: ='2번'!K31 -> 0 | W29: ='2번'!L31 -> 0 | X29: =R29*T29*V29*W29 -> 0 | AB29: ='2번'!N31 -> 0 | AC29: =AC28 -> 73.5
A30: 6.이학요법료 | B30: 1.. | D30: 종 | F30: 원 | I30: 원 | J30: ='2번'!I32 -> C2200 | L30: ='2번'!J32 -> 총단백정량 | R30: =ROUND(AB30*AC30,0) -> 1302 | T30: 1 | V30: ='2번'!K32 -> 1 | W30: ='2번'!L32 -> 1 | X30: =R30*T30*V30*W30 -> 1302 | AB30: ='2번'!N32 -> 17.71 | AC30: =AC29 -> 73.5
A31: 7.정신요법료 | B31: 1.. | D31: 종 | F31: 원 | I31: 원 | J31: ='2번'!I33 -> C2210 | L31: ='2번'!J33 -> 알부민 | R31: =ROUND(AB31*AC31,0) -> 1650 | T31: 1 | V31: ='2번'!K33 -> 1 | W31: ='2번'!L33 -> 1 | X31: =R31*T31*V31*W31 -> 1650 | AB31: ='2번'!N33 -> 22.45 | AC31: =AC30 -> 73.5
A32: 8.처치및수술료 | B32: 1.처치및수술 | D32: 종 | F32: 원 | I32: 원 | J32: ='2번'!I34 -> B2602 | L32: ='2번'!J34 -> 포스파타제(알칼리) | R32: =ROUND(AB32*AC32,0) -> 1477 | T32: 1 | V32: ='2번'!K34 -> 1 | W32: ='2번'!L34 -> 1 | X32: =R32*T32*V32*W32 -> 1477 | AB32: ='2번'!N34 -> 20.09 | AC32: =AC31 -> 73.5
B33: 3.케스트 | D33: 회 | F33: 원 | I33: 원 | J33: ='2번'!I35 -> B2570 | L33: ='2번'!J35 -> AST(SGOT) | R33: =ROUND(AB33*AC33,0) -> 1733 | T33: 1 | V33: ='2번'!K35 -> 1 | W33: ='2번'!L35 -> 1 | X33: =R33*T33*V33*W33 -> 1733 | AB33: ='2번'!N35 -> 23.58 | AC33: =AC32 -> 73.5
A34: 9.검사료 | B34: 1.자체검사 | C34: 8 | D34: 종 | F34: 원 | G34: =SUM(X30:Y37) -> 18824 | I34: 원 | J34: ='2번'!I36 -> B2580 | L34: ='2번'!J36 -> ALT(SGPT) | R34: =ROUND(AB34*AC34,0) -> 1691 | T34: 1 | V34: ='2번'!K36 -> 1 | W34: ='2번'!L36 -> 1 | X34: =R34*T34*V34*W34 -> 1691 | AB34: ='2번'!N36 -> 23.01 | AC34: =AC33 -> 73.5
B35: 2.위탁검사관리 | F35: 원 | J35: ='2번'!I37 -> C2411 | L35: ='2번'!J37 -> 콜레스트롤정량(총콜레스트롤) | R35: =ROUND(AB35*AC35,0) -> 1618 | T35: 1 | V35: ='2번'!K37 -> 1 | W35: ='2번'!L37 -> 1 | X35: =R35*T35*V35*W35 -> 1618 | AB35: ='2번'!N37 -> 22.02 | AC35: =AC34 -> 73.5
B36: 3.위탁검사 | D36: 종 | F36: 원 | J36: ='2번'!I38 -> C2443 | L36: ='2번'!J38 -> 지질(트리그리세라이드) | R36: =ROUND(AB36*AC36,0) -> 3446 | T36: 1 | V36: ='2번'!K38 -> 1 | W36: ='2번'!L38 -> 1 | X36: =R36*T36*V36*W36 -> 3446 | AB36: ='2번'!N38 -> 46.89 | AC36: =AC35 -> 73.5
A37: 10.영상진단및방사선치료료 | B37: 1.진단 | D37: 종 | F37: 원 | I37: 원 | J37: ='2번'!I39 -> C2420 | L37: ='2번'!J39 -> HDL 콜레스트롤 | R37: =ROUND(AB37*AC37,0) -> 5907 | T37: 1 | V37: ='2번'!K39 -> 1 | W37: ='2번'!L39 -> 1 | X37: =R37*T37*V37*W37 -> 5907 | AB37: ='2번'!N39 -> 80.37 | AC37: =AC36 -> 73.5
B38: 2.치료 | D38: 종 | F38: 원 | I38: 원 | J38: ='2번'!I40 -> C2461 | L38: ='2번'!J40 -> 아포지단백A | R38: =ROUND(AB38*AC38,0) -> 0 | T38: 1 | V38: ='2번'!K40 -> 0 | W38: ='2번'!L40 -> 0 | X38: =R38*T38*V38*W38 -> 0 | AB38: ='2번'!N40 -> 0 | AC38: =AC37 -> 73.5
A39: S.특수장비 | B39: 1.CT | D39: 회 | F39: 원 | I39: 원 | J39: ='2번'!I41 -> C2462 | L39: ='2번'!J41 -> 아포지단백B | R39: =ROUND(AB39*AC39,0) -> 0 | T39: 1 | V39: ='2번'!K41 -> 0 | W39: ='2번'!L41 -> 0 | X39: =R39*T39*V39*W39 -> 0 | AB39: ='2번'!N41 -> 0 | AC39: =AC38 -> 73.5
B40: 2.MRI | D40: 회 | F40: 원 | I40: 원 | J40: ='2번'!I42 -> 0 | R40: =ROUND(AB40*AC40,0) -> 0 | T40: 1 | X40: =R40*T40*V40*W40 -> 0 | AC40: =AC39 -> 73.5
B41: 3.PET | D41: 회 | F41: 원 | I41: 원 | J41: ='2번'!I43 -> 0 | R41: =ROUND(AB41*AC41,0) -> 0 | T41: 1 | X41: =R41*T41*V41*W41 -> 0 | AC41: =AC40 -> 73.5
A42: T.특수재료 및 관련 행위료 | B42: 1.치료재료 | D42: 개 | F42: 원 | J42: ='2번'!I44 -> 0 | R42: =ROUND(AB42*AC42,0) -> 0 | T42: 1 | X42: =R42*T42*V42*W42 -> 0 | AC42: =AC41 -> 73.5
B43: 2.진료행위 | J43: ='2번'!I45 -> 0 | R43: =ROUND(AB43*AC43,0) -> 0 | T43: 1 | X43: =R43*T43*V43*W43 -> 0 | AC43: =AC42 -> 73.5
A44: A.100분의50본인부담 | B44: 1.의약품 | F44: 원 | I44: 원 | R44: =ROUND(AB44*AC44,0) -> 0 | T44: 1 | X44: =R44*T44*V44*W44 -> 0 | AC44: =AC43 -> 73.5
B45: 2.치료재료 | F45: 원 | I45: 원 | R45: =ROUND(AB45*AC45,0) -> 0 | T45: 1 | X45: =R45*T45*V45*W45 -> 0 | AC45: =AC44 -> 73.5
B46: 3.진료행위 | F46: 원 | I46: 원 | R46: =ROUND(AB46*AC46,0) -> 0 | T46: 1 | X46: =R46*T46*V46*W46 -> 0 | AC46: =AC45 -> 73.5
A47: B.100분의80본인부담 | B47: 1.의약품 | F47: 원 | I47: 원 | R47: =ROUND(AB47*AC47,0) -> 0 | T47: 1 | X47: =R47*T47*V47*W47 -> 0 | AC47: =AC46 -> 73.5
B48: 2.치료재료 | F48: 원 | I48: 원 | R48: =ROUND(AB48*AC48,0) -> 0 | T48: 1 | X48: =R48*T48*V48*W48 -> 0 | AC48: =AC47 -> 73.5
B49: 3.진료행위 | F49: 원 | I49: 원 | R49: =ROUND(AB49*AC49,0) -> 0 | T49: 1 | X49: =R49*T49*V49*W49 -> 0 | AC49: =AC48 -> 73.5
A50: D.100분의30본인부담 | B50: 1.의약품 | F50: 원 | I50: 원 | R50: =ROUND(AB50*AC50,0) -> 0 | T50: 1 | X50: =R50*T50*V50*W50 -> 0 | AC50: =AC49 -> 73.5
B51: 2.치료재료 | F51: 원 | I51: 원 | R51: =ROUND(AB51*AC51,0) -> 0 | T51: 1 | X51: =R51*T51*V51*W51 -> 0 | AC51: =AC50 -> 73.5
B52: 3.진료행위 | F52: 원 | I52: 원 | R52: =ROUND(AB52*AC52,0) -> 0 | T52: 1 | X52: =R52*T52*V52*W52 -> 0 | AC52: =AC51 -> 73.5
A53: E.100분의90본인부담 | B53: 1.의약품 | F53: 원 | I53: 원 | R53: =ROUND(AB53*AC53,0) -> 0 | T53: 1 | X53: =R53*T53*V53*W53 -> 0 | AC53: =AC52 -> 73.5
B54: 2.치료재료 | F54: 원 | I54: 원 | R54: =ROUND(AB54*AC54,0) -> 0 | T54: 1 | X54: =R54*T54*V54*W54 -> 0 | AC54: =AC53 -> 73.5
B55: 3.진료행위 | F55: 원 | I55: 원 | R55: =ROUND(AB55*AC55,0) -> 0 | T55: 1 | X55: =R55*T55*V55*W55 -> 0 | AC55: =AC54 -> 73.5
A56: U.건강보험100분의100본인부담 | B56: 1.의약품 | D56: 회 | F56: 원 | I56: 원 | J56: 특정내역
B57: 2.치료재료 | D57: 회 | F57: 원 | I57: 원
B58: 3.진료행위 | D58: 회 | F58: 원 | I58: 원
A59: V.보훈등100분의100본인부담 | B59: 1.의약품 | D59: 회 | F59: 원 | I59: 원
B60: 2.치료재료 | D60: 회 | F60: 원 | I60: 원
B61: 3.진료행위 | D61: 회 | F61: 원 | I61: 원
A62: W.비급여 | B62: 1.의약품 | D62: 회 | F62: 원 | I62: 원 | J62: 수술코드
B63: 2.치료재료 | D63: 회 | F63: 원 | I63: 원
B64: 3.진료행위 | D64: 회 | F64: 원 | I64: 원
A65: 투약료총액 | I65: 원 | J65: 18.장애인의료비 | T65: 원 | U65: 심사내역 | V65: 구분 | W65: 코드 | Y65: 조정 | AA65: 1.2
A66: 특수장비총액 | I66: 원 | J66: 19. 청구액 | O66: =E72-E73 -> 20315 | T66: 원
A67: 특수재료 및 관련행위료 총액 | I67: 원 | J67: 20.본인부담상한액초과액 | T67: 원
A68: 보훈등 100분의 100 본인부담총액 | I68: 원 | J68: 21.요양급여비용총액2, 진료비총액 | T68: 원
A69: 비급여총액 | I69: 원 | J69: 22. 보훈청구액 | T69: 원
A70: 11. 소계 | E70: =SUM(E14:E42) -> 11126 | F70: 원 | G70: =SUM(G20:H42) -> 18824 | I70: 원 | J70: 23.건강보험100분의100본인부담총액 | O70: =E69 -> 0 | T70: 원
A71: 12. 가산율 | E71: 20 | F71: % | G71: =ROUND(G70*E71/100,0) -> 3765 | I71: 원 | J71: 24.보훈본인일부부담금 | T71: 원 | AA71: 감1
A72: 15. 요양급여비용총액1 | E72: =E70+G70+G71 -> 33715 | I72: 원 | J72: 25.100분의100미만총액 | T72: 원 | AA72: 감2
A73: 16. 본인일부부담금 | E73: =ROUNDDOWN(E72*0.4,-2) -> 13400 | I73: 원 | J73: 26.100분의100미만본인일부부담금 | T73: 원 | AA73: 증1
A74: 17. 지원금 | I74: 원 | J74: 27.100분의100미만청구액 | T74: 원 | AA74: 증2
A75: 일련번호 | E75: #심사조정 | J75: 28.100분의100미만보훈청구액 | T75: 원 | V75: 계
J76: [정률] | V76: 190mm*320mm(일반용지 60g/m^2(재활용품)

Sheet 3번
C1: 문제번호 | D1: 3
C2: 학반 | D2: A
C3: 학번 | D3: 201620014
C4: 성명 | D4: 홍길동
C5: 조명칭 | D5: 구름
C6: 조원들 | D6: 김길동, 홍길동, 박길동, 이길동
C7: 요양기관구분 | D7: 종합병원
A9: 수정전 | G9: 수정후
A10: 성별 | B10: 나이 | C10: 코드 | D10: 병명 | E10: 진료과 | G10: =A10 -> 성별 | H10: =B10 -> 나이 | I10: =C10 -> 코드 | J10: =D10 -> 병명 | K10: 변경사유 | L10: 진료과
A11: 여 | B11: 65 | C11: N189 | D11: 상세불명의 만성 신부전 | E11: 신장내과 | G11: =A11 -> 여 | H11: =B11 -> 65 | I11: =C11 -> N189 | J11: =D11 -> 상세불명의 만성 신부전 | K11: 명칭 | L11: =E11 -> 신장내과
C12: K25 | D12: 위궤양 | I12: =C12 -> K25 | J12: =D12 -> 위궤양
C13: Z491 | D13: 체외투석 | I13: =C13 -> Z491 | J13: =D13 -> 체외투석 | K13: 명칭
I14: =C14 -> 0 | J14: =D14 -> 0
C16: 수정전 | H16: 수정후 | M16: 의원 | N16: 81.4 | O16: 병원급이상 | P16: 73.5
C17: 구분 | D17: 진료내역 | E17: 횟수 | F17: 일수 | H17: 진료과 | I17: 코드 | J17: 분류 | K17: 횟수 | L17: 일수 | M17: 변경사유 | N17: 점수 | O17: 단가 | P17: 비용
C18: 진찰료 | D18: 재진(주간) | H18: =C18 -> 진찰료 | I18: AA256 | J18: 재진진찰료(종합병원) | K18: 1 | L18: 1 | N18: 174.84 | O18: =P16 -> 73.5 | P18: =N18*K18*L18*O18 -> 12850.74
I19: AL200 | J19: 외래환자 의약품관리료(종합) | K19: 1 | L19: 1 | M19: 추가 | N19: 0.68 | O19: =O18 -> 73.5 | P19: =N19*K19*L19*O19 -> 49.98
C20: 약재료 | D20: 헤모트레이트B | H20: =C20 -> 약재료 | I20: 644904540 | J20: 헤모트레이트-비 1호 10L | K20: 1 | L20: 1 | M20: 투석액 | N20: 11764 | O20: 1 | P20: =N20*K20*L20*O20 -> 11764
O21: =O19 -> 73.5 | P21: =N21*K21*L21*O21 -> 0
C22: 주사료 | H22: =C22 -> 주사료 | K22: 0 | L22: 0 | O22: =O21 -> 73.5 | P22: =N22*K22*L22*O22 -> 0
O23: =O22 -> 73.5 | P23: =N23*K23*L23*O23 -> 0
C24: 처치및 수술료 | D24: 혈액투석1회당 | H24: =C24 -> 처치및 수술료 | I24: O7020 | J24: 혈액투석(1회당) | K24: 1 | L24: 1 | M24: 횟수 | N24: 709.82 | O24: =O23 -> 73.5 | P24: =N24*K24*L24*O24 -> 52171.77
D25: 혈액투석재료대 | I25: O7021 | J25: 혈액투석 재료대 | K25: 1 | L25: 1 | N25: 33900 | O25: 1 | P25: =N25*K25*L25*O25 -> 33900
J26: 투석액별도 | K26: =E26 -> 0 | L26: =F26 -> 0 | O26: =O24 -> 73.5 | P26: =N26*K26*L26*O26 -> 0
C27: 검사료 | H27: =C27 -> 검사료 | J27: =D27 -> 0 | K27: =E27 -> 0 | L27: =F27 -> 0 | O27: =O26 -> 73.5 | P27: =N27*K27*L27*O27 -> 0
J28: =D28 -> 0 | K28: =E28 -> 0 | L28: =F28 -> 0 | O28: =O27 -> 73.5 | P28: =N28*K28*L28*O28 -> 0

Sheet 3-1번
A1: (별지 제 11-1호 서식) | D1: 문제 | E1: 3 | Y1: (의과외래)
A2: 서식번호 | C2: G | D2: I | E2: 0 | F2: 3 | G2: 요양급여비용명세서 | T2: 요양기관
T3: 기호 | V3: J-252525
A4: 등록번호 | C4: 123456 | G4: 증번호
A5: 가입자성명 | C5: 홍길동 | G5: 공상등 구분 | T5: 명칭 | V5: 우송종합병원
A6: 수진자성명 | C6: 홍길동어머니(여 65) | K6: -
A7: 상 병 명 | G7: 분류기호 | J7: 수술 | K7: 진료과목 | L7: 상해외인 | N7: 특정기호 | P7: 면허종류 | R7: 면허번호 | T7: 당원요양개시일 | V7: 당월요양급여일수(원내투약일수포함) | Y7: 진료결과
A8: 상세불명의 만성 신장병 | G8: N18.9 | P8: 12345 | T8: 20180327 | V8: 1 | X8: 일 | Y8: 계속
A9: 위궤양 | G9: K25 | X9: 일
A10: 체외투석를 위하여 보건서비스와 접하고 있는 사람 | G10: Z49.1 | X10: 일
A11: 총내원일수 | C11: 1 | D11: 일 | E11: 내원일 | F11: 1 2 3 4 5 6 7 8 9 10 11 12 13 14 15 16 17 18 19 20 21 22 23 24 25 26 27 28 29 30 31
A12: 구분 | E12: 기본진료,약제,특정재료(1) | G12: 진료행위(2) | J12: 처방전발급번호 | L12: 20170403-0005 | T12: 처방일수 | V12: 0 | W12: 본인부담금발생횟수 | X12: 1 | Y12: 직접조제횟수 | Z12: 0 | AB12: 2018
J13: 점검번호 | L13: 20170403-0005 | AB13: 의원 | AC13: 81.4
A14: 1.진찰료(외래관리료 포함) | B14: 1.초진 | D14: 회 | F14: 원 | G14: 야간및공휴 | I14: 회 | J14: 약품코드(일반명및제품명코드) | L14: 약품명(일반 및 제품명) | T14: 1회투약량 | V14: 1일투여횟수 | W14: 총투약일수 | AB14: 병원이상 | AC14: 73.5
B15: 2.재진 | C15: 1 | D15: 회 | E15: =X16 -> 12851 | F15: 원 | G15: 야간및공휴 | I15: 회 | J15: 코드 | L15: 분류(예외분류코드) | P15: 상한가 | R15: 단가 | T15: 1회투약량 | V15: 1회투여량또는실시횟수 | W15: 총투여일수또는실시횟수 | X15: 금액 | Z15: 면허종류 | AA15: 면허번호 | AB15: 점수 | AC15: 단가
B16: 3.의약품관리료 | E16: =X17 -> 50 | F16: 원 | J16: AA256 | L16: 재진진찰료(종합병원) | R16: =ROUND(AB16*AC16,0) -> 12851 | T16: 1 | V16: 1 | W16: 1 | X16: =R16*T16*V16*W16 -> 12851 | AB16: 174.84 | AC16: =AC14 -> 73.5
B17: 4.응급 및 회송료 | F17: 원 | J17: AL200 | L17: 외래환자 의약품관리료(종합) | R17: =ROUND(AB17*AC17,0) -> 50 | T17: 1 | V17: 1 | W17: 1 | X17: =R17*T17*V17*W17 -> 50 | AB17: 0.68 | AC17: =AC16 -> 73.5
B18: 5.가정간호기본방문료 | F18: 원 | J18: 644904540 | L18: 헤모트레이트-비 1호 10L | R18: 11764 | T18: 1 | V18: 1 | W18: 1 | X18: =R18*T18*V18*W18 -> 11764 | AC18: =AC17 -> 73.5
B19: 6.만성질환관리료 | D19: 회 | F19: 원 | J19: O7020 | L19: 혈액투석(1회당) | R19: =ROUND(AB19*AC19,0) -> 52172 | T19: 1 | V19: 1 | W19: 1 | X19: =R19*T19*V19*W19 -> 52172 | AB19: 709.82 | AC19: =AC18 -> 73.5
A20: 3.투약료 | B20: 1.내복 | D20: 일분 | F20: 원 | I20: 원 | J20: O7021 | L20: 혈액투석 재료대 | R20: 33900 | T20: 1 | V20: 1 | W20: 1 | X20: =R20*T20*V20*W20 -> 33900 | AC20: =AC19 -> 73.5
B21: 2.외용 | D21: 일분 | F21: 원 | I21: 원 | L21: 투석액별도 | R21: =ROUND(AB21*AC21,0) -> 0 | T21: 1 | V21: 1 | W21: 1 | X21: =R21*T21*V21*W21 -> 0 | AC21: =AC20 -> 73.5
B22: 3.처방전 | D22: 회 | R22: =ROUND(AB22*AC22,0) -> 0 | T22: 1 | V22: 1 | W22: 1 | X22: =R22*T22*V22*W22 -> 0 | AC22: =AC21 -> 73.5
A23: 4.주사료 | B23: 1.피하또는근육내 | D23: 일 | F23: 원 | I23: 원 | R23: =ROUND(AB23*AC23,0) -> 0 | T23: 1 | V23: 1 | W23: 1 | X23: =R23*T23*V23*W23 -> 0 | AC23: =AC22 -> 73.5
B24: 2.정맥내 | D24: 일 | F24: 원 | I24: 원 | R24: =ROUND(AB24*AC24,0) -> 0 | T24: 1 | V24: 1 | W24: 1 | X24: =R24*T24*V24*W24 -> 0 | AC24: =AC23 -> 73.5
B25: 3.수액제 | D25: 회 | F25: 원 | I25: 원 | R25: =ROUND(AB25*AC25,0) -> 0 | T25: 1 | V25: 1 | W25: 1 | X25: =R25*T25*V25*W25 -> 0 | AC25: =AC24 -> 73.5
B26: 4.기타 | D26: 회 | F26: 원 | I26: 원 | R26: =ROUND(AB26*AC26,0) -> 0 | T26: 1 | V26: 1 | W26: 1 | X26: =R26*T26*V26*W26 -> 0 | AC26: =AC25 -> 73.5
B27: 5.특정재료 | F27: 원 | R27: =ROUND(AB27*AC27,0) -> 0 | T27: 1 | V27: 1 | W27: 1 | X27: =R27*T27*V27*W27 -> 0 | AC27: =AC26 -> 73.5
B28: 6.수혈 | D28: 회 | F28: 원 | I28: 원 | R28: =ROUND(AB28*AC28,0) -> 0 | T28: 1 | V28: 1 | W28: 1 | X28: =R28*T28*V28*W28 -> 0 | AC28: =AC27 -> 73.5
A29: 5.마취료 | B29: 1.. | D29: 회 | F29: 원 | I29: 원 | R29: =ROUND(AB29*AC29,0) -> 0 | T29: 1 | V29: 1 | W29: 1 | X29: =R29*T29*V29*W29 -> 0 | AC29: =AC28 -> 73.5
A30: 6.이학요법료 | B30: 1.. | D30: 종 | F30: 원 | I30: 원 | R30: =ROUND(AB30*AC30,0) -> 0 | T30: 1 | V30: 1 | W30: 1 | X30: =R30*T30*V30*W30 -> 0 | AC30: =AC29 -> 73.5
A31: 7.정신요법료 | B31: 1.. | D31: 종 | F31: 원 | I31: 원 | R31: =ROUND(AB31*AC31,0) -> 0 | T31: 1 | V31: 1 | W31: 1 | X31: =R31*T31*V31*W31 -> 0 | AC31: =AC30 -> 73.5
A32: 8.처치및수술료 | B32: 1.처치및수술 | D32: 종 | E32: =X18+X20 -> 45664 | F32: 원 | G32: =X19 -> 52172 | I32: 원 | R32: =ROUND(AB32*AC32,0) -> 0 | T32: 1 | V32: 1 | W32: 1 | X32: =R32*T32*V32*W32 -> 0 | AC32: =AC31 -> 73.5
B33: 3.케스트 | D33: 회 | F33: 원 | I33: 원 | R33: =ROUND(AB33*AC33,0) -> 0 | T33: 1 | V33: 1 | W33: 1 | X33: =R33*T33*V33*W33 -> 0 | AC33: =AC32 -> 73.5
A34: 9.검사료 | B34: 1.자체검사 | D34: 종 | F34: 원 | I34: 원 | R34: =ROUND(AB34*AC34,0) -> 0 | T34: 1 | V34: 1 | W34: 1 | X34: =R34*T34*V34*W34 -> 0 | AC34: =AC33 -> 73.5
B35: 2.위탁검사관리 | F35: 원 | R35: =ROUND(AB35*AC35,0) -> 0 | T35: 1 | V35: 1 | W35: 1 | X35: =R35*T35*V35*W35 -> 0 | AC35: =AC34 -> 73.5
B36: 3.위탁검사 | D36: 종 | F36: 원 | R36: =ROUND(AB36*AC36,0) -> 0 | T36: 1 | V36: 1 | W36: 1 | X36: =R36*T36*V36*W36 -> 0 | AC36: =AC35 -> 73.5
A37: 10.영상진단및방사선치료료 | B37: 1.진단 | D37: 종 | F37: 원 | I37: 원 | R37: =ROUND(AB37*AC37,0) -> 0 | T37: 1 | V37: 1 | W37: 1 | X37: =R37*T37*V37*W37 -> 0 | AC37: =AC36 -> 73.5
B38: 2.치료 | D38: 종 | F38: 원 | I38: 원 | R38: =ROUND(AB38*AC38,0) -> 0 | T38: 1 | V38: 1 | W38: 1 | X38: =R38*T38*V38*W38 -> 0 | AC38: =AC37 -> 73.5
A39: S.특수장비 | B39: 1.CT | D39: 회 | F39: 원 | I39: 원 | R39: =ROUND(AB39*AC39,0) -> 0 | T39: 1 | V39: 1 | W39: 1 | X39: =R39*T39*V39*W39 -> 0 | AC39: =AC38 -> 73.5
B40: 2.MRI | D40: 회 | F40: 원 | I40: 원 | R40: =ROUND(AB40*AC40,0) -> 0 | T40: 1 | V40: 1 | W40: 1 | X40: =R40*T40*V40*W40 -> 0 | AC40: =AC39 -> 73.5
B41: 3.PET | D41: 회 | F41: 원 | I41: 원 | R41: =ROUND(AB41*AC41,0) -> 0 | T41: 1 | V41: 1 | W41: 1 | X41: =R41*T41*V41*W41 -> 0 | AC41: =AC40 -> 73.5
A42: T.특수재료 및 관련 행위료 | B42: 1.치료재료 | D42: 개 | F42: 원 | R42: =ROUND(AB42*AC42,0) -> 0 | T42: 1 | V42: 1 | W42: 1 | X42: =R42*T42*V42*W42 -> 0 | AC42: =AC41 -> 73.5
B43: 2.진료행위 | R43: =ROUND(AB43*AC43,0) -> 0 | T43: 1 | V43: 1 | W43: 1 | X43: =R43*T43*V43*W43 -> 0 | AC43: =AC42 -> 73.5
A44: A.100분의50본인부담 | B44: 1.의약품 | F44: 원 | I44: 원 | R44: =ROUND(AB44*AC44,0) -> 0 | T44: 1 | V44: 1 | W44: 1 | X44: =R44*T44*V44*W44 -> 0 | AC44: =AC43 -> 73.5
B45: 2.치료재료 | F45: 원 | I45: 원 | R45: =ROUND(AB45*AC45,0) -> 0 | T45: 1 | V45: 1 | W45: 1 | X45: =R45*T45*V45*W45 -> 0 | AC45: =AC44 -> 73.5
B46: 3.진료행위 | F46: 원 | I46: 원 | R46: =ROUND(AB46*AC46,0) -> 0 | T46: 1 | V46: 1 | W46: 1 | X46: =R46*T46*V46*W46 -> 0 | AC46: =AC45 -> 73.5
A47: B.100분의80본인부담 | B47: 1.의약품 | F47: 원 | I47: 원 | R47: =ROUND(AB47*AC47,0) -> 0 | T47: 1 | V47: 1 | W47: 1 | X47: =R47*T47*V47*W47 -> 0 | AC47: =AC46 -> 73.5
B48: 2.치료재료 | F48: 원 | I48: 원 | R48: =ROUND(AB48*AC48,0) -> 0 | T48: 1 | V48: 1 | W48: 1 | X48: =R48*T48*V48*W48 -> 0 | AC48: =AC47 -> 73.5
B49: 3.진료행위 | F49: 원 | I49: 원 | R49: =ROUND(AB49*AC49,0) -> 0 | T49: 1 | V49: 1 | W49: 1 | X49: =R49*T49*V49*W49 -> 0 | AC49: =AC48 -> 73.5
A50: D.100분의30본인부담 | B50: 1.의약품 | F50: 원 | I50: 원 | R50: =ROUND(AB50*AC50,0) -> 0 | T50: 1 | V50: 1 | W50: 1 | X50: =R50*T50*V50*W50 -> 0 | AC50: =AC49 -> 73.5
B51: 2.치료재료 | F51: 원 | I51: 원 | R51: =ROUND(AB51*AC51,0) -> 0 | T51: 1 | V51: 1 | W51: 1 | X51: =R51*T51*V51*W51 -> 0 | AC51: =AC50 -> 73.5
B52: 3.진료행위 | F52: 원 | I52: 원 | R52: =ROUND(AB52*AC52,0) -> 0 | T52: 1 | V52: 1 | W52: 1 | X52: =R52*T52*V52*W52 -> 0 | AC52: =AC51 -> 73.5
A53: E.100분의90본인부담 | B53: 1.의약품 | F53: 원 | I53: 원 | R53: =ROUND(AB53*AC53,0) -> 0 | T53: 1 | V53: 1 | W53: 1 | X53: =R53*T53*V53*W53 -> 0 | AC53: =AC52 -> 73.5
B54: 2.치료재료 | F54: 원 | I54: 원 | R54: =ROUND(AB54*AC54,0) -> 0 | T54: 1 | V54: 1 | W54: 1 | X54: =R54*T54*V54*W54 -> 0 | AC54: =AC53 -> 73.5
B55: 3.진료행위 | F55: 원 | I55: 원 | R55: =ROUND(AB55*AC55,0) -> 0 | T55: 1 | V55: 1 | W55: 1 | X55: =R55*T55*V55*W55 -> 0 | AC55: =AC54 -> 73.5
A56: U.건강보험100분의100본인부담 | B56: 1.의약품 | D56: 회 | F56: 원 | I56: 원 | J56: 특정내역
B57: 2.치료재료 | D57: 회 | F57: 원 | I57: 원
B58: 3.진료행위 | D58: 회 | F58: 원 | I58: 원
A59: V.보훈등100분의100본인부담 | B59: 1.의약품 | D59: 회 | F59: 원 | I59: 원
B60: 2.치료재료 | D60: 회 | F60: 원 | I60: 원
B61: 3.진료행위 | D61: 회 | F61: 원 | I61: 원
A62: W.비급여 | B62: 1.의약품 | D62: 회 | F62: 원 | I62: 원 | J62: 수술코드
B63: 2.치료재료 | D63: 회 | F63: 원 | I63: 원
B64: 3.진료행위 | D64: 회 | F64: 원 | I64: 원
A65: 투약료총액 | I65: 원 | J65: 18.장애인의료비 | T65: 원 | U65: 심사내역 | V65: 구분 | W65: 코드 | Y65: 조정 | AA65: 1.2
A66: 특수장비총액 | I66: 원 | J66: 19. 청구액 | O66: =E72-E73 -> 61980 | T66: 원
A67: 특수재료 및 관련행위료 총액 | I67: 원 | J67: 20.본인부담상한액초과액 | T67: 원
A68: 보훈등 100분의 100 본인부담총액 | I68: 원 | J68: 21.요양급여비용총액2, 진료비총액 | T68: 원
A69: 비급여총액 | I69: 원 | J69: 22. 보훈청구액 | T69: 원
A70: 11. 소계 | E70: =SUM(E14:E42) -> 58565 | F70: 원 | G70: =SUM(G20:H42) -> 52172 | I70: 원 | J70: 23.건강보험100분의100본인부담총액 | O70: =E69 -> 0 | T70: 원
A71: 12. 가산율 | E71: 25 | F71: % | G71: =ROUND(G70*E71/100,0) -> 13043 | I71: 원 | J71: 24.보훈본인일부부담금 | T71: 원 | AA71: 감1
A72: 15. 요양급여비용총액1 | E72: =E70+G70+G71 -> 123780 | I72: 원 | J72: 25.100분의100미만총액 | T72: 원 | AA72: 감2
A73: 16. 본인일부부담금 | E73: =ROUNDDOWN(E72*0.5,-2) -> 61800 | I73: 원 | J73: 26.100분의100미만본인일부부담금 | T73: 원 | AA73: 증1
A74: 17. 지원금 | I74: 원 | J74: 27.100분의100미만청구액 | T74: 원 | AA74: 증2
A75: 일련번호 | E75: #심사조정 | J75: 28.100분의100미만보훈청구액 | T75: 원 | V75: 계
J76: [정률] | V76: 190mm*320mm(일반용지 60g/m^2(재활용품)

Sheet 4번
C1: 문제번호 | D1: 4
C2: 학반 | D2: A
C3: 학번 | D3: 201620014
C4: 성명 | D4: 홍길동
C5: 조명칭 | D5: 구름
C6: 조원들 | D6: 김길동, 홍길동, 박길동, 이길동
C7: 요양기관구분 | D7: 상급종합병원
A9: 수정전 | G9: 수정후
A10: 성별 | B10: 나이 | C10: 코드 | D10: 병명 | E10: 진료과 | G10: =A10 -> 성별 | H10: =B10 -> 나이 | I10: =C10 -> 코드 | J10: =D10 -> 병명 | K10: 변경사유 | L10: 진료과
A11: 여 | B11: 71 | C11: N180 | D11: 말기신질환 | E11: 신장내과 | G11: =A11 -> 여 | H11: =B11 -> 71 | I11: N18.0 | J11: 만성신장병 | K11: 명칭 | L11: =E11 -> 신장내과
C12: I12 | D12: 고혈압성신장질환 | I12: I12 | J12: 고혈압성신장병 | K12: 명칭
C13: K21 | D13: 위식도역류질환 | I13: K21 | J13: 위식도역류병 | K13: 명칭
C14: K58 | D14: 자극성장증후군 | I14: K58 | J14: 과민성대장증후군 | K14: 명칭
C16: 수정전 | H16: 수정후 | M16: 의원 | N16: 81.4 | O16: 병원급이상 | P16: 73.5
C17: 구분 | D17: 진료내역 | E17: 횟수 | F17: 일수 | H17: 진료과 | I17: 코드 | J17: 분류 | K17: 횟수 | L17: 일수 | M17: 변경사유 | N17: 점수 | O17: 단가 | P17: 비용
C18: 진찰료 | D18: 재진(주간) | E18: 1 | F18: 1 | H18: =C18 -> 진찰료 | I18: AA257 | J18: 재진진찰료(상급종합병원) | K18: =E18 -> 1 | L18: =F18 -> 1 | N18: 198.31 | O18: =P16 -> 73.5 | P18: =N18*K18*L18*O18 -> 14575.785
D19: 외래환자 의약품관리료(28일분) | J19: 외래환자 의약품관리료(28일분) | M19: 처방전 | O19: =O18 -> 73.5 | P19: =N19*K19*L19*O19 -> 0
J20: 0
C21: 약재료 | D21: 아가메이트젤리 | E21: 1 | F21: 21 | H21: =C21 -> 약재료 | J21: 아가메이트젤리 | M21: 처방전 | O21: =O19 -> 73.5 | P21: =N21*K21*L21*O21 -> 0
D22: 카투라엑스엘서방정 | E22: 1 | F22: 21 | J22: 카투라엑스엘서방정 | M22: 처방전 | O22: =O21 -> 73.5 | P22: =N22*K22*L22*O22 -> 0
D23: 외래환자조제복약지도료(21일분) | J23: 외래환자조제복약지도료(21일분) | M23: 처방전 | O23: =O22 -> 73.5 | P23: =N23*K23*L23*O23 -> 0
J24: =D24 -> 0 | K24: =E24 -> 0 | L24: =F24 -> 0 | O24: =O23 -> 73.5 | P24: =N24*K24*L24*O24 -> 0
C25: 주사료 | H25: =C25 -> 주사료 | J25: =D25 -> 0 | K25: =E25 -> 0 | L25: =F25 -> 0 | O25: =O24 -> 73.5 | P25: =N25*K25*L25*O25 -> 0
J26: =D26 -> 0 | K26: =E26 -> 0 | L26: =F26 -> 0 | O26: =O25 -> 73.5 | P26: =N26*K26*L26*O26 -> 0
C27: 처치및 수술료 | H27: =C27 -> 처치및 수술료 | J27: =D27 -> 0 | K27: =E27 -> 0 | L27: =F27 -> 0 | O27: =O26 -> 73.5 | P27: =N27*K27*L27*O27 -> 0
J28: =D28 -> 0 | K28: =E28 -> 0 | L28: =F28 -> 0 | O28: =O27 -> 73.5 | P28: =N28*K28*L28*O28 -> 0
C29: 검사료 | H29: =C29 -> 검사료 | J29: =D29 -> 0 | K29: =E29 -> 0 | L29: =F29 -> 0 | O29: =O28 -> 73.5 | P29: =N29*K29*L29*O29 -> 0
J30: =D30 -> 0 | K30: =E30 -> 0 | L30: =F30 -> 0 | O30: =O29 -> 73.5 | P30: =N30*K30*L30*O30 -> 0

Sheet 4-1번
A1: (별지 제 11-1호 서식) | D1: 문제 | E1: 4 | Y1: (의과외래)
A2: 서식번호 | C2: G | D2: I | E2: 0 | F2: 3 | G2: 요양급여비용명세서 | T2: 요양기관
T3: 기호 | V3: J-252525
A4: 등록번호 | C4: 123456 | G4: 증번호
A5: 가입자성명 | C5: 홍길동 | G5: 공상등 구분 | T5: 명칭 | V5: 우송상급종합병원
A6: 수진자성명 | C6: 홍길동어머니(여 65) | K6: -
A7: 상 병 명 | G7: 분류기호 | J7: 수술 | K7: 진료과목 | L7: 상해외인 | N7: 특정기호 | P7: 면허종류 | R7: 면허번호 | T7: 당원요양개시일 | V7: 당월요양급여일수(원내투약일수포함) | Y7: 진료결과
A8: 만성신장병 | G8: N18.0 | P8: 12345 | T8: 20180327 | V8: 1 | X8: 일 | Y8: 계속
A9: 고혈압성신장병 | G9: I12 | V9: 1 | X9: 일
A10: 위식도역류병 | G10: K21 | V10: 1 | X10: 일
A11: 과민성대장증후군 | G11: K58 | V11: 1 | X11: 일
A12: 총내원일수 | C12: 1 | D12: 일 | E12: 내원일 | F12: 1 2 3 4 5 6 7 8 9 10 11 12 13 14 15 16 17 18 19 20 21 22 23 24 25 26 27 28 29 30 31
A13: 구분 | E13: 기본진료,약제,특정재료(1) | G13: 진료행위(2) | J13: 처방전발급번호 | L13: 20170403-0005 | T13: 처방일수 | V13: 21 | W13: 본인부담금발생횟수 | X13: 1 | Y13: 직접조제횟수 | Z13: 0 | AB13: 2018
J14: 점검번호 | L14: 20170403-0005 | AB14: 의원 | AC14: 81.4
A15: 1.진찰료(외래관리료 포함) | B15: 1.초진 | D15: 회 | F15: 원 | G15: 야간및공휴 | I15: 회 | J15: 약품코드(일반명및제품명코드) | L15: 약품명(일반 및 제품명) | T15: 1회투약량 | V15: 1일투여횟수 | W15: 총투약일수 | AB15: 병원이상 | AC15: 73.5
B16: 2.재진 | C16: 1 | D16: 회 | E16: =X17 -> 14576 | F16: 원 | G16: 야간및공휴 | I16: 회 | J16: 코드 | L16: 분류(예외분류코드) | P16: 상한가 | R16: 단가 | T16: 1회투약량 | V16: 1회투여량또는실시횟수 | W16: 총투여일수또는실시횟수 | X16: 금액 | Z16: 면허종류 | AA16: 면허번호 | AB16: 점수 | AC16: 단가
B17: 3.의약품관리료 | E17: =X18 -> 0 | F17: 원 | J17: AA257 | L17: 재진진찰료(상급종합병원) | R17: =ROUND(AB17*AC17,0) -> 14576 | T17: 1 | V17: 1 | W17: 1 | X17: =R17*T17*V17*W17 -> 14576 | AB17: 198.31 | AC17: =AC15 -> 73.5
B18: 4.응급 및 회송료 | F18: 원 | R18: =ROUND(AB18*AC18,0) -> 0 | T18: 1 | V18: 1 | W18: 1 | X18: =R18*T18*V18*W18 -> 0 | AC18: =AC17 -> 73.5
B19: 5.가정간호기본방문료 | F19: 원 | T19: 1 | V19: 1 | W19: 1 | X19: =R19*T19*V19*W19 -> 0 | AC19: =AC18 -> 73.5
B20: 6.만성질환관리료 | D20: 회 | F20: 원 | R20: =ROUND(AB20*AC20,0) -> 0 | T20: 1 | V20: 1 | W20: 1 | X20: =R20*T20*V20*W20 -> 0 | AC20: =AC19 -> 73.5
A21: 3.투약료 | B21: 1.내복 | D21: 일분 | F21: 원 | I21: 원 | T21: 1 | V21: 1 | W21: 1 | X21: =R21*T21*V21*W21 -> 0 | AC21: =AC20 -> 73.5
B22: 2.외용 | D22: 일분 | F22: 원 | I22: 원 | R22: =ROUND(AB22*AC22,0) -> 0 | T22: 1 | V22: 1 | W22: 1 | X22: =R22*T22*V22*W22 -> 0 | AC22: =AC21 -> 73.5
B23: 3.처방전 | D23: 회 | R23: =ROUND(AB23*AC23,0) -> 0 | T23: 1 | V23: 1 | W23: 1 | X23: =R23*T23*V23*W23 -> 0 | AC23: =AC22 -> 73.5
A24: 4.주사료 | B24: 1.피하또는근육내 | D24: 일 | F24: 원 | I24: 원 | R24: =ROUND(AB24*AC24,0) -> 0 | T24: 1 | V24: 1 | W24: 1 | X24: =R24*T24*V24*W24 -> 0 | AC24: =AC23 -> 73.5
B25: 2.정맥내 | D25: 일 | F25: 원 | I25: 원 | R25: =ROUND(AB25*AC25,0) -> 0 | T25: 1 | V25: 1 | W25: 1 | X25: =R25*T25*V25*W25 -> 0 | AC25: =AC24 -> 73.5
B26: 3.수액제 | D26: 회 | F26: 원 | I26: 원 | R26: =ROUND(AB26*AC26,0) -> 0 | T26: 1 | V26: 1 | W26: 1 | X26: =R26*T26*V26*W26 -> 0 | AC26: =AC25 -> 73.5
B27: 4.기타 | D27: 회 | F27: 원 | I27: 원 | R27: =ROUND(AB27*AC27,0) -> 0 | T27: 1 | V27: 1 | W27: 1 | X27: =R27*T27*V27*W27 -> 0 | AC27: =AC26 -> 73.5
B28: 5.특정재료 | F28: 원 | R28: =ROUND(AB28*AC28,0) -> 0 | T28: 1 | V28: 1 | W28: 1 | X28: =R28*T28*V28*W28 -> 0 | AC28: =AC27 -> 73.5
B29: 6.수혈 | D29: 회 | F29: 원 | I29: 원 | R29: =ROUND(AB29*AC29,0) -> 0 | T29: 1 | V29: 1 | W29: 1 | X29: =R29*T29*V29*W29 -> 0 | AC29: =AC28 -> 73.5
A30: 5.마취료 | B30: 1.. | D30: 회 | F30: 원 | I30: 원 | R30: =ROUND(AB30*AC30,0) -> 0 | T30: 1 | V30: 1 | W30: 1 | X30: =R30*T30*V30*W30 -> 0 | AC30: =AC29 -> 73.5
A31: 6.이학요법료 | B31: 1.. | D31: 종 | F31: 원 | I31: 원 | R31: =ROUND(AB31*AC31,0) -> 0 | T31: 1 | V31: 1 | W31: 1 | X31: =R31*T31*V31*W31 -> 0 | AC31: =AC30 -> 73.5
A32: 7.정신요법료 | B32: 1.. | D32: 종 | F32: 원 | I32: 원 | R32: =ROUND(AB32*AC32,0) -> 0 | T32: 1 | V32: 1 | W32: 1 | X32: =R32*T32*V32*W32 -> 0 | AC32: =AC31 -> 73.5
A33: 8.처치및수술료 | B33: 1.처치및수술 | D33: 종 | E33: =X19+X21 -> 0 | F33: 원 | G33: =X20 -> 0 | I33: 원 | R33: =ROUND(AB33*AC33,0) -> 0 | T33: 1 | V33: 1 | W33: 1 | X33: =R33*T33*V33*W33 -> 0 | AC33: =AC32 -> 73.5
B34: 3.케스트 | D34: 회 | F34: 원 | I34: 원 | R34: =ROUND(AB34*AC34,0) -> 0 | T34: 1 | V34: 1 | W34: 1 | X34: =R34*T34*V34*W34 -> 0 | AC34: =AC33 -> 73.5
A35: 9.검사료 | B35: 1.자체검사 | D35: 종 | F35: 원 | I35: 원 | R35: =ROUND(AB35*AC35,0) -> 0 | T35: 1 | V35: 1 | W35: 1 | X35: =R35*T35*V35*W35 -> 0 | AC35: =AC34 -> 73.5
B36: 2.위탁검사관리 | F36: 원 | R36: =ROUND(AB36*AC36,0) -> 0 | T36: 1 | V36: 1 | W36: 1 | X36: =R36*T36*V36*W36 -> 0 | AC36: =AC35 -> 73.5
B37: 3.위탁검사 | D37: 종 | F37: 원 | R37: =ROUND(AB37*AC37,0) -> 0 | T37: 1 | V37: 1 | W37: 1 | X37: =R37*T37*V37*W37 -> 0 | AC37: =AC36 -> 73.5
A38: 10.영상진단및방사선치료료 | B38: 1.진단 | D38: 종 | F38: 원 | I38: 원 | R38: =ROUND(AB38*AC38,0) -> 0 | T38: 1 | V38: 1 | W38: 1 | X38: =R38*T38*V38*W38 -> 0 | AC38: =AC37 -> 73.5
B39: 2.치료 | D39: 종 | F39: 원 | I39: 원 | R39: =ROUND(AB39*AC39,0) -> 0 | T39: 1 | V39: 1 | W39: 1 | X39: =R39*T39*V39*W39 -> 0 | AC39: =AC38 -> 73.5
A40: S.특수장비 | B40: 1.CT | D40: 회 | F40: 원 | I40: 원 | R40: =ROUND(AB40*AC40,0) -> 0 | T40: 1 | V40: 1 | W40: 1 | X40: =R40*T40*V40*W40 -> 0 | AC40: =AC39 -> 73.5
B41: 2.MRI | D41: 회 | F41: 원 | I41: 원 | R41: =ROUND(AB41*AC41,0) -> 0 | T41: 1 | V41: 1 | W41: 1 | X41: =R41*T41*V41*W41 -> 0 | AC41: =AC40 -> 73.5
B42: 3.PET | D42: 회 | F42: 원 | I42: 원 | R42: =ROUND(AB42*AC42,0) -> 0 | T42: 1 | V42: 1 | W42: 1 | X42: =R42*T42*V42*W42 -> 0 | AC42: =AC41 -> 73.5
A43: T.특수재료 및 관련 행위료 | B43: 1.치료재료 | D43: 개 | F43: 원 | R43: =ROUND(AB43*AC43,0) -> 0 | T43: 1 | V43: 1 | W43: 1 | X43: =R43*T43*V43*W43 -> 0 | AC43: =AC42 -> 73.5
B44: 2.진료행위 | R44: =ROUND(AB44*AC44,0) -> 0 | T44: 1 | V44: 1 | W44: 1 | X44: =R44*T44*V44*W44 -> 0 | AC44: =AC43 -> 73.5
A45: A.100분의50본인부담 | B45: 1.의약품 | F45: 원 | I45: 원 | R45: =ROUND(AB45*AC45,0) -> 0 | T45: 1 | V45: 1 | W45: 1 | X45: =R45*T45*V45*W45 -> 0 | AC45: =AC44 -> 73.5
B46: 2.치료재료 | F46: 원 | I46: 원 | R46: =ROUND(AB46*AC46,0) -> 0 | T46: 1 | V46: 1 | W46: 1 | X46: =R46*T46*V46*W46 -> 0 | AC46: =AC45 -> 73.5
B47: 3.진료행위 | F47: 원 | I47: 원 | R47: =ROUND(AB47*AC47,0) -> 0 | T47: 1 | V47: 1 | W47: 1 | X47: =R47*T47*V47*W47 -> 0 | AC47: =AC46 -> 73.5
A48: B.100분의80본인부담 | B48: 1.의약품 | F48: 원 | I48: 원 | R48: =ROUND(AB48*AC48,0) -> 0 | T48: 1 | V48: 1 | W48: 1 | X48: =R48*T48*V48*W48 -> 0 | AC48: =AC47 -> 73.5
B49: 2.치료재료 | F49: 원 | I49: 원 | R49: =ROUND(AB49*AC49,0) -> 0 | T49: 1 | V49: 1 | W49: 1 | X49: =R49*T49*V49*W49 -> 0 | AC49: =AC48 -> 73.5
B50: 3.진료행위 | F50: 원 | I50: 원 | R50: =ROUND(AB50*AC50,0) -> 0 | T50: 1 | V50: 1 | W50: 1 | X50: =R50*T50*V50*W50 -> 0 | AC50: =AC49 -> 73.5
A51: D.100분의30본인부담 | B51: 1.의약품 | F51: 원 | I51: 원 | R51: =ROUND(AB51*AC51,0) -> 0 | T51: 1 | V51: 1 | W51: 1 | X51: =R51*T51*V51*W51 -> 0 | AC51: =AC50 -> 73.5
B52: 2.치료재료 | F52: 원 | I52: 원 | R52: =ROUND(AB52*AC52,0) -> 0 | T52: 1 | V52: 1 | W52: 1 | X52: =R52*T52*V52*W52 -> 0 | AC52: =AC51 -> 73.5
B53: 3.진료행위 | F53: 원 | I53: 원 | R53: =ROUND(AB53*AC53,0) -> 0 | T53: 1 | V53: 1 | W53: 1 | X53: =R53*T53*V53*W53 -> 0 | AC53: =AC52 -> 73.5
A54: E.100분의90본인부담 | B54: 1.의약품 | F54: 원 | I54: 원 | R54: =ROUND(AB54*AC54,0) -> 0 | T54: 1 | V54: 1 | W54: 1 | X54: =R54*T54*V54*W54 -> 0 | AC54: =AC53 -> 73.5
B55: 2.치료재료 | F55: 원 | I55: 원 | R55: =ROUND(AB55*AC55,0) -> 0 | T55: 1 | V55: 1 | W55: 1 | X55: =R55*T55*V55*W55 -> 0 | AC55: =AC54 -> 73.5
B56: 3.진료행위 | F56: 원 | I56: 원 | R56: =ROUND(AB56*AC56,0) -> 0 | T56: 1 | V56: 1 | W56: 1 | X56: =R56*T56*V56*W56 -> 0 | AC56: =AC55 -> 73.5
A57: U.건강보험100분의100본인부담 | B57: 1.의약품 | D57: 회 | F57: 원 | I57: 원 | J57: 특정내역
B58: 2.치료재료 | D58: 회 | F58: 원 | I58: 원
B59: 3.진료행위 | D59: 회 | F59: 원 | I59: 원
A60: V.보훈등100분의100본인부담 | B60: 1.의약품 | D60: 회 | F60: 원 | I60: 원
B61: 2.치료재료 | D61: 회 | F61: 원 | I61: 원
B62: 3.진료행위 | D62: 회 | F62: 원 | I62: 원
A63: W.비급여 | B63: 1.의약품 | D63: 회 | F63: 원 | I63: 원 | J63: 수술코드
B64: 2.치료재료 | D64: 회 | F64: 원 | I64: 원
B65: 3.진료행위 | D65: 회 | F65: 원 | I65: 원
A66: 투약료총액 | I66: 원 | J66: 18.장애인의료비 | T66: 원 | U66: 심사내역 | V66: 구분 | W66: 코드 | Y66: 조정 | AA66: 1.2
A67: 특수장비총액 | I67: 원 | J67: 19. 청구액 | O67: =E73-E74 -> 0 | T67: 원
A68: 특수재료 및 관련행위료 총액 | I68: 원 | J68: 20.본인부담상한액초과액 | T68: 원
A69: 보훈등 100분의 100 본인부담총액 | I69: 원 | J69: 21.요양급여비용총액2, 진료비총액 | T69: 원
A70: 비급여총액 | I70: 원 | J70: 22. 보훈청구액 | T70: 원
A71: 11. 소계 | E71: =SUM(E15:E43) -> 14576 | F71: 원 | G71: =SUM(G21:H43) -> 0 | I71: 원 | J71: 23.건강보험100분의100본인부담총액 | O71: =E70 -> 0 | T71: 원
A72: 12. 가산율 | E72: 25 | F72: % | G72: =ROUND(G71*E72/100,0) -> 0 | I72: 원 | J72: 24.보훈본인일부부담금 | T72: 원 | AA72: 감1
A73: 15. 요양급여비용총액1 | E73: =E71+G71+G72 -> 14576 | I73: 원 | J73: 25.100분의100미만총액 | T73: 원 | AA73: 감2
A74: 16. 본인일부부담금 | E74: =E73 -> 14576 | I74: 원 | J74: 26.100분의100미만본인일부부담금 | T74: 원 | AA74: 증1
A75: 17. 지원금 | I75: 원 | J75: 27.100분의100미만청구액 | T75: 원 | AA75: 증2
A76: 일련번호 | E76: #심사조정 | J76: 28.100분의100미만보훈청구액 | T76: 원 | V76: 계
J77: [정률] | V77: 190mm*320mm(일반용지 60g/m^2(재활용품)

Sheet 5번
C1: 문제번호 | D1: 5
C2: 학반 | D2: A
C3: 학번 | D3: 201620014
C4: 성명 | D4: 홍길동
C5: 조명칭 | D5: 구름
C6: 조원들 | D6: 김길동, 홍길동, 박길동, 이길동
C7: 요양기관구분 | D7: 의원
A9: 수정전 | G9: 수정후
A10: 성별 | B10: 나이 | C10: 코드 | D10: 병명 | E10: 진료과 | G10: =A10 -> 성별 | H10: =B10 -> 나이 | I10: =C10 -> 코드 | J10: =D10 -> 병명 | K10: 변경사유 | L10: 진료과
A11: 여 | B11: 61 | C11: I120 | D11: 신부전을 동반한 고혈압성신장질환 | E11: 신장내과 | G11: =A11 -> 여 | H11: =B11 -> 61 | I11: I12.0 | J11: 신부전을 동반한 고혈압성 신장병 | K11: 명칭 | L11: =E11 -> 신장내과
C12: N180 | D12: 만성신부전 | I12: N18.0 | J12: 만성신장병 | K12: 명칭
C13: D50 | D13: 철결핍성빈혈 | I13: D50 | J13: 철결핍성빈혈
I14: =C14 -> 0 | J14: =D14 -> 0
C16: 수정전 | H16: 수정후 | M16: 의원 | N16: 81.4 | O16: 병원급이상 | P16: 73.5
C17: 구분 | D17: 진료내역 | E17: 횟수 | F17: 일수 | H17: 진료과 | I17: 코드 | J17: 분류 | K17: 횟수 | L17: 일수 | M17: 변경사유 | N17: 점수 | O17: 단가 | P17: 비용
C18: 진찰료 | D18: 재진(주간) | E18: 1 | F18: 1 | H18: =C18 -> 진찰료 | I18: AA254 | J18: 재진진찰료(의원) | K18: 1 | L18: 1 | M18: 명칭 | N18: 134.47 | O18: =P16 -> 73.5 | P18: =N18*K18*L18*O18 -> 9883.545
I19: AL801 | J19: 의약품관리료(의원,1일) | K19: 1 | L19: 1 | M19: 추가 | N19: 2.34 | O19: =O18 -> 73.5 | P19: =N19*K19*L19*O19 -> 171.99
C20: 약재료 | D20: 외래환자조제복약지도료(31일분) | H20: =C20 -> 약재료 | I20: 0 | J20: 외래환자조제복약지도료(31일분) | K20: 0 | L20: 0 | M20: 처방전 | O20: =O19 -> 73.5 | P20: =N20*K20*L20*O20 -> 0
D21: 아스트릭스캅셀 | E21: 1 | F21: 31 | I21: 0 | J21: 아스트릭스캅셀 | K21: 0 | L21: 0 | M21: 처방전 | O21: =O20 -> 73.5 | P21: =N21*K21*L21*O21 -> 0
D22: 클래리시드엑스엘서방정 | E22: 1 | F22: 14 | I22: 0 | J22: 클래리시드엑스엘서방정 | K22: 0 | L22: 0 | M22: 처방전 | O22: =O21 -> 73.5 | P22: =N22*K22*L22*O22 -> 0
D23: 레가론캅셀 | E23: 3 | F23: 14 | I23: 0 | J23: 레가론캅셀 | K23: 0 | L23: 0 | M23: 처방전 | O23: =O22 -> 73.5 | P23: =N23*K23*L23*O23 -> 0
D24: 네푸로정 | E24: 3 | F24: 17 | I24: 0 | J24: 네푸로정 | K24: 0 | L24: 0 | M24: 처방전 | O24: =O23 -> 73.5 | P24: =N24*K24*L24*O24 -> 0
D25: 피리독신 | E25: 1 | F25: 14 | I25: 0 | J25: 피리독신 | K25: 0 | L25: 0 | M25: 처방전 | O25: =O24 -> 73.5 | P25: =N25*K25*L25*O25 -> 0
D26: 레날민정 | E26: 1 | F26: 31 | I26: 0 | J26: 레날민정 | K26: 0 | L26: 0 | M26: 처방전 | O26: =O25 -> 73.5 | P26: =N26*K26*L26*O26 -> 0
D27: 리포덱스정 | E27: 3 | F27: 14 | I27: 0 | J27: 리포덱스정 | K27: 0 | L27: 0 | M27: 처방전 | O27: =O26 -> 73.5 | P27: =N27*K27*L27*O27 -> 0
D28: 리믹스정 | E28: 1 | F28: 16 | I28: 0 | J28: 리믹스정 | K28: 0 | L28: 0 | M28: 처방전 | O28: =O27 -> 73.5 | P28: =N28*K28*L28*O28 -> 0
I29: 0 | J29: 0 | K29: 0 | L29: 0
C30: 주사료 | D30: 정맥내점적주사 | E30: 1 | F30: 1 | H30: =C30 -> 주사료 | I30: KK053 | J30: 정맥내점적주사(501-1000ml) | K30: 1 | L30: 1 | M30: 명칭 | N30: 38.58 | O30: =O28 -> 73.5 | P30: =N30*K30*L30*O30 -> 2835.63
D31: 피하근육내주사 | E31: 1 | F31: 1 | I31: KK010 | J31: 피하 또는 근육내주사 | K31: 1 | L31: 1 | M31: 명칭 | N31: 14.7 | O31: =O30 -> 73.5 | P31: =N31*K31*L31*O31 -> 1080.45
I32: 678900040 | J32: 10% 포도당가엔에이.케이 주2 1000ml | K32: 1 | L32: 1 | M32: 주사약추가 | N32: 1968 | O32: 1 | P32: =N32*K32*L32*O32 -> 1968
I33: ??? | J33: 근육주사약 | K33: 1 | L33: 1 | M33: 주사약추가 | N33: 1000 | O33: 1 | P33: =N33*K33*L33*O33 -> 1000
O34: =O31 -> 73.5 | P34: =N34*K34*L34*O34 -> 0
C35: 처치및 수술료 | H35: =C35 -> 처치및 수술료 | J35: =D35 -> 0 | K35: =E35 -> 0 | L35: =F35 -> 0 | O35: =O34 -> 73.5 | P35: =N35*K35*L35*O35 -> 0
J36: =D36 -> 0 | K36: =E36 -> 0 | L36: =F36 -> 0 | O36: =O35 -> 73.5 | P36: =N36*K36*L36*O36 -> 0
C37: 검사료 | H37: =C37 -> 검사료 | J37: =D37 -> 0 | K37: =E37 -> 0 | L37: =F37 -> 0 | O37: =O34 -> 73.5 | P37: =N37*K37*L37*O37 -> 0
J38: =D38 -> 0 | K38: =E38 -> 0 | L38: =F38 -> 0 | O38: =O35 -> 73.5 | P38: =N38*K38*L38*O38 -> 0

Sheet 5-1번
A1: (별지 제 11-1호 서식) | D1: 문제 | E1: 5 | Y1: (의과외래)
A2: 서식번호 | C2: G | D2: I | E2: 0 | F2: 3 | G2: 요양급여비용명세서 | T2: 요양기관
T3: 기호 | V3: J-252525
A4: 등록번호 | C4: 123456 | G4: 증번호
A5: 가입자성명 | C5: 홍길동 | G5: 공상등 구분 | T5: 명칭 | V5: 우송의원
A6: 수진자성명 | C6: 홍길동어머니(여 65) | K6: -
A7: 상 병 명 | G7: 분류기호 | J7: 수술 | K7: 진료과목 | L7: 상해외인 | N7: 특정기호 | P7: 면허종류 | R7: 면허번호 | T7: 당원요양개시일 | V7: 당월요양급여일수(원내투약일수포함) | Y7: 진료결과
A8: 신부전을 동반한 고혈압성 신장병 | G8: I12.0 | P8: 12345 | T8: 20180327 | V8: 4 | X8: 일 | Y8: 계속
A9: 만성신장병 | G9: N18.0 | V9: 4 | X9: 일
A10: 철결핍성빈혈 | G10: D50 | V10: 4 | X10: 일
X11: 일
A12: 총내원일수 | C12: 1 | D12: 일 | E12: 내원일 | F12: 1 2 3 4 5 6 7 8 9 10 11 12 13 14 15 16 17 18 19 20 21 22 23 24 25 26 27 28 29 30 31
A13: 구분 | E13: 기본진료,약제,특정재료(1) | G13: 진료행위(2) | J13: 처방전발급번호 | L13: 20170403-0005 | T13: 처방일수 | V13: 21 | W13: 본인부담금발생횟수 | X13: 1 | Y13: 직접조제횟수 | Z13: 0 | AB13: 2018
J14: 점검번호 | L14: 20170403-0005 | AB14: 의원 | AC14: 81.4
A15: 1.진찰료(외래관리료 포함) | B15: 1.초진 | D15: 회 | F15: 원 | G15: 야간및공휴 | I15: 회 | J15: 약품코드(일반명및제품명코드) | L15: 약품명(일반 및 제품명) | T15: 1회투약량 | V15: 1일투여횟수 | W15: 총투약일수 | AB15: 병원이상 | AC15: 73.5
B16: 2.재진 | C16: 1 | D16: 회 | E16: =X17 -> 16142 | F16: 원 | G16: 야간및공휴 | I16: 회 | J16: 코드 | L16: 분류(예외분류코드) | P16: 상한가 | R16: 단가 | T16: 1회투약량 | V16: 1회투여량또는실시횟수 | W16: 총투여일수또는실시횟수 | X16: 금액 | Z16: 면허종류 | AA16: 면허번호 | AB16: 점수 | AC16: 단가
B17: 3.의약품관리료 | E17: =X18 -> 190 | F17: 원 | J17: AA254 | L17: 재진진찰료(의원) | R17: =ROUND(AB17*AC17,0) -> 16142 | T17: 1 | V17: 1 | W17: 1 | X17: =R17*T17*V17*W17 -> 16142 | AB17: 198.31 | AC17: 81.4
B18: 4.응급 및 회송료 | F18: 원 | J18: AL801 | L18: 의약품관리료(의원,1일) | R18: =ROUND(AB18*AC18,0) -> 190 | T18: 1 | V18: 1 | W18: 1 | X18: =R18*T18*V18*W18 -> 190 | AB18: 2.34 | AC18: =AC17 -> 81.4
B19: 5.가정간호기본방문료 | F19: 원 | J19: KK053 | L19: 정맥내점적주사(501-1000ml) | R19: =ROUND(AB19*AC19,0) -> 3140 | T19: 1 | V19: 1 | W19: 1 | X19: =R19*T19*V19*W19 -> 3140 | AB19: 38.58 | AC19: =AC18 -> 81.4
B20: 6.만성질환관리료 | D20: 회 | F20: 원 | J20: KK010 | L20: 피하 또는 근육내주사 | R20: =ROUND(AB20*AC20,0) -> 1197 | T20: 1 | V20: 1 | W20: 1 | X20: =R20*T20*V20*W20 -> 1197 | AB20: 14.7 | AC20: =AC19 -> 81.4
A21: 3.투약료 | B21: 1.내복 | D21: 일분 | F21: 원 | I21: 원 | J21: 678900040 | L21: 10% 포도당가엔에이.케이 주2 1000ml | R21: 1968 | T21: 1 | V21: 1 | W21: 1 | X21: =R21*T21*V21*W21 -> 1968 | AC21: =AC20 -> 81.4
B22: 2.외용 | D22: 일분 | F22: 원 | I22: 원 | J22: ??? | L22: 근육주사약 | R22: 1000 | T22: 1 | V22: 1 | W22: 1 | X22: =R22*T22*V22*W22 -> 1000 | AC22: =AC21 -> 81.4
B23: 3.처방전 | D23: 회 | R23: =ROUND(AB23*AC23,0) -> 0 | T23: 1 | V23: 1 | W23: 1 | X23: =R23*T23*V23*W23 -> 0 | AC23: =AC22 -> 81.4
A24: 4.주사료 | B24: 1.피하또는근육내 | C24: 1 | D24: 일 | E24: =X22 -> 1000 | F24: 원 | G24: =X20 -> 1197 | I24: 원 | R24: =ROUND(AB24*AC24,0) -> 0 | T24: 1 | V24: 1 | W24: 1 | X24: =R24*T24*V24*W24 -> 0 | AC24: =AC23 -> 81.4
B25: 2.정맥내 | D25: 일 | F25: 원 | I25: 원 | R25: =ROUND(AB25*AC25,0) -> 0 | T25: 1 | V25: 1 | W25: 1 | X25: =R25*T25*V25*W25 -> 0 | AC25: =AC24 -> 81.4
B26: 3.수액제 | C26: 1 | D26: 회 | E26: =X21 -> 1968 | F26: 원 | G26: =X19 -> 3140 | I26: 원 | R26: =ROUND(AB26*AC26,0) -> 0 | T26: 1 | V26: 1 | W26: 1 | X26: =R26*T26*V26*W26 -> 0 | AC26: =AC25 -> 81.4
B27: 4.기타 | D27: 회 | F27: 원 | I27: 원 | R27: =ROUND(AB27*AC27,0) -> 0 | T27: 1 | V27: 1 | W27: 1 | X27: =R27*T27*V27*W27 -> 0 | AC27: =AC26 -> 81.4
B28: 5.특정재료 | F28: 원 | R28: =ROUND(AB28*AC28,0) -> 0 | T28: 1 | V28: 1 | W28: 1 | X28: =R28*T28*V28*W28 -> 0 | AC28: =AC27 -> 81.4
B29: 6.수혈 | D29: 회 | F29: 원 | I29: 원 | R29: =ROUND(AB29*AC29,0) -> 0 | T29: 1 | V29: 1 | W29: 1 | X29: =R29*T29*V29*W29 -> 0 | AC29: =AC28 -> 81.4
A30: 5.마취료 | B30: 1.. | D30: 회 | F30: 원 | I30: 원 | R30: =ROUND(AB30*AC30,0) -> 0 | T30: 1 | V30: 1 | W30: 1 | X30: =R30*T30*V30*W30 -> 0 | AC30: =AC29 -> 81.4
A31: 6.이학요법료 | B31: 1.. | D31: 종 | F31: 원 | I31: 원 | R31: =ROUND(AB31*AC31,0) -> 0 | T31: 1 | V31: 1 | W31: 1 | X31: =R31*T31*V31*W31 -> 0 | AC31: =AC30 -> 81.4
A32: 7.정신요법료 | B32: 1.. | D32: 종 | F32: 원 | I32: 원 | R32: =ROUND(AB32*AC32,0) -> 0 | T32: 1 | V32: 1 | W32: 1 | X32: =R32*T32*V32*W32 -> 0 | AC32: =AC31 -> 81.4
A33: 8.처치및수술료 | B33: 1.처치및수술 | D33: 종 | F33: 원 | I33: 원 | R33: =ROUND(AB33*AC33,0) -> 0 | T33: 1 | V33: 1 | W33: 1 | X33: =R33*T33*V33*W33 -> 0 | AC33: =AC32 -> 81.4
B34: 3.케스트 | D34: 회 | F34: 원 | I34: 원 | R34: =ROUND(AB34*AC34,0) -> 0 | T34: 1 | V34: 1 | W34: 1 | X34: =R34*T34*V34*W34 -> 0 | AC34: =AC33 -> 81.4
A35: 9.검사료 | B35: 1.자체검사 | D35: 종 | F35: 원 | I35: 원 | R35: =ROUND(AB35*AC35,0) -> 0 | T35: 1 | V35: 1 | W35: 1 | X35: =R35*T35*V35*W35 -> 0 | AC35: =AC34 -> 81.4
B36: 2.위탁검사관리 | F36: 원 | R36: =ROUND(AB36*AC36,0) -> 0 | T36: 1 | V36: 1 | W36: 1 | X36: =R36*T36*V36*W36 -> 0 | AC36: =AC35 -> 81.4
B37: 3.위탁검사 | D37: 종 | F37: 원 | R37: =ROUND(AB37*AC37,0) -> 0 | T37: 1 | V37: 1 | W37: 1 | X37: =R37*T37*V37*W37 -> 0 | AC37: =AC36 -> 81.4
A38: 10.영상진단및방사선치료료 | B38: 1.진단 | D38: 종 | F38: 원 | I38: 원 | R38: =ROUND(AB38*AC38,0) -> 0 | T38: 1 | V38: 1 | W38: 1 | X38: =R38*T38*V38*W38 -> 0 | AC38: =AC37 -> 81.4
B39: 2.치료 | D39: 종 | F39: 원 | I39: 원 | R39: =ROUND(AB39*AC39,0) -> 0 | T39: 1 | V39: 1 | W39: 1 | X39: =R39*T39*V39*W39 -> 0 | AC39: =AC38 -> 81.4
A40: S.특수장비 | B40: 1.CT | D40: 회 | F40: 원 | I40: 원 | R40: =ROUND(AB40*AC40,0) -> 0 | T40: 1 | V40: 1 | W40: 1 | X40: =R40*T40*V40*W40 -> 0 | AC40: =AC39 -> 81.4
B41: 2.MRI | D41: 회 | F41: 원 | I41: 원 | R41: =ROUND(AB41*AC41,0) -> 0 | T41: 1 | V41: 1 | W41: 1 | X41: =R41*T41*V41*W41 -> 0 | AC41: =AC40 -> 81.4
B42: 3.PET | D42: 회 | F42: 원 | I42: 원 | R42: =ROUND(AB42*AC42,0) -> 0 | T42: 1 | V42: 1 | W42: 1 | X42: =R42*T42*V42*W42 -> 0 | AC42: =AC41 -> 81.4
A43: T.특수재료 및 관련 행위료 | B43: 1.치료재료 | D43: 개 | F43: 원 | R43: =ROUND(AB43*AC43,0) -> 0 | T43: 1 | V43: 1 | W43: 1 | X43: =R43*T43*V43*W43 -> 0 | AC43: =AC42 -> 81.4
B44: 2.진료행위 | R44: =ROUND(AB44*AC44,0) -> 0 | T44: 1 | V44: 1 | W44: 1 | X44: =R44*T44*V44*W44 -> 0 | AC44: =AC43 -> 81.4
A45: A.100분의50본인부담 | B45: 1.의약품 | F45: 원 | I45: 원 | R45: =ROUND(AB45*AC45,0) -> 0 | T45: 1 | V45: 1 | W45: 1 | X45: =R45*T45*V45*W45 -> 0 | AC45: =AC44 -> 81.4
B46: 2.치료재료 | F46: 원 | I46: 원 | R46: =ROUND(AB46*AC46,0) -> 0 | T46: 1 | V46: 1 | W46: 1 | X46: =R46*T46*V46*W46 -> 0 | AC46: =AC45 -> 81.4
B47: 3.진료행위 | F47: 원 | I47: 원 | R47: =ROUND(AB47*AC47,0) -> 0 | T47: 1 | V47: 1 | W47: 1 | X47: =R47*T47*V47*W47 -> 0 | AC47: =AC46 -> 81.4
A48: B.100분의80본인부담 | B48: 1.의약품 | F48: 원 | I48: 원 | R48: =ROUND(AB48*AC48,0) -> 0 | T48: 1 | V48: 1 | W48: 1 | X48: =R48*T48*V48*W48 -> 0 | AC48: =AC47 -> 81.4
B49: 2.치료재료 | F49: 원 | I49: 원 | R49: =ROUND(AB49*AC49,0) -> 0 | T49: 1 | V49: 1 | W49: 1 | X49: =R49*T49*V49*W49 -> 0 | AC49: =AC48 -> 81.4
B50: 3.진료행위 | F50: 원 | I50: 원 | R50: =ROUND(AB50*AC50,0) -> 0 | T50: 1 | V50: 1 | W50: 1 | X50: =R50*T50*V50*W50 -> 0 | AC50: =AC49 -> 81.4
A51: D.100분의30본인부담 | B51: 1.의약품 | F51: 원 | I51: 원 | R51: =ROUND(AB51*AC51,0) -> 0 | T51: 1 | V51: 1 | W51: 1 | X51: =R51*T51*V51*W51 -> 0 | AC51: =AC50 -> 81.4
B52: 2.치료재료 | F52: 원 | I52: 원 | R52: =ROUND(AB52*AC52,0) -> 0 | T52: 1 | V52: 1 | W52: 1 | X52: =R52*T52*V52*W52 -> 0 | AC52: =AC51 -> 81.4
B53: 3.진료행위 | F53: 원 | I53: 원 | R53: =ROUND(AB53*AC53,0) -> 0 | T53: 1 | V53: 1 | W53: 1 | X53: =R53*T53*V53*W53 -> 0 | AC53: =AC52 -> 81.4
A54: E.100분의90본인부담 | B54: 1.의약품 | F54: 원 | I54: 원 | R54: =ROUND(AB54*AC54,0) -> 0 | T54: 1 | V54: 1 | W54: 1 | X54: =R54*T54*V54*W54 -> 0 | AC54: =AC53 -> 81.4
B55: 2.치료재료 | F55: 원 | I55: 원 | R55: =ROUND(AB55*AC55,0) -> 0 | T55: 1 | V55: 1 | W55: 1 | X55: =R55*T55*V55*W55 -> 0 | AC55: =AC54 -> 81.4
B56: 3.진료행위 | F56: 원 | I56: 원 | R56: =ROUND(AB56*AC56,0) -> 0 | T56: 1 | V56: 1 | W56: 1 | X56: =R56*T56*V56*W56 -> 0 | AC56: =AC55 -> 81.4
A57: U.건강보험100분의100본인부담 | B57: 1.의약품 | D57: 회 | F57: 원 | I57: 원 | J57: 특정내역
B58: 2.치료재료 | D58: 회 | F58: 원 | I58: 원
B59: 3.진료행위 | D59: 회 | F59: 원 | I59: 원
A60: V.보훈등100분의100본인부담 | B60: 1.의약품 | D60: 회 | F60: 원 | I60: 원
B61: 2.치료재료 | D61: 회 | F61: 원 | I61: 원
B62: 3.진료행위 | D62: 회 | F62: 원 | I62: 원
A63: W.비급여 | B63: 1.의약품 | D63: 회 | F63: 원 | I63: 원 | J63: 수술코드
B64: 2.치료재료 | D64: 회 | F64: 원 | I64: 원
B65: 3.진료행위 | D65: 회 | F65: 원 | I65: 원
A66: 투약료총액 | I66: 원 | J66: 18.장애인의료비 | T66: 원 | U66: 심사내역 | V66: 구분 | W66: 코드 | Y66: 조정 | AA66: 1.2
A67: 특수장비총액 | I67: 원 | J67: 19. 청구액 | O67: =E73-E74 -> 17088 | T67: 원
A68: 특수재료 및 관련행위료 총액 | I68: 원 | J68: 20.본인부담상한액초과액 | T68: 원
A69: 보훈등 100분의 100 본인부담총액 | I69: 원 | J69: 21.요양급여비용총액2, 진료비총액 | T69: 원
A70: 비급여총액 | I70: 원 | J70: 22. 보훈청구액 | T70: 원
A71: 11. 소계 | E71: =SUM(E15:E43) -> 19300 | F71: 원 | G71: =SUM(G21:H43) -> 4337 | I71: 원 | J71: 23.건강보험100분의100본인부담총액 | O71: =E70 -> 0 | T71: 원
A72: 12. 가산율 | E72: 15 | F72: % | G72: =ROUND(G71*E72/100,0) -> 651 | I72: 원 | J72: 24.보훈본인일부부담금 | T72: 원 | AA72: 감1
A73: 15. 요양급여비용총액1 | E73: =E71+G71+G72 -> 24288 | I73: 원 | J73: 25.100분의100미만총액 | T73: 원 | AA73: 감2
A74: 16. 본인일부부담금 | E74: =ROUNDDOWN(E73*0.3,-2) -> 7200 | I74: 원 | J74: 26.100분의100미만본인일부부담금 | T74: 원 | AA74: 증1
A75: 17. 지원금 | I75: 원 | J75: 27.100분의100미만청구액 | T75: 원 | AA75: 증2
A76: 일련번호 | E76: #심사조정 | J76: 28.100분의100미만보훈청구액 | T76: 원 | V76: 계
J77: [정률] | V77: 190mm*320mm(일반용지 60g/m^2(재활용품)

Sheet 6번
C1: 문제번호 | D1: 6
C2: 학반 | D2: A
C3: 학번 | D3: 201620014
C4: 성명 | D4: 홍길동
C5: 조명칭 | D5: 구름
C6: 조원들 | D6: 김길동, 홍길동, 박길동, 이길동
C7: 요양기관구분 | D7: 병원
A9: 수정전 | G9: 수정후
A10: 성별 | B10: 나이 | C10: 코드 | D10: 병명 | E10: 진료과 | G10: =A10 -> 성별 | H10: =B10 -> 나이 | I10: =C10 -> 코드 | J10: =D10 -> 병명 | K10: 변경사유 | L10: 진료과
A11: 여 | B11: 64 | C11: I120 | D11: 신부전을 동반한 고혈압성 신장질환 | E11: 신장내과 | G11: =A11 -> 여 | H11: =B11 -> 64 | I11: I12.0 | J11: 신부전을 동반한 고혈압성 신장병 | K11: 명칭 | L11: =E11 -> 신장내과
C12: D509 | D12: 상세불명의 철결핍성 빈혈 | I12: D50.9 | J12: =D12 -> 상세불명의 철결핍성 빈혈
I13: =C13 -> 0 | J13: =D13 -> 0
C15: 수정전 | H15: 수정후 | M15: 의원 | N15: 81.4 | O15: 병원급이상 | P15: 73.5
C16: 구분 | D16: 진료내역 | E16: 횟수 | F16: 일수 | H16: 진료과 | I16: 코드 | J16: 분류 | K16: 횟수 | L16: 일수 | M16: 변경사유 | N16: 점수 | O16: 단가 | P16: 비용
C17: 진찰료 | H17: =C17 -> 진찰료 | I17: AA255 | J17: 재진진찰료(병원,주간) | K17: 1 | L17: 1 | M17: 추가 | N17: 151.37 | O17: 73.5 | P17: =N17*K17*L17*O17 -> 11125.695
J18: =D18 -> 0 | K18: =E18 -> 0 | L18: =F18 -> 0 | O18: =O17 -> 73.5 | P18: =N18*K18*L18*O18 -> 0
C19: 약재료 | H19: =C19 -> 약재료 | J19: =D19 -> 0 | K19: =E19 -> 0 | L19: =F19 -> 0 | O19: =O18 -> 73.5 | P19: =N19*K19*L19*O19 -> 0
J20: =D20 -> 0 | K20: =E20 -> 0 | L20: =F20 -> 0 | O20: =O19 -> 73.5 | P20: =N20*K20*L20*O20 -> 0
C21: 주사료 | H21: =C21 -> 주사료 | J21: =D21 -> 0 | K21: =E21 -> 0 | L21: =F21 -> 0 | O21: =O20 -> 73.5 | P21: =N21*K21*L21*O21 -> 0
J22: =D22 -> 0 | K22: =E22 -> 0 | L22: =F22 -> 0 | O22: =O21 -> 73.5 | P22: =N22*K22*L22*O22 -> 0
C23: 처치및 수술료 | D23: 신장투석시 사용된 재료대 | E23: 1 | F23: 8 | H23: =C23 -> 처치및 수술료 | I23: O7021 | J23: 혈액투석재료대 | K23: =E23 -> 1 | L23: 1 | M23: 명칭, 횟수 | P23: 33900
I24: O7020 | J24: 혈액투석 [1회당] | K24: 1 | L24: 1 | M24: 추가 | N24: 1077.72 | O24: =O22 -> 73.5 | P24: =N24*K24*L24*O24 -> 79212.42
I25: 644904540 | J25: 헤모트레이트-비 1호 10L | K25: 1 | L25: 1 | M25: 추가 | O25: =O24 -> 73.5 | P25: 11764
O26: =O25 -> 73.5 | P26: =N26*K26*L26*O26 -> 0
C27: 검사료 | D27: 알칼리포스포타제 | E27: 1 | F27: 1 | H27: =C27 -> 검사료 | I27: B2602 | J27: 포스파타제(알칼리) | K27: =E27 -> 1 | L27: =F27 -> 1 | M27: 명칭 | N27: 20.09 | O27: =O26 -> 73.5 | P27: =N27*K27*L27*O27 -> 1476.615
D28: SGOT | E28: 1 | F28: 1 | I28: B2570 | J28: AST(SGOT) | K28: =E28 -> 1 | L28: =F28 -> 1 | M28: 명칭 | N28: 23.58 | O28: =O27 -> 73.5 | P28: =N28*K28*L28*O28 -> 1733.13
D29: SGPT | E29: 1 | F29: 1 | I29: B2580 | J29: ALT(SGPT) | K29: =E29 -> 1 | L29: =F29 -> 1 | M29: 명칭 | N29: 23.01 | O29: =O28 -> 73.5 | P29: =N29*K29*L29*O29 -> 1691.235
D30: 요소질소 | E30: 1 | F30: 1 | I30: C3730 | J30: 요소질소 [NPN 포함] | K30: =E30 -> 1 | L30: =F30 -> 1 | M30: 명칭 | N30: 21.52 | O30: =O29 -> 73.5 | P30: =N30*K30*L30*O30 -> 1581.72
D31: 크레아티닌 | E31: 1 | F31: 1 | I31: C3730 | J31: =D31 -> 크레아티닌 | K31: =E31 -> 1 | L31: =F31 -> 1 | N31: 16.75 | O31: =O30 -> 73.5 | P31: =N31*K31*L31*O31 -> 1231.125
D32: 요산 | E32: 1 | F32: 1 | I32: C3780 | J32: =D32 -> 요산 | K32: =E32 -> 1 | L32: =F32 -> 1 | N32: 17.89 | O32: =O31 -> 73.5 | P32: =N32*K32*L32*O32 -> 1314.915
D33: 혈색소(광전비색법) | E33: 1 | F33: 1 | I33: B1010 | J33: =D33 -> 혈색소(광전비색법) | K33: =E33 -> 1 | L33: =F33 -> 1 | N33: 16.96 | O33: =O32 -> 73.5 | P33: =N33*K33*L33*O33 -> 1246.56
D34: 헤마토크리트 | E34: 1 | F34: 1 | I34: B1020 | J34: =D34 -> 헤마토크리트 | K34: =E34 -> 1 | L34: =F34 -> 1 | N34: 10.94 | O34: =O33 -> 73.5 | P34: =N34*K34*L34*O34 -> 804.09
D35: 적혈구수 | E35: 1 | F35: 1 | I35: B1040 | J35: =D35 -> 적혈구수 | K35: =E35 -> 1 | L35: =F35 -> 1 | N35: 10.97 | O35: =O34 -> 73.5 | P35: =N35*K35*L35*O35 -> 806.295
D36: 백혈구수 | E36: 1 | F36: 1 | I36: B1050 | J36: =D36 -> 백혈구수 | K36: =E36 -> 1 | L36: =F36 -> 1 | N36: 10.99 | O36: =O35 -> 73.5 | P36: =N36*K36*L36*O36 -> 807.765
D37: 혈소판수 | E37: 1 | F37: 1 | I37: B1060 | J37: =D37 -> 혈소판수 | K37: =E37 -> 1 | L37: =F37 -> 1 | N37: 12.99 | O37: =O36 -> 73.5 | P37: =N37*K37*L37*O37 -> 954.765
D38: 적혈구침강속도 | E38: 1 | F38: 1 | I38: B1034 | J38: 적혈구침강속도(신속검사법) | K38: =E38 -> 1 | L38: =F38 -> 1 | M38: 명칭 | N38: 13.21 | O38: =O37 -> 73.5 | P38: =N38*K38*L38*O38 -> 970.935
D39: 호산구수 | E39: 1 | F39: 1 | I39: B1070 | J39: 호산구수(혈액) | K39: =E39 -> 1 | L39: =F39 -> 1 | M39: 명칭 | N39: 12.41 | O39: =O38 -> 73.5 | P39: =N39*K39*L39*O39 -> 912.135

Sheet 6-1번
A1: (별지 제 11-1호 서식) | D1: 문제 | E1: 6 | Y1: (의과외래)
A2: 서식번호 | C2: G | D2: I | E2: 0 | F2: 3 | G2: 요양급여비용명세서 | T2: 요양기관
T3: 기호 | V3: J-252525
A4: 등록번호 | C4: 253545 | G4: 증번호
A5: 가입자성명 | C5: 홍길동 | G5: 공상등 구분 | T5: 명칭 | V5: ='6번'!D7 -> 병원
A6: 수진자성명 | C6: 여 64 | K6: -
A7: 상 병 명 | G7: 분류기호 | J7: 수술 | K7: 진료과목 | L7: 상해외인 | N7: 특정기호 | P7: 면허종류 | R7: 면허번호 | T7: 당원요양개시일 | V7: 당월요양급여일수(원내투약일수포함) | Y7: 진료결과
A8: 신부전을 동반한 고혈압 | G8: I12.0 | P8: 12345 | V8: 1 | X8: 일 | Y8: 계속
A9: 상세불명의 철결핍성 빈혈 | G9: D50.9 | X9: 일
X10: 일
A11: 총내원일수 | C11: 1 | D11: 일 | E11: 내원일 | F11: 1 2 3 4 5 6 7 8 9 10 11 12 13 14 15 16 17 18 19 20 21 22 23 24 25 26 27 28 29 30 31
A12: 구분 | E12: 기본진료,약제,특정재료(1) | G12: 진료행위(2) | J12: 처방전발급번호 | L12: 20180330-0005 | T12: 처방일수 | V12: 0 | W12: 본인부담금발생횟수 | X12: 1 | Y12: 직접조제횟수 | Z12: 0 | AB12: 2018
J13: 점검번호 | L13: 5 | AB13: 의원 | AC13: 81.4
A14: 1.진찰료(외래관리료 포함) | B14: 1.초진 | D14: 회 | F14: 원 | G14: 야간및공휴 | I14: 회 | J14: 약품코드(일반명및제품명코드) | L14: 약품명(일반 및 제품명) | T14: 1회투약량 | V14: 1일투여횟수 | W14: 총투약일수 | AB14: 병원이상 | AC14: 73.5
B15: 2.재진 | C15: 1 | D15: 회 | E15: =X16 -> 11126 | F15: 원 | G15: 야간및공휴 | I15: 회 | J15: 코드 | L15: 분류(예외분류코드) | P15: 상한가 | R15: 단가 | T15: 1회투약량 | V15: 1회투여량또는실시횟수 | W15: 총투여일수또는실시횟수 | X15: 금액 | Z15: 면허종류 | AA15: 면허번호 | AB15: 점수 | AC15: 단가
B16: 3.의약품관리료 | F16: 원 | J16: ='6번'!I17 -> AA255 | L16: ='6번'!J17 -> 재진진찰료(병원,주간) | R16: =ROUND(AB16*AC16,0) -> 11126 | T16: 1 | V16: ='6번'!K17 -> 1 | W16: ='6번'!L17 -> 1 | X16: =R16*T16*V16*W16 -> 11126 | AB16: ='6번'!N17 -> 151.37 | AC16: =AC14 -> 73.5
B17: 4.응급 및 회송료 | F17: 원 | J17: ='6번'!I18 -> 0 | L17: ='6번'!J18 -> 0 | R17: =ROUND(AB17*AC17,0) -> 0 | T17: 1 | V17: ='6번'!K18 -> 0 | W17: ='6번'!L18 -> 0 | X17: =R17*T17*V17*W17 -> 0 | AB17: ='6번'!N18 -> 0 | AC17: =AC16 -> 73.5
B18: 5.가정간호기본방문료 | F18: 원 | J18: ='6번'!I19 -> 0 | L18: ='6번'!J19 -> 0 | R18: =ROUND(AB18*AC18,0) -> 0 | T18: 1 | V18: ='6번'!K19 -> 0 | W18: ='6번'!L19 -> 0 | X18: =R18*T18*V18*W18 -> 0 | AB18: ='6번'!N19 -> 0 | AC18: =AC17 -> 73.5
B19: 6.만성질환관리료 | D19: 회 | F19: 원 | J19: ='6번'!I20 -> 0 | L19: ='6번'!J20 -> 0 | R19: =ROUND(AB19*AC19,0) -> 0 | T19: 1 | V19: ='6번'!K20 -> 0 | W19: ='6번'!L20 -> 0 | X19: =R19*T19*V19*W19 -> 0 | AB19: ='6번'!N20 -> 0 | AC19: =AC18 -> 73.5
A20: 3.투약료 | B20: 1.내복 | D20: 일분 | F20: 원 | I20: 원 | J20: ='6번'!I21 -> 0 | L20: ='6번'!J21 -> 0 | R20: =ROUND(AB20*AC20,0) -> 0 | T20: 1 | V20: ='6번'!K21 -> 0 | W20: ='6번'!L21 -> 0 | X20: =R20*T20*V20*W20 -> 0 | AB20: ='6번'!N21 -> 0 | AC20: =AC19 -> 73.5
B21: 2.외용 | D21: 일분 | F21: 원 | I21: 원 | J21: ='6번'!I22 -> 0 | L21: ='6번'!J22 -> 0 | R21: =ROUND(AB21*AC21,0) -> 0 | T21: 1 | V21: ='6번'!K22 -> 0 | W21: ='6번'!L22 -> 0 | X21: =R21*T21*V21*W21 -> 0 | AB21: ='6번'!N22 -> 0 | AC21: =AC20 -> 73.5
B22: 3.처방전 | D22: 회 | J22: ='6번'!I23 -> O7021 | L22: ='6번'!J23 -> 혈액투석재료대 | R22: ='6번'!P23 -> 33900 | T22: 1 | V22: ='6번'!K23 -> 1 | W22: ='6번'!L23 -> 1 | X22: =R22*T22*V22*W22 -> 33900 | AB22: ='6번'!N23 -> 0 | AC22: =AC21 -> 73.5
A23: 4.주사료 | B23: 1.피하또는근육내 | D23: 일 | F23: 원 | I23: 원 | J23: ='6번'!I24 -> O7020 | L23: ='6번'!J24 -> 혈액투석 [1회당] | R23: =ROUND(AB23*AC23,0) -> 79212 | T23: 1 | V23: ='6번'!K24 -> 1 | W23: ='6번'!L24 -> 1 | X23: =R23*T23*V23*W23 -> 79212 | AB23: ='6번'!N24 -> 1077.72 | AC23: =AC22 -> 73.5
B24: 2.정맥내 | D24: 일 | F24: 원 | I24: 원 | J24: ='6번'!I25 -> 644904540 | L24: ='6번'!J25 -> 헤모트레이트-비 1호 10L | R24: ='6번'!P25 -> 11764 | T24: 1 | V24: ='6번'!K25 -> 1 | W24: ='6번'!L25 -> 1 | X24: =R24*T24*V24*W24 -> 11764 | AB24: ='6번'!N25 -> 0 | AC24: =AC23 -> 73.5
B25: 3.수액제 | D25: 회 | F25: 원 | I25: 원 | J25: ='6번'!I26 -> 0 | L25: ='6번'!J26 -> 0 | R25: =ROUND(AB25*AC25,0) -> 0 | T25: 1 | X25: =R25*T25*V25*W25 -> 0 | AB25: ='6번'!N26 -> 0 | AC25: =AC24 -> 73.5
B26: 4.기타 | D26: 회 | F26: 원 | I26: 원 | J26: ='6번'!I27 -> B2602 | L26: ='6번'!J27 -> 포스파타제(알칼리) | R26: =ROUND(AB26*AC26,0) -> 1477 | T26: 1 | V26: ='6번'!K27 -> 1 | W26: ='6번'!L27 -> 1 | X26: =R26*T26*V26*W26 -> 1477 | AB26: ='6번'!N27 -> 20.09 | AC26: =AC25 -> 73.5
B27: 5.특정재료 | F27: 원 | J27: ='6번'!I28 -> B2570 | L27: ='6번'!J28 -> AST(SGOT) | R27: =ROUND(AB27*AC27,0) -> 1733 | T27: 1 | V27: ='6번'!K28 -> 1 | W27: ='6번'!L28 -> 1 | X27: =R27*T27*V27*W27 -> 1733 | AB27: ='6번'!N28 -> 23.58 | AC27: =AC26 -> 73.5
B28: 6.수혈 | D28: 회 | F28: 원 | I28: 원 | J28: ='6번'!I29 -> B2580 | L28: ='6번'!J29 -> ALT(SGPT) | R28: =ROUND(AB28*AC28,0) -> 1691 | T28: 1 | V28: ='6번'!K29 -> 1 | W28: ='6번'!L29 -> 1 | X28: =R28*T28*V28*W28 -> 1691 | AB28: ='6번'!N29 -> 23.01 | AC28: =AC27 -> 73.5
A29: 5.마취료 | B29: 1.. | D29: 회 | F29: 원 | I29: 원 | J29: ='6번'!I30 -> C3730 | L29: ='6번'!J30 -> 요소질소 [NPN 포함] | R29: =ROUND(AB29*AC29,0) -> 1582 | T29: 1 | V29: ='6번'!K30 -> 1 | W29: ='6번'!L30 -> 1 | X29: =R29*T29*V29*W29 -> 1582 | AB29: ='6번'!N30 -> 21.52 | AC29: =AC28 -> 73.5
A30: 6.이학요법료 | B30: 1.. | D30: 종 | F30: 원 | I30: 원 | J30: ='6번'!I31 -> C3730 | L30: ='6번'!J31 -> 크레아티닌 | R30: =ROUND(AB30*AC30,0) -> 1231 | T30: 1 | V30: ='6번'!K31 -> 1 | W30: ='6번'!L31 -> 1 | X30: =R30*T30*V30*W30 -> 1231 | AB30: ='6번'!N31 -> 16.75 | AC30: =AC29 -> 73.5
A31: 7.정신요법료 | B31: 1.. | D31: 종 | F31: 원 | I31: 원 | J31: ='6번'!I32 -> C3780 | L31: ='6번'!J32 -> 요산 | R31: =ROUND(AB31*AC31,0) -> 1315 | T31: 1 | V31: ='6번'!K32 -> 1 | W31: ='6번'!L32 -> 1 | X31: =R31*T31*V31*W31 -> 1315 | AB31: ='6번'!N32 -> 17.89 | AC31: =AC30 -> 73.5
A32: 8.처치및수술료 | B32: 1.처치및수술 | C32: 1 | D32: 종 | E32: =X22+X24 -> 45664 | F32: 원 | G32: =X23 -> 79212 | I32: 원 | J32: ='6번'!I33 -> B1010 | L32: ='6번'!J33 -> 혈색소(광전비색법) | R32: =ROUND(AB32*AC32,0) -> 1247 | T32: 1 | V32: ='6번'!K33 -> 1 | W32: ='6번'!L33 -> 1 | X32: =R32*T32*V32*W32 -> 1247 | AB32: ='6번'!N33 -> 16.96 | AC32: =AC31 -> 73.5
B33: 3.케스트 | D33: 회 | F33: 원 | I33: 원 | J33: ='6번'!I34 -> B1020 | L33: ='6번'!J34 -> 헤마토크리트 | R33: =ROUND(AB33*AC33,0) -> 804 | T33: 1 | V33: ='6번'!K34 -> 1 | W33: ='6번'!L34 -> 1 | X33: =R33*T33*V33*W33 -> 804 | AB33: ='6번'!N34 -> 10.94 | AC33: =AC32 -> 73.5
A34: 9.검사료 | B34: 1.자체검사 | D34: 종 | E34: 13 | F34: 원 | G34: =SUM(X26:Y38) -> 15532 | I34: 원 | J34: ='6번'!I35 -> B1040 | L34: ='6번'!J35 -> 적혈구수 | R34: =ROUND(AB34*AC34,0) -> 806 | T34: 1 | V34: ='6번'!K35 -> 1 | W34: ='6번'!L35 -> 1 | X34: =R34*T34*V34*W34 -> 806 | AB34: ='6번'!N35 -> 10.97 | AC34: =AC33 -> 73.5
B35: 2.위탁검사관리 | F35: 원 | J35: ='6번'!I36 -> B1050 | L35: ='6번'!J36 -> 백혈구수 | R35: =ROUND(AB35*AC35,0) -> 808 | T35: 1 | V35: ='6번'!K36 -> 1 | W35: ='6번'!L36 -> 1 | X35: =R35*T35*V35*W35 -> 808 | AB35: ='6번'!N36 -> 10.99 | AC35: =AC34 -> 73.5
B36: 3.위탁검사 | D36: 종 | F36: 원 | J36: ='6번'!I37 -> B1060 | L36: ='6번'!J37 -> 혈소판수 | R36: =ROUND(AB36*AC36,0) -> 955 | T36: 1 | V36: ='6번'!K37 -> 1 | W36: ='6번'!L37 -> 1 | X36: =R36*T36*V36*W36 -> 955 | AB36: ='6번'!N37 -> 12.99 | AC36: =AC35 -> 73.5
A37: 10.영상진단및방사선치료료 | B37: 1.진단 | D37: 종 | F37: 원 | I37: 원 | J37: ='6번'!I38 -> B1034 | L37: ='6번'!J38 -> 적혈구침강속도(신속검사법) | R37: =ROUND(AB37*AC37,0) -> 971 | T37: 1 | V37: ='6번'!K38 -> 1 | W37: ='6번'!L38 -> 1 | X37: =R37*T37*V37*W37 -> 971 | AB37: ='6번'!N38 -> 13.21 | AC37: =AC36 -> 73.5
B38: 2.치료 | D38: 종 | F38: 원 | I38: 원 | J38: ='6번'!I39 -> B1070 | L38: ='6번'!J39 -> 호산구수(혈액) | R38: =ROUND(AB38*AC38,0) -> 912 | T38: 1 | V38: ='6번'!K39 -> 1 | W38: ='6번'!L39 -> 1 | X38: =R38*T38*V38*W38 -> 912 | AB38: ='6번'!N39 -> 12.41 | AC38: =AC37 -> 73.5
A39: S.특수장비 | B39: 1.CT | D39: 회 | F39: 원 | I39: 원 | J39: ='6번'!I40 -> 0 | R39: =ROUND(AB39*AC39,0) -> 0 | T39: 1 | V39: ='6번'!K40 -> 0 | W39: ='6번'!L40 -> 0 | X39: =R39*T39*V39*W39 -> 0 | AC39: =AC38 -> 73.5
B40: 2.MRI | D40: 회 | F40: 원 | I40: 원 | R40: =ROUND(AB40*AC40,0) -> 0 | T40: 1 | V40: ='6번'!K41 -> 0 | W40: ='6번'!L41 -> 0 | X40: =R40*T40*V40*W40 -> 0 | AC40: =AC39 -> 73.5
B41: 3.PET | D41: 회 | F41: 원 | I41: 원 | R41: =ROUND(AB41*AC41,0) -> 0 | T41: 1 | V41: ='6번'!K42 -> 0 | W41: ='6번'!L42 -> 0 | X41: =R41*T41*V41*W41 -> 0 | AC41: =AC40 -> 73.5
A42: T.특수재료 및 관련 행위료 | B42: 1.치료재료 | D42: 개 | F42: 원 | R42: =ROUND(AB42*AC42,0) -> 0 | T42: 1 | V42: ='6번'!K43 -> 0 | W42: ='6번'!L43 -> 0 | X42: =R42*T42*V42*W42 -> 0 | AC42: =AC41 -> 73.5
B43: 2.진료행위 | R43: =ROUND(AB43*AC43,0) -> 0 | T43: 1 | V43: ='6번'!K44 -> 0 | W43: ='6번'!L44 -> 0 | X43: =R43*T43*V43*W43 -> 0 | AC43: =AC42 -> 73.5
A44: A.100분의50본인부담 | B44: 1.의약품 | F44: 원 | I44: 원 | R44: =ROUND(AB44*AC44,0) -> 0 | T44: 1 | V44: ='6번'!K45 -> 0 | W44: ='6번'!L45 -> 0 | X44: =R44*T44*V44*W44 -> 0 | AC44: =AC43 -> 73.5
B45: 2.치료재료 | F45: 원 | I45: 원 | R45: =ROUND(AB45*AC45,0) -> 0 | T45: 1 | V45: ='6번'!K46 -> 0 | W45: ='6번'!L46 -> 0 | X45: =R45*T45*V45*W45 -> 0 | AC45: =AC44 -> 73.5
B46: 3.진료행위 | F46: 원 | I46: 원 | R46: =ROUND(AB46*AC46,0) -> 0 | T46: 1 | V46: ='6번'!K47 -> 0 | W46: ='6번'!L47 -> 0 | X46: =R46*T46*V46*W46 -> 0 | AC46: =AC45 -> 73.5
A47: B.100분의80본인부담 | B47: 1.의약품 | F47: 원 | I47: 원 | R47: =ROUND(AB47*AC47,0) -> 0 | T47: 1 | V47: ='6번'!K48 -> 0 | W47: ='6번'!L48 -> 0 | X47: =R47*T47*V47*W47 -> 0 | AC47: =AC46 -> 73.5
B48: 2.치료재료 | F48: 원 | I48: 원 | R48: =ROUND(AB48*AC48,0) -> 0 | T48: 1 | V48: ='6번'!K49 -> 0 | W48: ='6번'!L49 -> 0 | X48: =R48*T48*V48*W48 -> 0 | AC48: =AC47 -> 73.5
B49: 3.진료행위 | F49: 원 | I49: 원 | R49: =ROUND(AB49*AC49,0) -> 0 | T49: 1 | V49: ='6번'!K50 -> 0 | W49: ='6번'!L50 -> 0 | X49: =R49*T49*V49*W49 -> 0 | AC49: =AC48 -> 73.5
A50: D.100분의30본인부담 | B50: 1.의약품 | F50: 원 | I50: 원 | R50: =ROUND(AB50*AC50,0) -> 0 | T50: 1 | V50: ='6번'!K51 -> 0 | W50: ='6번'!L51 -> 0 | X50: =R50*T50*V50*W50 -> 0 | AC50: =AC49 -> 73.5
B51: 2.치료재료 | F51: 원 | I51: 원 | R51: =ROUND(AB51*AC51,0) -> 0 | T51: 1 | V51: ='6번'!K52 -> 0 | W51: ='6번'!L52 -> 0 | X51: =R51*T51*V51*W51 -> 0 | AC51: =AC50 -> 73.5
B52: 3.진료행위 | F52: 원 | I52: 원 | R52: =ROUND(AB52*AC52,0) -> 0 | T52: 1 | V52: ='6번'!K53 -> 0 | W52: ='6번'!L53 -> 0 | X52: =R52*T52*V52*W52 -> 0 | AC52: =AC51 -> 73.5
A53: E.100분의90본인부담 | B53: 1.의약품 | F53: 원 | I53: 원 | R53: =ROUND(AB53*AC53,0) -> 0 | T53: 1 | V53: ='6번'!K54 -> 0 | W53: ='6번'!L54 -> 0 | X53: =R53*T53*V53*W53 -> 0 | AC53: =AC52 -> 73.5
B54: 2.치료재료 | F54: 원 | I54: 원 | R54: =ROUND(AB54*AC54,0) -> 0 | T54: 1 | V54: ='6번'!K55 -> 0 | W54: ='6번'!L55 -> 0 | X54: =R54*T54*V54*W54 -> 0 | AC54: =AC53 -> 73.5
B55: 3.진료행위 | F55: 원 | I55: 원 | R55: =ROUND(AB55*AC55,0) -> 0 | T55: 1 | V55: ='6번'!K56 -> 0 | W55: ='6번'!L56 -> 0 | X55: =R55*T55*V55*W55 -> 0 | AC55: =AC54 -> 73.5
A56: U.건강보험100분의100본인부담 | B56: 1.의약품 | D56: 회 | F56: 원 | I56: 원 | J56: 특정내역
B57: 2.치료재료 | D57: 회 | F57: 원 | I57: 원
B58: 3.진료행위 | D58: 회 | F58: 원 | I58: 원
A59: V.보훈등100분의100본인부담 | B59: 1.의약품 | D59: 회 | F59: 원 | I59: 원
B60: 2.치료재료 | D60: 회 | F60: 원 | I60: 원
B61: 3.진료행위 | D61: 회 | F61: 원 | I61: 원
A62: W.비급여 | B62: 1.의약품 | D62: 회 | F62: 원 | I62: 원 | J62: 수술코드
B63: 2.치료재료 | D63: 회 | F63: 원 | I63: 원
B64: 3.진료행위 | D64: 회 | F64: 원 | I64: 원
A65: 투약료총액 | I65: 원 | J65: 18.장애인의료비 | T65: 원 | U65: 심사내역 | V65: 구분 | W65: 코드 | Y65: 조정 | AA65: 1.2
A66: 특수장비총액 | I66: 원 | J66: 19. 청구액 | O66: =E72-E73 -> 102396 | T66: 원
A67: 특수재료 및 관련행위료 총액 | I67: 원 | J67: 20.본인부담상한액초과액 | T67: 원
A68: 보훈등 100분의 100 본인부담총액 | I68: 원 | J68: 21.요양급여비용총액2, 진료비총액 | T68: 원
A69: 비급여총액 | I69: 원 | J69: 22. 보훈청구액 | T69: 원
A70: 11. 소계 | E70: =SUM(E14:E42) -> 56803 | F70: 원 | G70: =SUM(G20:H42) -> 94744 | I70: 원 | J70: 23.건강보험100분의100본인부담총액 | O70: =E69 -> 0 | T70: 원
A71: 12. 가산율 | E71: 20 | F71: % | G71: =ROUND(G70*E71/100,0) -> 18949 | I71: 원 | J71: 24.보훈본인일부부담금 | T71: 원 | AA71: 감1
A72: 15. 요양급여비용총액1 | E72: =E70+G70+G71 -> 170496 | I72: 원 | J72: 25.100분의100미만총액 | T72: 원 | AA72: 감2
A73: 16. 본인일부부담금 | E73: =ROUNDDOWN(E72*0.4,-2) -> 68100 | I73: 원 | J73: 26.100분의100미만본인일부부담금 | T73: 원 | AA73: 증1
A74: 17. 지원금 | I74: 원 | J74: 27.100분의100미만청구액 | T74: 원 | AA74: 증2
A75: 일련번호 | E75: #심사조정 | J75: 28.100분의100미만보훈청구액 | T75: 원 | V75: 계
J76: [정률] | V76: 190mm*320mm(일반용지 60g/m^2(재활용품)

Sheet 7번
C1: 문제번호 | D1: 7
C2: 학반 | D2: A
C3: 학번 | D3: 201620014
C4: 성명 | D4: 홍길동
C5: 조명칭 | D5: 구름
C6: 조원들 | D6: 김길동, 홍길동, 박길동, 이길동
C7: 요양기관구분 | D7: 종합병원
A9: 수정전 | G9: 수정후
A10: 성별 | B10: 나이 | C10: 코드 | D10: 병명 | E10: 진료과 | G10: =A10 -> 성별 | H10: =B10 -> 나이 | I10: =C10 -> 코드 | J10: =D10 -> 병명 | K10: 변경사유 | L10: 진료과
A11: 여 | B11: 38 | C11: M5449 | D11: 저배통 | E11: 정형외과 | G11: =A11 -> 여 | H11: =B11 -> 38 | I11: M54.49 | J11: 좌골신경통을 동반한 요통, 상세불명의 부위 | K11: 명칭 | L11: =E11 -> 정형외과
C12: M509 | D12: 경추디스크 | I12: M50.9 | J12: 상세불명의 경추간판장애 | K12: 명칭
I13: =C13 -> 0 | J13: =D13 -> 0
C15: 수정전 | H15: 수정후 | M15: 의원 | N15: 81.4 | O15: 병원급이상 | P15: 73.5
C16: 구분 | D16: 진료내역 | E16: 횟수 | F16: 일수 | H16: 진료과 | I16: 코드 | J16: 분류 | K16: 횟수 | L16: 일수 | M16: 변경사유 | N16: 점수 | O16: 단가 | P16: 비용
C17: 진찰료 | D17: 재진(주간) | E17: 1 | F17: 1 | H17: =C17 -> 진찰료 | I17: AA256 | J17: 재진 진찰료(종합,주간) | K17: =E17 -> 1 | L17: =F17 -> 1 | M17: 명칭 | N17: 174.84 | O17: =P15 -> 73.5 | P17: =N17*K17*L17*O17 -> 12850.74
J18: =D18 -> 0 | K18: =E18 -> 0 | L18: =F18 -> 0 | O18: =O17 -> 73.5 | P18: =N18*K18*L18*O18 -> 0
C19: 약재료 | H19: =C19 -> 약재료 | J19: =D19 -> 0 | K19: =E19 -> 0 | L19: =F19 -> 0 | O19: =O18 -> 73.5 | P19: =N19*K19*L19*O19 -> 0
J20: =D20 -> 0 | K20: =E20 -> 0 | L20: =F20 -> 0 | O20: =O19 -> 73.5 | P20: =N20*K20*L20*O20 -> 0
C21: 주사료 | H21: =C21 -> 주사료 | J21: =D21 -> 0 | K21: =E21 -> 0 | L21: =F21 -> 0 | O21: =O20 -> 73.5 | P21: =N21*K21*L21*O21 -> 0
J22: =D22 -> 0 | K22: =E22 -> 0 | L22: =F22 -> 0 | O22: =O21 -> 73.5 | P22: =N22*K22*L22*O22 -> 0
C23: 방사선료 | D23: 유방동시2매(Standard) | H23: =C23 -> 방사선료 | J23: =D23 -> 유방동시2매(Standard) | K23: =E23 -> 0 | L23: =F23 -> 0 | M23: 삭제, 질병무관 | O23: =O22 -> 73.5 | P23: =N23*K23*L23*O23 -> 0
D24: 요천추4매 | I24: G4604 | J24: 방사선단순영상(요천추 4매) | K24: 1 | L24: 1 | N24: 140.04 | O24: =O23 -> 73.5 | P24: =N24*K24*L24*O24 -> 10292.94
D25: 골밀도 검사 | J25: =D25 -> 골밀도 검사 | K25: =E25 -> 0 | L25: =F25 -> 0 | M25: 삭제, 질병무관 | O25: =O24 -> 73.5 | P25: =N25*K25*L25*O25 -> 0
D26: 경추4매 | I26: G4104 | J26: 방사선단순영상(경추 4매) | K26: 1 | L26: 1 | N26: 140.02 | O26: =O25 -> 73.5 | P26: =N26*K26*L26*O26 -> 10291.47
I27: GB024 | J27: Full PACS(종합,4매) | K27: 2 | L27: 1 | M27: 추가 | N27: =L32 -> 35.9 | O27: =O26 -> 73.5 | P27: =N27*K27*L27*O27 -> 5277.3
O28: =O27 -> 73.5 | P28: =N28*K28*L28*O28 -> 0
C29: 검사료 | H29: =C29 -> 검사료 | J29: =D29 -> 0 | K29: =E29 -> 0 | L29: =F29 -> 0 | O29: =O28 -> 73.5 | P29: =N29*K29*L29*O29 -> 0
J30: =D30 -> 0 | K30: =E30 -> 0 | L30: =F30 -> 0 | O30: =O29 -> 73.5 | P30: =N30*K30*L30*O30 -> 0
J32: 14.36 | K32: 2.5 | L32: =J32*K32 -> 35.9

Sheet 7-1번
A1: (별지 제 11-1호 서식) | D1: 문제 | E1: 7 | Y1: (의과외래)
A2: 서식번호 | C2: G | D2: I | E2: 0 | F2: 3 | G2: 요양급여비용명세서 | T2: 요양기관
T3: 기호 | V3: J-252525
A4: 등록번호 | C4: 123456 | G4: 증번호
A5: 가입자성명 | C5: 홍길동 | G5: 공상등 구분 | T5: 명칭 | V5: 종합
A6: 수진자성명 | C6: 여 38 | K6: -
A7: 상 병 명 | G7: 분류기호 | J7: 수술 | K7: 진료과목 | L7: 상해외인 | N7: 특정기호 | P7: 면허종류 | R7: 면허번호 | T7: 당원요양개시일 | V7: 당월요양급여일수(원내투약일수포함) | Y7: 진료결과
A8: ='7번'!J11 -> 좌골신경통을 동반한 요통, 상세불명의 부위 | G8: ='7번'!I11 -> M54.49 | P8: 12345 | T8: 20180330 | X8: 일
A9: ='7번'!J12 -> 상세불명의 경추간판장애 | G9: ='7번'!I12 -> M50.9 | X9: 일
A10: ='7번'!J13 -> 0 | G10: ='7번'!I13 -> 0 | X10: 일
A11: 총내원일수 | D11: 일 | E11: 내원일 | F11: 1 2 3 4 5 6 7 8 9 10 11 12 13 14 15 16 17 18 19 20 21 22 23 24 25 26 27 28 29 30 31
A12: 구분 | E12: 기본진료,약제,특정재료(1) | G12: 진료행위(2) | J12: 처방전발급번호 | L12: 20170403-0005 | T12: 처방일수 | W12: 본인부담금발생횟수 | Y12: 직접조제횟수 | AB12: 2018
J13: 점검번호 | L13: 20170403-0005 | AB13: 의원 | AC13: 81.4
A14: 1.진찰료(외래관리료 포함) | B14: 1.초진 | D14: 회 | F14: 원 | G14: 야간및공휴 | I14: 회 | J14: 약품코드(일반명및제품명코드) | L14: 약품명(일반 및 제품명) | T14: 1회투약량 | V14: 1일투여횟수 | W14: 총투약일수 | AB14: 병원이상 | AC14: 73.5
B15: 2.재진 | C15: 1 | D15: 회 | E15: =X16 -> 12851 | F15: 원 | G15: 야간및공휴 | I15: 회 | J15: 코드 | L15: 분류(예외분류코드) | P15: 상한가 | R15: 단가 | T15: 1회투약량 | V15: 1회투여량또는실시횟수 | W15: 총투여일수또는실시횟수 | X15: 금액 | Z15: 면허종류 | AA15: 면허번호 | AB15: 점수 | AC15: 단가
B16: 3.의약품관리료 | F16: 원 | J16: ='7번'!I17 -> AA256 | L16: ='7번'!J17 -> 재진 진찰료(종합,주간) | R16: =ROUND(AB16*AC16,0) -> 12851 | T16: 1 | V16: ='7번'!K17 -> 1 | W16: ='7번'!L17 -> 1 | X16: =R16*T16*V16*W16 -> 12851 | AB16: ='7번'!N17 -> 174.84 | AC16: =AC14 -> 73.5
B17: 4.응급 및 회송료 | F17: 원 | J17: ='7번'!I18 -> 0 | L17: ='7번'!J18 -> 0 | R17: =ROUND(AB17*AC17,0) -> 0 | T17: 1 | V17: ='7번'!K18 -> 0 | W17: ='7번'!L18 -> 0 | X17: =R17*T17*V17*W17 -> 0 | AB17: ='7번'!N18 -> 0 | AC17: =AC16 -> 73.5
B18: 5.가정간호기본방문료 | F18: 원 | J18: ='7번'!I19 -> 0 | L18: ='7번'!J19 -> 0 | R18: =ROUND(AB18*AC18,0) -> 0 | T18: 1 | V18: ='7번'!K19 -> 0 | W18: ='7번'!L19 -> 0 | X18: =R18*T18*V18*W18 -> 0 | AB18: ='7번'!N19 -> 0 | AC18: =AC17 -> 73.5
B19: 6.만성질환관리료 | D19: 회 | F19: 원 | J19: ='7번'!I20 -> 0 | L19: ='7번'!J20 -> 0 | R19: =ROUND(AB19*AC19,0) -> 0 | T19: 1 | V19: ='7번'!K20 -> 0 | W19: ='7번'!L20 -> 0 | X19: =R19*T19*V19*W19 -> 0 | AB19: ='7번'!N20 -> 0 | AC19: =AC18 -> 73.5
A20: 3.투약료 | B20: 1.내복 | D20: 일분 | F20: 원 | I20: 원 | J20: ='7번'!I21 -> 0 | L20: ='7번'!J21 -> 0 | R20: =ROUND(AB20*AC20,0) -> 0 | T20: 1 | V20: ='7번'!K21 -> 0 | W20: ='7번'!L21 -> 0 | X20: =R20*T20*V20*W20 -> 0 | AB20: ='7번'!N21 -> 0 | AC20: =AC19 -> 73.5
B21: 2.외용 | D21: 일분 | F21: 원 | I21: 원 | J21: ='7번'!I22 -> 0 | L21: ='7번'!J22 -> 0 | R21: =ROUND(AB21*AC21,0) -> 0 | T21: 1 | V21: ='7번'!K22 -> 0 | W21: ='7번'!L22 -> 0 | X21: =R21*T21*V21*W21 -> 0 | AB21: ='7번'!N22 -> 0 | AC21: =AC20 -> 73.5
B22: 3.처방전 | D22: 회 | J22: ='7번'!I23 -> 0 | L22: ='7번'!J23 -> 유방동시2매(Standard) | R22: =ROUND(AB22*AC22,0) -> 0 | T22: 1 | V22: ='7번'!K23 -> 0 | W22: ='7번'!L23 -> 0 | X22: =R22*T22*V22*W22 -> 0 | AB22: ='7번'!N23 -> 0 | AC22: =AC21 -> 73.5
A23: 4.주사료 | B23: 1.피하또는근육내 | D23: 일 | F23: 원 | I23: 원 | J23: ='7번'!I24 -> G4604 | L23: ='7번'!J24 -> 방사선단순영상(요천추 4매) | R23: =ROUND(AB23*AC23,0) -> 10293 | T23: 1 | V23: ='7번'!K24 -> 1 | W23: ='7번'!L24 -> 1 | X23: =R23*T23*V23*W23 -> 10293 | AB23: ='7번'!N24 -> 140.04 | AC23: =AC22 -> 73.5
B24: 2.정맥내 | D24: 일 | F24: 원 | I24: 원 | J24: ='7번'!I25 -> 0 | L24: ='7번'!J25 -> 골밀도 검사 | R24: =ROUND(AB24*AC24,0) -> 0 | T24: 1 | V24: ='7번'!K25 -> 0 | W24: ='7번'!L25 -> 0 | X24: =R24*T24*V24*W24 -> 0 | AB24: ='7번'!N25 -> 0 | AC24: =AC23 -> 73.5
B25: 3.수액제 | D25: 회 | F25: 원 | I25: 원 | J25: ='7번'!I26 -> G4104 | L25: ='7번'!J26 -> 방사선단순영상(경추 4매) | R25: =ROUND(AB25*AC25,0) -> 10291 | T25: 1 | V25: ='7번'!K26 -> 1 | W25: ='7번'!L26 -> 1 | X25: =R25*T25*V25*W25 -> 10291 | AB25: ='7번'!N26 -> 140.02 | AC25: =AC24 -> 73.5
B26: 4.기타 | D26: 회 | F26: 원 | I26: 원 | J26: ='7번'!I27 -> GB024 | L26: ='7번'!J27 -> Full PACS(종합,4매) | R26: =ROUND(AB26*AC26,0) -> 2639 | T26: 1 | V26: ='7번'!K27 -> 2 | W26: ='7번'!L27 -> 1 | X26: =R26*T26*V26*W26 -> 5278 | AB26: ='7번'!N27 -> 35.9 | AC26: =AC25 -> 73.5
B27: 5.특정재료 | F27: 원 | L27: ='7번'!J28 -> 0 | R27: =ROUND(AB27*AC27,0) -> 0 | T27: 1 | V27: ='7번'!K28 -> 0 | W27: ='7번'!L28 -> 0 | X27: =R27*T27*V27*W27 -> 0 | AB27: ='7번'!N28 -> 0 | AC27: =AC26 -> 73.5
B28: 6.수혈 | D28: 회 | F28: 원 | I28: 원 | L28: ='7번'!J29 -> 0 | R28: =ROUND(AB28*AC28,0) -> 0 | T28: 1 | V28: ='7번'!K29 -> 0 | W28: ='7번'!L29 -> 0 | X28: =R28*T28*V28*W28 -> 0 | AB28: ='7번'!N29 -> 0 | AC28: =AC27 -> 73.5
A29: 5.마취료 | B29: 1.. | D29: 회 | F29: 원 | I29: 원 | X29: =R29*T29*V29*W29 -> 0 | AC29: =AC28 -> 73.5
A30: 6.이학요법료 | B30: 1.. | D30: 종 | F30: 원 | I30: 원 | X30: =R30*T30*V30*W30 -> 0 | AC30: =AC29 -> 73.5
A31: 7.정신요법료 | B31: 1.. | D31: 종 | F31: 원 | I31: 원 | X31: =R31*T31*V31*W31 -> 0 | AC31: =AC30 -> 73.5
A32: 8.처치및수술료 | B32: 1.처치및수술 | D32: 종 | F32: 원 | I32: 원 | X32: =R32*T32*V32*W32 -> 0 | AC32: =AC31 -> 73.5
B33: 3.케스트 | D33: 회 | F33: 원 | I33: 원 | X33: =R33*T33*V33*W33 -> 0 | AC33: =AC32 -> 73.5
A34: 9.검사료 | B34: 1.자체검사 | D34: 종 | F34: 원 | I34: 원 | X34: =R34*T34*V34*W34 -> 0 | AC34: =AC33 -> 73.5
B35: 2.위탁검사관리 | F35: 원 | X35: =R35*T35*V35*W35 -> 0 | AC35: =AC34 -> 73.5
B36: 3.위탁검사 | D36: 종 | F36: 원 | X36: =R36*T36*V36*W36 -> 0 | AC36: =AC35 -> 73.5
A37: 10.영상진단및방사선치료료 | B37: 1.진단 | C37: 2 | D37: 종 | E37: =X26 -> 5278 | F37: 원 | G37: =X23+X25 -> 20584 | I37: 원 | X37: =R37*T37*V37*W37 -> 0 | AC37: =AC36 -> 73.5
B38: 2.치료 | D38: 종 | F38: 원 | I38: 원 | X38: =R38*T38*V38*W38 -> 0 | AC38: =AC37 -> 73.5
A39: S.특수장비 | B39: 1.CT | D39: 회 | F39: 원 | I39: 원 | X39: =R39*T39*V39*W39 -> 0 | AC39: =AC38 -> 73.5
B40: 2.MRI | D40: 회 | F40: 원 | I40: 원 | X40: =R40*T40*V40*W40 -> 0 | AC40: =AC39 -> 73.5
B41: 3.PET | D41: 회 | F41: 원 | I41: 원 | R41: =ROUND(AB41*AC41,0) -> 0 | T41: 1 | X41: =R41*T41*V41*W41 -> 0 | AC41: =AC40 -> 73.5
A42: T.특수재료 및 관련 행위료 | B42: 1.치료재료 | D42: 개 | F42: 원 | R42: =ROUND(AB42*AC42,0) -> 0 | T42: 1 | X42: =R42*T42*V42*W42 -> 0 | AC42: =AC41 -> 73.5
B43: 2.진료행위 | R43: =ROUND(AB43*AC43,0) -> 0 | T43: 1 | X43: =R43*T43*V43*W43 -> 0 | AC43: =AC42 -> 73.5
A44: A.100분의50본인부담 | B44: 1.의약품 | F44: 원 | I44: 원 | R44: =ROUND(AB44*AC44,0) -> 0 | T44: 1 | X44: =R44*T44*V44*W44 -> 0 | AC44: =AC43 -> 73.5
B45: 2.치료재료 | F45: 원 | I45: 원 | R45: =ROUND(AB45*AC45,0) -> 0 | T45: 1 | X45: =R45*T45*V45*W45 -> 0 | AC45: =AC44 -> 73.5
B46: 3.진료행위 | F46: 원 | I46: 원 | R46: =ROUND(AB46*AC46,0) -> 0 | T46: 1 | X46: =R46*T46*V46*W46 -> 0 | AC46: =AC45 -> 73.5
A47: B.100분의80본인부담 | B47: 1.의약품 | F47: 원 | I47: 원 | R47: =ROUND(AB47*AC47,0) -> 0 | T47: 1 | X47: =R47*T47*V47*W47 -> 0 | AC47: =AC46 -> 73.5
B48: 2.치료재료 | F48: 원 | I48: 원 | R48: =ROUND(AB48*AC48,0) -> 0 | T48: 1 | X48: =R48*T48*V48*W48 -> 0 | AC48: =AC47 -> 73.5
B49: 3.진료행위 | F49: 원 | I49: 원 | R49: =ROUND(AB49*AC49,0) -> 0 | T49: 1 | X49: =R49*T49*V49*W49 -> 0 | AC49: =AC48 -> 73.5
A50: D.100분의30본인부담 | B50: 1.의약품 | F50: 원 | I50: 원 | R50: =ROUND(AB50*AC50,0) -> 0 | T50: 1 | X50: =R50*T50*V50*W50 -> 0 | AC50: =AC49 -> 73.5
B51: 2.치료재료 | F51: 원 | I51: 원 | R51: =ROUND(AB51*AC51,0) -> 0 | T51: 1 | X51: =R51*T51*V51*W51 -> 0 | AC51: =AC50 -> 73.5
B52: 3.진료행위 | F52: 원 | I52: 원 | R52: =ROUND(AB52*AC52,0) -> 0 | T52: 1 | X52: =R52*T52*V52*W52 -> 0 | AC52: =AC51 -> 73.5
A53: E.100분의90본인부담 | B53: 1.의약품 | F53: 원 | I53: 원 | R53: =ROUND(AB53*AC53,0) -> 0 | T53: 1 | X53: =R53*T53*V53*W53 -> 0 | AC53: =AC52 -> 73.5
B54: 2.치료재료 | F54: 원 | I54: 원 | R54: =ROUND(AB54*AC54,0) -> 0 | T54: 1 | X54: =R54*T54*V54*W54 -> 0 | AC54: =AC53 -> 73.5
B55: 3.진료행위 | F55: 원 | I55: 원 | R55: =ROUND(AB55*AC55,0) -> 0 | T55: 1 | X55: =R55*T55*V55*W55 -> 0 | AC55: =AC54 -> 73.5
A56: U.건강보험100분의100본인부담 | B56: 1.의약품 | D56: 회 | F56: 원 | I56: 원 | J56: 특정내역
B57: 2.치료재료 | D57: 회 | F57: 원 | I57: 원
B58: 3.진료행위 | D58: 회 | F58: 원 | I58: 원
A59: V.보훈등100분의100본인부담 | B59: 1.의약품 | D59: 회 | F59: 원 | I59: 원
B60: 2.치료재료 | D60: 회 | F60: 원 | I60: 원
B61: 3.진료행위 | D61: 회 | F61: 원 | I61: 원
A62: W.비급여 | B62: 1.의약품 | D62: 회 | F62: 원 | I62: 원 | J62: 수술코드
B63: 2.치료재료 | D63: 회 | F63: 원 | I63: 원
B64: 3.진료행위 | D64: 회 | F64: 원 | I64: 원
A65: 투약료총액 | I65: 원 | J65: 18.장애인의료비 | T65: 원 | U65: 심사내역 | V65: 구분 | W65: 코드 | Y65: 조정 | AA65: 1.2
A66: 특수장비총액 | I66: 원 | J66: 19. 청구액 | O66: =E72-E73 -> 21959 | T66: 원
A67: 특수재료 및 관련행위료 총액 | I67: 원 | J67: 20.본인부담상한액초과액 | T67: 원
A68: 보훈등 100분의 100 본인부담총액 | I68: 원 | J68: 21.요양급여비용총액2, 진료비총액 | T68: 원
A69: 비급여총액 | I69: 원 | J69: 22. 보훈청구액 | T69: 원
A70: 11. 소계 | E70: =SUM(E14:E42) -> 18129 | F70: 원 | G70: =SUM(G20:H42) -> 20584 | I70: 원 | J70: 23.건강보험100분의100본인부담총액 | O70: =E69 -> 0 | T70: 원
A71: 12. 가산율 | E71: 25 | F71: % | G71: =ROUND(G70*E71/100,0) -> 5146 | I71: 원 | J71: 24.보훈본인일부부담금 | T71: 원 | AA71: 감1
A72: 15. 요양급여비용총액1 | E72: =E70+G70+G71 -> 43859 | I72: 원 | J72: 25.100분의100미만총액 | T72: 원 | AA72: 감2
A73: 16. 본인일부부담금 | E73: =ROUNDDOWN(E72*0.5,-2) -> 21900 | I73: 원 | J73: 26.100분의100미만본인일부부담금 | T73: 원 | AA73: 증1
A74: 17. 지원금 | I74: 원 | J74: 27.100분의100미만청구액 | T74: 원 | AA74: 증2
A75: 일련번호 | E75: #심사조정 | J75: 28.100분의100미만보훈청구액 | T75: 원 | V75: 계
J76: [정률] | V76: 190mm*320mm(일반용지 60g/m^2(재활용품)

Sheet 8번
C1: 문제번호
C2: 학반 | D2: A
C3: 학번 | D3: 201620014
C4: 성명 | D4: 홍길동
C5: 조명칭 | D5: 구름
C6: 조원들 | D6: 김길동, 홍길동, 박길동, 이길동
C7: 요양기관구분
A9: 수정전 | G9: 수정후
A10: 성별 | B10: 나이 | C10: 코드 | D10: 병명 | E10: 진료과 | G10: =A10 -> 성별 | H10: =B10 -> 나이 | I10: =C10 -> 코드 | J10: =D10 -> 병명 | K10: 변경사유 | L10: 진료과
G11: =A11 -> 0 | H11: =B11 -> 0 | I11: =C11 -> 0 | J11: =D11 -> 0 | L11: =E11 -> 0
I12: =C12 -> 0 | J12: =D12 -> 0
I13: =C13 -> 0 | J13: =D13 -> 0
I14: =C14 -> 0 | J14: =D14 -> 0
C16: 수정전 | H16: 수정후 | M16: 의원 | N16: 81.4 | O16: 병원급이상 | P16: 73.5
C17: 구분 | D17: 진료내역 | E17: 횟수 | F17: 일수 | H17: 진료과 | I17: 코드 | J17: 분류 | K17: 횟수 | L17: 일수 | M17: 변경사유 | N17: 점수 | O17: 단가 | P17: 비용
C18: 진찰료 | H18: =C18 -> 진찰료 | J18: =D18 -> 0 | K18: =E18 -> 0 | L18: =F18 -> 0 | O18: =P16 -> 73.5 | P18: =N18*K18*L18*O18 -> 0
J19: =D19 -> 0 | K19: =E19 -> 0 | L19: =F19 -> 0 | O19: =O18 -> 73.5 | P19: =N19*K19*L19*O19 -> 0
C20: 약재료 | H20: =C20 -> 약재료 | J20: =D20 -> 0 | K20: =E20 -> 0 | L20: =F20 -> 0 | O20: =O19 -> 73.5 | P20: =N20*K20*L20*O20 -> 0
J21: =D21 -> 0 | K21: =E21 -> 0 | L21: =F21 -> 0 | O21: =O20 -> 73.5 | P21: =N21*K21*L21*O21 -> 0
J22: =D22 -> 0 | K22: =E22 -> 0 | L22: =F22 -> 0 | O22: =O21 -> 73.5 | P22: =N22*K22*L22*O22 -> 0
J23: =D23 -> 0 | K23: =E23 -> 0 | L23: =F23 -> 0 | O23: =O22 -> 73.5 | P23: =N23*K23*L23*O23 -> 0
J24: =D24 -> 0 | K24: =E24 -> 0 | L24: =F24 -> 0 | O24: =O23 -> 73.5 | P24: =N24*K24*L24*O24 -> 0
J25: =D25 -> 0 | K25: =E25 -> 0 | L25: =F25 -> 0 | O25: =O24 -> 73.5 | P25: =N25*K25*L25*O25 -> 0
J26: =D26 -> 0 | K26: =E26 -> 0 | L26: =F26 -> 0 | O26: =O25 -> 73.5 | P26: =N26*K26*L26*O26 -> 0
J27: =D27 -> 0 | K27: =E27 -> 0 | L27: =F27 -> 0 | O27: =O26 -> 73.5 | P27: =N27*K27*L27*O27 -> 0
J28: =D28 -> 0 | K28: =E28 -> 0 | L28: =F28 -> 0 | O28: =O27 -> 73.5 | P28: =N28*K28*L28*O28 -> 0
C29: 주사료 | H29: =C29 -> 주사료 | J29: =D29 -> 0 | K29: =E29 -> 0 | L29: =F29 -> 0 | O29: =O28 -> 73.5 | P29: =N29*K29*L29*O29 -> 0
J30: =D30 -> 0 | K30: =E30 -> 0 | L30: =F30 -> 0 | O30: =O29 -> 73.5 | P30: =N30*K30*L30*O30 -> 0
J31: =D31 -> 0 | K31: =E31 -> 0 | L31: =F31 -> 0 | O31: =O30 -> 73.5 | P31: =N31*K31*L31*O31 -> 0
J32: =D32 -> 0 | K32: =E32 -> 0 | L32: =F32 -> 0 | O32: =O31 -> 73.5 | P32: =N32*K32*L32*O32 -> 0
C33: 처치및 수술료 | H33: =C33 -> 처치및 수술료 | J33: =D33 -> 0 | K33: =E33 -> 0 | L33: =F33 -> 0 | O33: =O32 -> 73.5 | P33: =N33*K33*L33*O33 -> 0
J34: =D34 -> 0 | K34: =E34 -> 0 | L34: =F34 -> 0 | O34: =O33 -> 73.5 | P34: =N34*K34*L34*O34 -> 0
J35: =D35 -> 0 | K35: =E35 -> 0 | L35: =F35 -> 0 | O35: =O34 -> 73.5 | P35: =N35*K35*L35*O35 -> 0
J36: =D36 -> 0 | K36: =E36 -> 0 | L36: =F36 -> 0 | O36: =O35 -> 73.5 | P36: =N36*K36*L36*O36 -> 0
C37: 검사료 | H37: =C37 -> 검사료 | J37: =D37 -> 0 | K37: =E37 -> 0 | L37: =F37 -> 0 | O37: =O36 -> 73.5 | P37: =N37*K37*L37*O37 -> 0
J38: =D38 -> 0 | K38: =E38 -> 0 | L38: =F38 -> 0 | O38: =O37 -> 73.5 | P38: =N38*K38*L38*O38 -> 0
J39: =D39 -> 0 | K39: =E39 -> 0 | L39: =F39 -> 0 | O39: =O38 -> 73.5 | P39: =N39*K39*L39*O39 -> 0
J40: =D40 -> 0 | K40: =E40 -> 0 | L40: =F40 -> 0 | O40: =O39 -> 73.5 | P40: =N40*K40*L40*O40 -> 0
J41: =D41 -> 0 | K41: =E41 -> 0 | L41: =F41 -> 0 | O41: =O40 -> 73.5 | P41: =N41*K41*L41*O41 -> 0
J42: =D42 -> 0 | K42: =E42 -> 0 | L42: =F42 -> 0 | O42: =O41 -> 73.5 | P42: =N42*K42*L42*O42 -> 0
J43: =D43 -> 0 | K43: =E43 -> 0 | L43: =F43 -> 0 | O43: =O42 -> 73.5 | P43: =N43*K43*L43*O43 -> 0
J44: =D44 -> 0 | K44: =E44 -> 0 | L44: =F44 -> 0 | O44: =O43 -> 73.5 | P44: =N44*K44*L44*O44 -> 0
J45: =D45 -> 0 | K45: =E45 -> 0 | L45: =F45 -> 0 | O45: =O44 -> 73.5 | P45: =N45*K45*L45*O45 -> 0
J46: =D46 -> 0 | K46: =E46 -> 0 | L46: =F46 -> 0 | O46: =O45 -> 73.5 | P46: =N46*K46*L46*O46 -> 0

Sheet 8-1번
A1: (별지 제 11-1호 서식) | D1: 문제 | E1: 3 | Y1: (의과외래)
A2: 서식번호 | C2: G | D2: I | E2: 0 | F2: 3 | G2: 요양급여비용명세서 | T2: 요양기관
T3: 기호 | V3: J-252525
A4: 등록번호 | C4: 123456 | G4: 증번호
A5: 가입자성명 | C5: 홍길동 | G5: 공상등 구분 | T5: 명칭
A6: 수진자성명 | K6: -
A7: 상 병 명 | G7: 분류기호 | J7: 수술 | K7: 진료과목 | L7: 상해외인 | N7: 특정기호 | P7: 면허종류 | R7: 면허번호 | T7: 당원요양개시일 | V7: 당월요양급여일수(원내투약일수포함) | Y7: 진료결과
P8: 12345 | X8: 일
X9: 일
X10: 일
A11: 총내원일수 | D11: 일 | E11: 내원일 | F11: 1 2 3 4 5 6 7 8 9 10 11 12 13 14 15 16 17 18 19 20 21 22 23 24 25 26 27 28 29 30 31
A12: 구분 | E12: 기본진료,약제,특정재료(1) | G12: 진료행위(2) | J12: 처방전발급번호 | L12: 20170403-0005 | T12: 처방일수 | W12: 본인부담금발생횟수 | Y12: 직접조제횟수 | AB12: 2018
J13: 점검번호 | L13: 20170403-0005 | AB13: 의원 | AC13: 81.4
A14: 1.진찰료(외래관리료 포함) | B14: 1.초진 | D14: 회 | F14: 원 | G14: 야간및공휴 | I14: 회 | J14: 약품코드(일반명및제품명코드) | L14: 약품명(일반 및 제품명) | T14: 1회투약량 | V14: 1일투여횟수 | W14: 총투약일수 | AB14: 병원이상 | AC14: 73.5
B15: 2.재진 | D15: 회 | F15: 원 | G15: 야간및공휴 | I15: 회 | J15: 코드 | L15: 분류(예외분류코드) | P15: 상한가 | R15: 단가 | T15: 1회투약량 | V15: 1회투여량또는실시횟수 | W15: 총투여일수또는실시횟수 | X15: 금액 | Z15: 면허종류 | AA15: 면허번호 | AB15: 점수 | AC15: 단가
B16: 3.의약품관리료 | F16: 원 | R16: =ROUND(AB16*AC16,0) -> 0 | T16: 1 | V16: 1 | W16: 1 | X16: =R16*T16*V16*W16 -> 0 | AC16: =AC14 -> 73.5
B17: 4.응급 및 회송료 | F17: 원 | R17: =ROUND(AB17*AC17,0) -> 0 | T17: 1 | V17: 1 | W17: 1 | X17: =R17*T17*V17*W17 -> 0 | AC17: =AC16 -> 73.5
B18: 5.가정간호기본방문료 | F18: 원 | R18: =ROUND(AB18*AC18,0) -> 0 | T18: 1 | V18: 1 | W18: 1 | X18: =R18*T18*V18*W18 -> 0 | AC18: =AC17 -> 73.5
B19: 6.만성질환관리료 | D19: 회 | F19: 원 | R19: =ROUND(AB19*AC19,0) -> 0 | T19: 1 | V19: 1 | W19: 1 | X19: =R19*T19*V19*W19 -> 0 | AC19: =AC18 -> 73.5
A20: 3.투약료 | B20: 1.내복 | D20: 일분 | F20: 원 | I20: 원 | R20: =ROUND(AB20*AC20,0) -> 0 | T20: 1 | V20: 1 | W20: 1 | X20: =R20*T20*V20*W20 -> 0 | AC20: =AC19 -> 73.5
B21: 2.외용 | D21: 일분 | F21: 원 | I21: 원 | R21: =ROUND(AB21*AC21,0) -> 0 | T21: 1 | V21: 1 | W21: 1 | X21: =R21*T21*V21*W21 -> 0 | AC21: =AC20 -> 73.5
B22: 3.처방전 | D22: 회 | R22: =ROUND(AB22*AC22,0) -> 0 | T22: 1 | V22: 1 | W22: 1 | X22: =R22*T22*V22*W22 -> 0 | AC22: =AC21 -> 73.5
A23: 4.주사료 | B23: 1.피하또는근육내 | D23: 일 | F23: 원 | I23: 원 | R23: =ROUND(AB23*AC23,0) -> 0 | T23: 1 | V23: 1 | W23: 1 | X23: =R23*T23*V23*W23 -> 0 | AC23: =AC22 -> 73.5
B24: 2.정맥내 | D24: 일 | F24: 원 | I24: 원 | R24: =ROUND(AB24*AC24,0) -> 0 | T24: 1 | V24: 1 | W24: 1 | X24: =R24*T24*V24*W24 -> 0 | AC24: =AC23 -> 73.5
B25: 3.수액제 | D25: 회 | F25: 원 | I25: 원 | R25: =ROUND(AB25*AC25,0) -> 0 | T25: 1 | V25: 1 | W25: 1 | X25: =R25*T25*V25*W25 -> 0 | AC25: =AC24 -> 73.5
B26: 4.기타 | D26: 회 | F26: 원 | I26: 원 | R26: =ROUND(AB26*AC26,0) -> 0 | T26: 1 | V26: 1 | W26: 1 | X26: =R26*T26*V26*W26 -> 0 | AC26: =AC25 -> 73.5
B27: 5.특정재료 | F27: 원 | R27: =ROUND(AB27*AC27,0) -> 0 | T27: 1 | V27: 1 | W27: 1 | X27: =R27*T27*V27*W27 -> 0 | AC27: =AC26 -> 73.5
B28: 6.수혈 | D28: 회 | F28: 원 | I28: 원 | R28: =ROUND(AB28*AC28,0) -> 0 | T28: 1 | V28: 1 | W28: 1 | X28: =R28*T28*V28*W28 -> 0 | AC28: =AC27 -> 73.5
A29: 5.마취료 | B29: 1.. | D29: 회 | F29: 원 | I29: 원 | R29: =ROUND(AB29*AC29,0) -> 0 | T29: 1 | V29: 1 | W29: 1 | X29: =R29*T29*V29*W29 -> 0 | AC29: =AC28 -> 73.5
A30: 6.이학요법료 | B30: 1.. | D30: 종 | F30: 원 | I30: 원 | R30: =ROUND(AB30*AC30,0) -> 0 | T30: 1 | V30: 1 | W30: 1 | X30: =R30*T30*V30*W30 -> 0 | AC30: =AC29 -> 73.5
A31: 7.정신요법료 | B31: 1.. | D31: 종 | F31: 원 | I31: 원 | R31: =ROUND(AB31*AC31,0) -> 0 | T31: 1 | V31: 1 | W31: 1 | X31: =R31*T31*V31*W31 -> 0 | AC31: =AC30 -> 73.5
A32: 8.처치및수술료 | B32: 1.처치및수술 | D32: 종 | F32: 원 | I32: 원 | R32: =ROUND(AB32*AC32,0) -> 0 | T32: 1 | V32: 1 | W32: 1 | X32: =R32*T32*V32*W32 -> 0 | AC32: =AC31 -> 73.5
B33: 3.케스트 | D33: 회 | F33: 원 | I33: 원 | R33: =ROUND(AB33*AC33,0) -> 0 | T33: 1 | V33: 1 | W33: 1 | X33: =R33*T33*V33*W33 -> 0 | AC33: =AC32 -> 73.5
A34: 9.검사료 | B34: 1.자체검사 | D34: 종 | F34: 원 | I34: 원 | R34: =ROUND(AB34*AC34,0) -> 0 | T34: 1 | V34: 1 | W34: 1 | X34: =R34*T34*V34*W34 -> 0 | AC34: =AC33 -> 73.5
B35: 2.위탁검사관리 | F35: 원 | R35: =ROUND(AB35*AC35,0) -> 0 | T35: 1 | V35: 1 | W35: 1 | X35: =R35*T35*V35*W35 -> 0 | AC35: =AC34 -> 73.5
B36: 3.위탁검사 | D36: 종 | F36: 원 | R36: =ROUND(AB36*AC36,0) -> 0 | T36: 1 | V36: 1 | W36: 1 | X36: =R36*T36*V36*W36 -> 0 | AC36: =AC35 -> 73.5
A37: 10.영상진단및방사선치료료 | B37: 1.진단 | D37: 종 | F37: 원 | I37: 원 | R37: =ROUND(AB37*AC37,0) -> 0 | T37: 1 | V37: 1 | W37: 1 | X37: =R37*T37*V37*W37 -> 0 | AC37: =AC36 -> 73.5
B38: 2.치료 | D38: 종 | F38: 원 | I38: 원 | R38: =ROUND(AB38*AC38,0) -> 0 | T38: 1 | V38: 1 | W38: 1 | X38: =R38*T38*V38*W38 -> 0 | AC38: =AC37 -> 73.5
A39: S.특수장비 | B39: 1.CT | D39: 회 | F39: 원 | I39: 원 | R39: =ROUND(AB39*AC39,0) -> 0 | T39: 1 | V39: 1 | W39: 1 | X39: =R39*T39*V39*W39 -> 0 | AC39: =AC38 -> 73.5
B40: 2.MRI | D40: 회 | F40: 원 | I40: 원 | R40: =ROUND(AB40*AC40,0) -> 0 | T40: 1 | V40: 1 | W40: 1 | X40: =R40*T40*V40*W40 -> 0 | AC40: =AC39 -> 73.5
B41: 3.PET | D41: 회 | F41: 원 | I41: 원 | R41: =ROUND(AB41*AC41,0) -> 0 | T41: 1 | V41: 1 | W41: 1 | X41: =R41*T41*V41*W41 -> 0 | AC41: =AC40 -> 73.5
A42: T.특수재료 및 관련 행위료 | B42: 1.치료재료 | D42: 개 | F42: 원 | R42: =ROUND(AB42*AC42,0) -> 0 | T42: 1 | V42: 1 | W42: 1 | X42: =R42*T42*V42*W42 -> 0 | AC42: =AC41 -> 73.5
B43: 2.진료행위 | R43: =ROUND(AB43*AC43,0) -> 0 | T43: 1 | V43: 1 | W43: 1 | X43: =R43*T43*V43*W43 -> 0 | AC43: =AC42 -> 73.5
A44: A.100분의50본인부담 | B44: 1.의약품 | F44: 원 | I44: 원 | R44: =ROUND(AB44*AC44,0) -> 0 | T44: 1 | V44: 1 | W44: 1 | X44: =R44*T44*V44*W44 -> 0 | AC44: =AC43 -> 73.5
B45: 2.치료재료 | F45: 원 | I45: 원 | R45: =ROUND(AB45*AC45,0) -> 0 | T45: 1 | V45: 1 | W45: 1 | X45: =R45*T45*V45*W45 -> 0 | AC45: =AC44 -> 73.5
B46: 3.진료행위 | F46: 원 | I46: 원 | R46: =ROUND(AB46*AC46,0) -> 0 | T46: 1 | V46: 1 | W46: 1 | X46: =R46*T46*V46*W46 -> 0 | AC46: =AC45 -> 73.5
A47: B.100분의80본인부담 | B47: 1.의약품 | F47: 원 | I47: 원 | R47: =ROUND(AB47*AC47,0) -> 0 | T47: 1 | V47: 1 | W47: 1 | X47: =R47*T47*V47*W47 -> 0 | AC47: =AC46 -> 73.5
B48: 2.치료재료 | F48: 원 | I48: 원 | R48: =ROUND(AB48*AC48,0) -> 0 | T48: 1 | V48: 1 | W48: 1 | X48: =R48*T48*V48*W48 -> 0 | AC48: =AC47 -> 73.5
B49: 3.진료행위 | F49: 원 | I49: 원 | R49: =ROUND(AB49*AC49,0) -> 0 | T49: 1 | V49: 1 | W49: 1 | X49: =R49*T49*V49*W49 -> 0 | AC49: =AC48 -> 73.5
A50: D.100분의30본인부담 | B50: 1.의약품 | F50: 원 | I50: 원 | R50: =ROUND(AB50*AC50,0) -> 0 | T50: 1 | V50: 1 | W50: 1 | X50: =R50*T50*V50*W50 -> 0 | AC50: =AC49 -> 73.5
B51: 2.치료재료 | F51: 원 | I51: 원 | R51: =ROUND(AB51*AC51,0) -> 0 | T51: 1 | V51: 1 | W51: 1 | X51: =R51*T51*V51*W51 -> 0 | AC51: =AC50 -> 73.5
B52: 3.진료행위 | F52: 원 | I52: 원 | R52: =ROUND(AB52*AC52,0) -> 0 | T52: 1 | V52: 1 | W52: 1 | X52: =R52*T52*V52*W52 -> 0 | AC52: =AC51 -> 73.5
A53: E.100분의90본인부담 | B53: 1.의약품 | F53: 원 | I53: 원 | R53: =ROUND(AB53*AC53,0) -> 0 | T53: 1 | V53: 1 | W53: 1 | X53: =R53*T53*V53*W53 -> 0 | AC53: =AC52 -> 73.5
B54: 2.치료재료 | F54: 원 | I54: 원 | R54: =ROUND(AB54*AC54,0) -> 0 | T54: 1 | V54: 1 | W54: 1 | X54: =R54*T54*V54*W54 -> 0 | AC54: =AC53 -> 73.5
B55: 3.진료행위 | F55: 원 | I55: 원 | R55: =ROUND(AB55*AC55,0) -> 0 | T55: 1 | V55: 1 | W55: 1 | X55: =R55*T55*V55*W55 -> 0 | AC55: =AC54 -> 73.5
A56: U.건강보험100분의100본인부담 | B56: 1.의약품 | D56: 회 | F56: 원 | I56: 원 | J56: 특정내역
B57: 2.치료재료 | D57: 회 | F57: 원 | I57: 원
B58: 3.진료행위 | D58: 회 | F58: 원 | I58: 원
A59: V.보훈등100분의100본인부담 | B59: 1.의약품 | D59: 회 | F59: 원 | I59: 원
B60: 2.치료재료 | D60: 회 | F60: 원 | I60: 원
B61: 3.진료행위 | D61: 회 | F61: 원 | I61: 원
A62: W.비급여 | B62: 1.의약품 | D62: 회 | F62: 원 | I62: 원 | J62: 수술코드
B63: 2.치료재료 | D63: 회 | F63: 원 | I63: 원
B64: 3.진료행위 | D64: 회 | F64: 원 | I64: 원
A65: 투약료총액 | I65: 원 | J65: 18.장애인의료비 | T65: 원 | U65: 심사내역 | V65: 구분 | W65: 코드 | Y65: 조정 | AA65: 1.2
A66: 특수장비총액 | I66: 원 | J66: 19. 청구액 | O66: =E72-E73 -> 0 | T66: 원
A67: 특수재료 및 관련행위료 총액 | I67: 원 | J67: 20.본인부담상한액초과액 | T67: 원
A68: 보훈등 100분의 100 본인부담총액 | I68: 원 | J68: 21.요양급여비용총액2, 진료비총액 | T68: 원
A69: 비급여총액 | I69: 원 | J69: 22. 보훈청구액 | T69: 원
A70: 11. 소계 | E70: =SUM(E14:E42) -> 0 | F70: 원 | G70: =SUM(G20:H42) -> 0 | I70: 원 | J70: 23.건강보험100분의100본인부담총액 | O70: =E69 -> 0 | T70: 원
A71: 12. 가산율 | F71: % | G71: =ROUND(G70*E71/100,0) -> 0 | I71: 원 | J71: 24.보훈본인일부부담금 | T71: 원 | AA71: 감1
A72: 15. 요양급여비용총액1 | E72: =E70+G70+G71 -> 0 | I72: 원 | J72: 25.100분의100미만총액 | T72: 원 | AA72: 감2
A73: 16. 본인일부부담금 | E73: =ROUNDDOWN(E72*0.4,-2) -> 0 | I73: 원 | J73: 26.100분의100미만본인일부부담금 | T73: 원 | AA73: 증1
A74: 17. 지원금 | I74: 원 | J74: 27.100분의100미만청구액 | T74: 원 | AA74: 증2
A75: 일련번호 | E75: #심사조정 | J75: 28.100분의100미만보훈청구액 | T75: 원 | V75: 계
J76: [정률] | V76: 190mm*320mm(일반용지 60g/m^2(재활용품)

Sheet 9번
C1: 문제번호
C2: 학반 | D2: A
C3: 학번 | D3: 201620014
C4: 성명 | D4: 홍길동
C5: 조명칭 | D5: 구름
C6: 조원들 | D6: 김길동, 홍길동, 박길동, 이길동
C7: 요양기관구분
A9: 수정전 | G9: 수정후
A10: 성별 | B10: 나이 | C10: 코드 | D10: 병명 | E10: 진료과 | G10: =A10 -> 성별 | H10: =B10 -> 나이 | I10: =C10 -> 코드 | J10: =D10 -> 병명 | K10: 변경사유 | L10: 진료과
G11: =A11 -> 0 | H11: =B11 -> 0 | I11: =C11 -> 0 | J11: =D11 -> 0 | L11: =E11 -> 0
I12: =C12 -> 0 | J12: =D12 -> 0
I13: =C13 -> 0 | J13: =D13 -> 0
I14: =C14 -> 0 | J14: =D14 -> 0
C16: 수정전 | H16: 수정후 | M16: 의원 | N16: 81.4 | O16: 병원급이상 | P16: 73.5
C17: 구분 | D17: 진료내역 | E17: 횟수 | F17: 일수 | H17: 진료과 | I17: 코드 | J17: 분류 | K17: 횟수 | L17: 일수 | M17: 변경사유 | N17: 점수 | O17: 단가 | P17: 비용
C18: 진찰료 | H18: =C18 -> 진찰료 | J18: =D18 -> 0 | K18: =E18 -> 0 | L18: =F18 -> 0 | O18: =P16 -> 73.5 | P18: =N18*K18*L18*O18 -> 0
J19: =D19 -> 0 | K19: =E19 -> 0 | L19: =F19 -> 0 | O19: =O18 -> 73.5 | P19: =N19*K19*L19*O19 -> 0
C20: 약재료 | H20: =C20 -> 약재료 | J20: =D20 -> 0 | K20: =E20 -> 0 | L20: =F20 -> 0 | O20: =O19 -> 73.5 | P20: =N20*K20*L20*O20 -> 0
J21: =D21 -> 0 | K21: =E21 -> 0 | L21: =F21 -> 0 | O21: =O20 -> 73.5 | P21: =N21*K21*L21*O21 -> 0
J22: =D22 -> 0 | K22: =E22 -> 0 | L22: =F22 -> 0 | O22: =O21 -> 73.5 | P22: =N22*K22*L22*O22 -> 0
J23: =D23 -> 0 | K23: =E23 -> 0 | L23: =F23 -> 0 | O23: =O22 -> 73.5 | P23: =N23*K23*L23*O23 -> 0
J24: =D24 -> 0 | K24: =E24 -> 0 | L24: =F24 -> 0 | O24: =O23 -> 73.5 | P24: =N24*K24*L24*O24 -> 0
J25: =D25 -> 0 | K25: =E25 -> 0 | L25: =F25 -> 0 | O25: =O24 -> 73.5 | P25: =N25*K25*L25*O25 -> 0
J26: =D26 -> 0 | K26: =E26 -> 0 | L26: =F26 -> 0 | O26: =O25 -> 73.5 | P26: =N26*K26*L26*O26 -> 0
J27: =D27 -> 0 | K27: =E27 -> 0 | L27: =F27 -> 0 | O27: =O26 -> 73.5 | P27: =N27*K27*L27*O27 -> 0
J28: =D28 -> 0 | K28: =E28 -> 0 | L28: =F28 -> 0 | O28: =O27 -> 73.5 | P28: =N28*K28*L28*O28 -> 0
C29: 주사료 | H29: =C29 -> 주사료 | J29: =D29 -> 0 | K29: =E29 -> 0 | L29: =F29 -> 0 | O29: =O28 -> 73.5 | P29: =N29*K29*L29*O29 -> 0
J30: =D30 -> 0 | K30: =E30 -> 0 | L30: =F30 -> 0 | O30: =O29 -> 73.5 | P30: =N30*K30*L30*O30 -> 0
J31: =D31 -> 0 | K31: =E31 -> 0 | L31: =F31 -> 0 | O31: =O30 -> 73.5 | P31: =N31*K31*L31*O31 -> 0
J32: =D32 -> 0 | K32: =E32 -> 0 | L32: =F32 -> 0 | O32: =O31 -> 73.5 | P32: =N32*K32*L32*O32 -> 0
C33: 처치및 수술료 | H33: =C33 -> 처치및 수술료 | J33: =D33 -> 0 | K33: =E33 -> 0 | L33: =F33 -> 0 | O33: =O32 -> 73.5 | P33: =N33*K33*L33*O33 -> 0
J34: =D34 -> 0 | K34: =E34 -> 0 | L34: =F34 -> 0 | O34: =O33 -> 73.5 | P34: =N34*K34*L34*O34 -> 0
J35: =D35 -> 0 | K35: =E35 -> 0 | L35: =F35 -> 0 | O35: =O34 -> 73.5 | P35: =N35*K35*L35*O35 -> 0
J36: =D36 -> 0 | K36: =E36 -> 0 | L36: =F36 -> 0 | O36: =O35 -> 73.5 | P36: =N36*K36*L36*O36 -> 0
C37: 검사료 | H37: =C37 -> 검사료 | J37: =D37 -> 0 | K37: =E37 -> 0 | L37: =F37 -> 0 | O37: =O36 -> 73.5 | P37: =N37*K37*L37*O37 -> 0
J38: =D38 -> 0 | K38: =E38 -> 0 | L38: =F38 -> 0 | O38: =O37 -> 73.5 | P38: =N38*K38*L38*O38 -> 0
J39: =D39 -> 0 | K39: =E39 -> 0 | L39: =F39 -> 0 | O39: =O38 -> 73.5 | P39: =N39*K39*L39*O39 -> 0
J40: =D40 -> 0 | K40: =E40 -> 0 | L40: =F40 -> 0 | O40: =O39 -> 73.5 | P40: =N40*K40*L40*O40 -> 0
J41: =D41 -> 0 | K41: =E41 -> 0 | L41: =F41 -> 0 | O41: =O40 -> 73.5 | P41: =N41*K41*L41*O41 -> 0
J42: =D42 -> 0 | K42: =E42 -> 0 | L42: =F42 -> 0 | O42: =O41 -> 73.5 | P42: =N42*K42*L42*O42 -> 0
J43: =D43 -> 0 | K43: =E43 -> 0 | L43: =F43 -> 0 | O43: =O42 -> 73.5 | P43: =N43*K43*L43*O43 -> 0
J44: =D44 -> 0 | K44: =E44 -> 0 | L44: =F44 -> 0 | O44: =O43 -> 73.5 | P44: =N44*K44*L44*O44 -> 0
J45: =D45 -> 0 | K45: =E45 -> 0 | L45: =F45 -> 0 | O45: =O44 -> 73.5 | P45: =N45*K45*L45*O45 -> 0
J46: =D46 -> 0 | K46: =E46 -> 0 | L46: =F46 -> 0 | O46: =O45 -> 73.5 | P46: =N46*K46*L46*O46 -> 0

Sheet 9-1번
A1: (별지 제 11-1호 서식) | D1: 문제 | E1: 3 | Y1: (의과외래)
A2: 서식번호 | C2: G | D2: I | E2: 0 | F2: 3 | G2: 요양급여비용명세서 | T2: 요양기관
T3: 기호 | V3: J-252525
A4: 등록번호 | C4: 123456 | G4: 증번호
A5: 가입자성명 | C5: 홍길동 | G5: 공상등 구분 | T5: 명칭
A6: 수진자성명 | K6: -
A7: 상 병 명 | G7: 분류기호 | J7: 수술 | K7: 진료과목 | L7: 상해외인 | N7: 특정기호 | P7: 면허종류 | R7: 면허번호 | T7: 당원요양개시일 | V7: 당월요양급여일수(원내투약일수포함) | Y7: 진료결과
P8: 12345 | X8: 일
X9: 일
X10: 일
A11: 총내원일수 | D11: 일 | E11: 내원일 | F11: 1 2 3 4 5 6 7 8 9 10 11 12 13 14 15 16 17 18 19 20 21 22 23 24 25 26 27 28 29 30 31
A12: 구분 | E12: 기본진료,약제,특정재료(1) | G12: 진료행위(2) | J12: 처방전발급번호 | L12: 20170403-0005 | T12: 처방일수 | W12: 본인부담금발생횟수 | Y12: 직접조제횟수 | AB12: 2018
J13: 점검번호 | L13: 20170403-0005 | AB13: 의원 | AC13: 81.4
A14: 1.진찰료(외래관리료 포함) | B14: 1.초진 | D14: 회 | F14: 원 | G14: 야간및공휴 | I14: 회 | J14: 약품코드(일반명및제품명코드) | L14: 약품명(일반 및 제품명) | T14: 1회투약량 | V14: 1일투여횟수 | W14: 총투약일수 | AB14: 병원이상 | AC14: 73.5
B15: 2.재진 | D15: 회 | F15: 원 | G15: 야간및공휴 | I15: 회 | J15: 코드 | L15: 분류(예외분류코드) | P15: 상한가 | R15: 단가 | T15: 1회투약량 | V15: 1회투여량또는실시횟수 | W15: 총투여일수또는실시횟수 | X15: 금액 | Z15: 면허종류 | AA15: 면허번호 | AB15: 점수 | AC15: 단가
B16: 3.의약품관리료 | F16: 원 | R16: =ROUND(AB16*AC16,0) -> 0 | T16: 1 | V16: 1 | W16: 1 | X16: =R16*T16*V16*W16 -> 0 | AC16: =AC14 -> 73.5
B17: 4.응급 및 회송료 | F17: 원 | R17: =ROUND(AB17*AC17,0) -> 0 | T17: 1 | V17: 1 | W17: 1 | X17: =R17*T17*V17*W17 -> 0 | AC17: =AC16 -> 73.5
B18: 5.가정간호기본방문료 | F18: 원 | R18: =ROUND(AB18*AC18,0) -> 0 | T18: 1 | V18: 1 | W18: 1 | X18: =R18*T18*V18*W18 -> 0 | AC18: =AC17 -> 73.5
B19: 6.만성질환관리료 | D19: 회 | F19: 원 | R19: =ROUND(AB19*AC19,0) -> 0 | T19: 1 | V19: 1 | W19: 1 | X19: =R19*T19*V19*W19 -> 0 | AC19: =AC18 -> 73.5
A20: 3.투약료 | B20: 1.내복 | D20: 일분 | F20: 원 | I20: 원 | R20: =ROUND(AB20*AC20,0) -> 0 | T20: 1 | V20: 1 | W20: 1 | X20: =R20*T20*V20*W20 -> 0 | AC20: =AC19 -> 73.5
B21: 2.외용 | D21: 일분 | F21: 원 | I21: 원 | R21: =ROUND(AB21*AC21,0) -> 0 | T21: 1 | V21: 1 | W21: 1 | X21: =R21*T21*V21*W21 -> 0 | AC21: =AC20 -> 73.5
B22: 3.처방전 | D22: 회 | R22: =ROUND(AB22*AC22,0) -> 0 | T22: 1 | V22: 1 | W22: 1 | X22: =R22*T22*V22*W22 -> 0 | AC22: =AC21 -> 73.5
A23: 4.주사료 | B23: 1.피하또는근육내 | D23: 일 | F23: 원 | I23: 원 | R23: =ROUND(AB23*AC23,0) -> 0 | T23: 1 | V23: 1 | W23: 1 | X23: =R23*T23*V23*W23 -> 0 | AC23: =AC22 -> 73.5
B24: 2.정맥내 | D24: 일 | F24: 원 | I24: 원 | R24: =ROUND(AB24*AC24,0) -> 0 | T24: 1 | V24: 1 | W24: 1 | X24: =R24*T24*V24*W24 -> 0 | AC24: =AC23 -> 73.5
B25: 3.수액제 | D25: 회 | F25: 원 | I25: 원 | R25: =ROUND(AB25*AC25,0) -> 0 | T25: 1 | V25: 1 | W25: 1 | X25: =R25*T25*V25*W25 -> 0 | AC25: =AC24 -> 73.5
B26: 4.기타 | D26: 회 | F26: 원 | I26: 원 | R26: =ROUND(AB26*AC26,0) -> 0 | T26: 1 | V26: 1 | W26: 1 | X26: =R26*T26*V26*W26 -> 0 | AC26: =AC25 -> 73.5
B27: 5.특정재료 | F27: 원 | R27: =ROUND(AB27*AC27,0) -> 0 | T27: 1 | V27: 1 | W27: 1 | X27: =R27*T27*V27*W27 -> 0 | AC27: =AC26 -> 73.5
B28: 6.수혈 | D28: 회 | F28: 원 | I28: 원 | R28: =ROUND(AB28*AC28,0) -> 0 | T28: 1 | V28: 1 | W28: 1 | X28: =R28*T28*V28*W28 -> 0 | AC28: =AC27 -> 73.5
A29: 5.마취료 | B29: 1.. | D29: 회 | F29: 원 | I29: 원 | R29: =ROUND(AB29*AC29,0) -> 0 | T29: 1 | V29: 1 | W29: 1 | X29: =R29*T29*V29*W29 -> 0 | AC29: =AC28 -> 73.5
A30: 6.이학요법료 | B30: 1.. | D30: 종 | F30: 원 | I30: 원 | R30: =ROUND(AB30*AC30,0) -> 0 | T30: 1 | V30: 1 | W30: 1 | X30: =R30*T30*V30*W30 -> 0 | AC30: =AC29 -> 73.5
A31: 7.정신요법료 | B31: 1.. | D31: 종 | F31: 원 | I31: 원 | R31: =ROUND(AB31*AC31,0) -> 0 | T31: 1 | V31: 1 | W31: 1 | X31: =R31*T31*V31*W31 -> 0 | AC31: =AC30 -> 73.5
A32: 8.처치및수술료 | B32: 1.처치및수술 | D32: 종 | F32: 원 | I32: 원 | R32: =ROUND(AB32*AC32,0) -> 0 | T32: 1 | V32: 1 | W32: 1 | X32: =R32*T32*V32*W32 -> 0 | AC32: =AC31 -> 73.5
B33: 3.케스트 | D33: 회 | F33: 원 | I33: 원 | R33: =ROUND(AB33*AC33,0) -> 0 | T33: 1 | V33: 1 | W33: 1 | X33: =R33*T33*V33*W33 -> 0 | AC33: =AC32 -> 73.5
A34: 9.검사료 | B34: 1.자체검사 | D34: 종 | F34: 원 | I34: 원 | R34: =ROUND(AB34*AC34,0) -> 0 | T34: 1 | V34: 1 | W34: 1 | X34: =R34*T34*V34*W34 -> 0 | AC34: =AC33 -> 73.5
B35: 2.위탁검사관리 | F35: 원 | R35: =ROUND(AB35*AC35,0) -> 0 | T35: 1 | V35: 1 | W35: 1 | X35: =R35*T35*V35*W35 -> 0 | AC35: =AC34 -> 73.5
B36: 3.위탁검사 | D36: 종 | F36: 원 | R36: =ROUND(AB36*AC36,0) -> 0 | T36: 1 | V36: 1 | W36: 1 | X36: =R36*T36*V36*W36 -> 0 | AC36: =AC35 -> 73.5
A37: 10.영상진단및방사선치료료 | B37: 1.진단 | D37: 종 | F37: 원 | I37: 원 | R37: =ROUND(AB37*AC37,0) -> 0 | T37: 1 | V37: 1 | W37: 1 | X37: =R37*T37*V37*W37 -> 0 | AC37: =AC36 -> 73.5
B38: 2.치료 | D38: 종 | F38: 원 | I38: 원 | R38: =ROUND(AB38*AC38,0) -> 0 | T38: 1 | V38: 1 | W38: 1 | X38: =R38*T38*V38*W38 -> 0 | AC38: =AC37 -> 73.5
A39: S.특수장비 | B39: 1.CT | D39: 회 | F39: 원 | I39: 원 | R39: =ROUND(AB39*AC39,0) -> 0 | T39: 1 | V39: 1 | W39: 1 | X39: =R39*T39*V39*W39 -> 0 | AC39: =AC38 -> 73.5
B40: 2.MRI | D40: 회 | F40: 원 | I40: 원 | R40: =ROUND(AB40*AC40,0) -> 0 | T40: 1 | V40: 1 | W40: 1 | X40: =R40*T40*V40*W40 -> 0 | AC40: =AC39 -> 73.5
B41: 3.PET | D41: 회 | F41: 원 | I41: 원 | R41: =ROUND(AB41*AC41,0) -> 0 | T41: 1 | V41: 1 | W41: 1 | X41: =R41*T41*V41*W41 -> 0 | AC41: =AC40 -> 73.5
A42: T.특수재료 및 관련 행위료 | B42: 1.치료재료 | D42: 개 | F42: 원 | R42: =ROUND(AB42*AC42,0) -> 0 | T42: 1 | V42: 1 | W42: 1 | X42: =R42*T42*V42*W42 -> 0 | AC42: =AC41 -> 73.5
B43: 2.진료행위 | R43: =ROUND(AB43*AC43,0) -> 0 | T43: 1 | V43: 1 | W43: 1 | X43: =R43*T43*V43*W43 -> 0 | AC43: =AC42 -> 73.5
A44: A.100분의50본인부담 | B44: 1.의약품 | F44: 원 | I44: 원 | R44: =ROUND(AB44*AC44,0) -> 0 | T44: 1 | V44: 1 | W44: 1 | X44: =R44*T44*V44*W44 -> 0 | AC44: =AC43 -> 73.5
B45: 2.치료재료 | F45: 원 | I45: 원 | R45: =ROUND(AB45*AC45,0) -> 0 | T45: 1 | V45: 1 | W45: 1 | X45: =R45*T45*V45*W45 -> 0 | AC45: =AC44 -> 73.5
B46: 3.진료행위 | F46: 원 | I46: 원 | R46: =ROUND(AB46*AC46,0) -> 0 | T46: 1 | V46: 1 | W46: 1 | X46: =R46*T46*V46*W46 -> 0 | AC46: =AC45 -> 73.5
A47: B.100분의80본인부담 | B47: 1.의약품 | F47: 원 | I47: 원 | R47: =ROUND(AB47*AC47,0) -> 0 | T47: 1 | V47: 1 | W47: 1 | X47: =R47*T47*V47*W47 -> 0 | AC47: =AC46 -> 73.5
B48: 2.치료재료 | F48: 원 | I48: 원 | R48: =ROUND(AB48*AC48,0) -> 0 | T48: 1 | V48: 1 | W48: 1 | X48: =R48*T48*V48*W48 -> 0 | AC48: =AC47 -> 73.5
B49: 3.진료행위 | F49: 원 | I49: 원 | R49: =ROUND(AB49*AC49,0) -> 0 | T49: 1 | V49: 1 | W49: 1 | X49: =R49*T49*V49*W49 -> 0 | AC49: =AC48 -> 73.5
A50: D.100분의30본인부담 | B50: 1.의약품 | F50: 원 | I50: 원 | R50: =ROUND(AB50*AC50,0) -> 0 | T50: 1 | V50: 1 | W50: 1 | X50: =R50*T50*V50*W50 -> 0 | AC50: =AC49 -> 73.5
B51: 2.치료재료 | F51: 원 | I51: 원 | R51: =ROUND(AB51*AC51,0) -> 0 | T51: 1 | V51: 1 | W51: 1 | X51: =R51*T51*V51*W51 -> 0 | AC51: =AC50 -> 73.5
B52: 3.진료행위 | F52: 원 | I52: 원 | R52: =ROUND(AB52*AC52,0) -> 0 | T52: 1 | V52: 1 | W52: 1 | X52: =R52*T52*V52*W52 -> 0 | AC52: =AC51 -> 73.5
A53: E.100분의90본인부담 | B53: 1.의약품 | F53: 원 | I53: 원 | R53: =ROUND(AB53*AC53,0) -> 0 | T53: 1 | V53: 1 | W53: 1 | X53: =R53*T53*V53*W53 -> 0 | AC53: =AC52 -> 73.5
B54: 2.치료재료 | F54: 원 | I54: 원 | R54: =ROUND(AB54*AC54,0) -> 0 | T54: 1 | V54: 1 | W54: 1 | X54: =R54*T54*V54*W54 -> 0 | AC54: =AC53 -> 73.5
B55: 3.진료행위 | F55: 원 | I55: 원 | R55: =ROUND(AB55*AC55,0) -> 0 | T55: 1 | V55: 1 | W55: 1 | X55: =R55*T55*V55*W55 -> 0 | AC55: =AC54 -> 73.5
A56: U.건강보험100분의100본인부담 | B56: 1.의약품 | D56: 회 | F56: 원 | I56: 원 | J56: 특정내역
B57: 2.치료재료 | D57: 회 | F57: 원 | I57: 원
B58: 3.진료행위 | D58: 회 | F58: 원 | I58: 원
A59: V.보훈등100분의100본인부담 | B59: 1.의약품 | D59: 회 | F59: 원 | I59: 원
B60: 2.치료재료 | D60: 회 | F60: 원 | I60: 원
B61: 3.진료행위 | D61: 회 | F61: 원 | I61: 원
A62: W.비급여 | B62: 1.의약품 | D62: 회 | F62: 원 | I62: 원 | J62: 수술코드
B63: 2.치료재료 | D63: 회 | F63: 원 | I63: 원
B64: 3.진료행위 | D64: 회 | F64: 원 | I64: 원
A65: 투약료총액 | I65: 원 | J65: 18.장애인의료비 | T65: 원 | U65: 심사내역 | V65: 구분 | W65: 코드 | Y65: 조정 | AA65: 1.2
A66: 특수장비총액 | I66: 원 | J66: 19. 청구액 | O66: =E72-E73 -> 0 | T66: 원
A67: 특수재료 및 관련행위료 총액 | I67: 원 | J67: 20.본인부담상한액초과액 | T67: 원
A68: 보훈등 100분의 100 본인부담총액 | I68: 원 | J68: 21.요양급여비용총액2, 진료비총액 | T68: 원
A69: 비급여총액 | I69: 원 | J69: 22. 보훈청구액 | T69: 원
A70: 11. 소계 | E70: =SUM(E14:E42) -> 0 | F70: 원 | G70: =SUM(G20:H42) -> 0 | I70: 원 | J70: 23.건강보험100분의100본인부담총액 | O70: =E69 -> 0 | T70: 원
A71: 12. 가산율 | F71: % | G71: =ROUND(G70*E71/100,0) -> 0 | I71: 원 | J71: 24.보훈본인일부부담금 | T71: 원 | AA71: 감1
A72: 15. 요양급여비용총액1 | E72: =E70+G70+G71 -> 0 | I72: 원 | J72: 25.100분의100미만총액 | T72: 원 | AA72: 감2
A73: 16. 본인일부부담금 | E73: =ROUNDDOWN(E72*0.4,-2) -> 0 | I73: 원 | J73: 26.100분의100미만본인일부부담금 | T73: 원 | AA73: 증1
A74: 17. 지원금 | I74: 원 | J74: 27.100분의100미만청구액 | T74: 원 | AA74: 증2
A75: 일련번호 | E75: #심사조정 | J75: 28.100분의100미만보훈청구액 | T75: 원 | V75: 계
J76: [정률] | V76: 190mm*320mm(일반용지 60g/m^2(재활용품)

Sheet 10번
C1: 문제번호
C2: 학반 | D2: A
C3: 학번 | D3: 201620014
C4: 성명 | D4: 홍길동
C5: 조명칭 | D5: 구름
C6: 조원들 | D6: 김길동, 홍길동, 박길동, 이길동
C7: 요양기관구분
A9: 수정전 | G9: 수정후
A10: 성별 | B10: 나이 | C10: 코드 | D10: 병명 | E10: 진료과 | G10: =A10 -> 성별 | H10: =B10 -> 나이 | I10: =C10 -> 코드 | J10: =D10 -> 병명 | K10: 변경사유 | L10: 진료과
G11: =A11 -> 0 | H11: =B11 -> 0 | I11: =C11 -> 0 | J11: =D11 -> 0 | L11: =E11 -> 0
I12: =C12 -> 0 | J12: =D12 -> 0
I13: =C13 -> 0 | J13: =D13 -> 0
I14: =C14 -> 0 | J14: =D14 -> 0
C16: 수정전 | H16: 수정후 | M16: 의원 | N16: 81.4 | O16: 병원급이상 | P16: 73.5
C17: 구분 | D17: 진료내역 | E17: 횟수 | F17: 일수 | H17: 진료과 | I17: 코드 | J17: 분류 | K17: 횟수 | L17: 일수 | M17: 변경사유 | N17: 점수 | O17: 단가 | P17: 비용
C18: 진찰료 | H18: =C18 -> 진찰료 | J18: =D18 -> 0 | K18: =E18 -> 0 | L18: =F18 -> 0 | O18: =P16 -> 73.5 | P18: =N18*K18*L18*O18 -> 0
J19: =D19 -> 0 | K19: =E19 -> 0 | L19: =F19 -> 0 | O19: =O18 -> 73.5 | P19: =N19*K19*L19*O19 -> 0
C20: 약재료 | H20: =C20 -> 약재료 | J20: =D20 -> 0 | K20: =E20 -> 0 | L20: =F20 -> 0 | O20: =O19 -> 73.5 | P20: =N20*K20*L20*O20 -> 0
J21: =D21 -> 0 | K21: =E21 -> 0 | L21: =F21 -> 0 | O21: =O20 -> 73.5 | P21: =N21*K21*L21*O21 -> 0
J22: =D22 -> 0 | K22: =E22 -> 0 | L22: =F22 -> 0 | O22: =O21 -> 73.5 | P22: =N22*K22*L22*O22 -> 0
J23: =D23 -> 0 | K23: =E23 -> 0 | L23: =F23 -> 0 | O23: =O22 -> 73.5 | P23: =N23*K23*L23*O23 -> 0
J24: =D24 -> 0 | K24: =E24 -> 0 | L24: =F24 -> 0 | O24: =O23 -> 73.5 | P24: =N24*K24*L24*O24 -> 0
J25: =D25 -> 0 | K25: =E25 -> 0 | L25: =F25 -> 0 | O25: =O24 -> 73.5 | P25: =N25*K25*L25*O25 -> 0
J26: =D26 -> 0 | K26: =E26 -> 0 | L26: =F26 -> 0 | O26: =O25 -> 73.5 | P26: =N26*K26*L26*O26 -> 0
J27: =D27 -> 0 | K27: =E27 -> 0 | L27: =F27 -> 0 | O27: =O26 -> 73.5 | P27: =N27*K27*L27*O27 -> 0
J28: =D28 -> 0 | K28: =E28 -> 0 | L28: =F28 -> 0 | O28: =O27 -> 73.5 | P28: =N28*K28*L28*O28 -> 0
C29: 주사료 | H29: =C29 -> 주사료 | J29: =D29 -> 0 | K29: =E29 -> 0 | L29: =F29 -> 0 | O29: =O28 -> 73.5 | P29: =N29*K29*L29*O29 -> 0
J30: =D30 -> 0 | K30: =E30 -> 0 | L30: =F30 -> 0 | O30: =O29 -> 73.5 | P30: =N30*K30*L30*O30 -> 0
J31: =D31 -> 0 | K31: =E31 -> 0 | L31: =F31 -> 0 | O31: =O30 -> 73.5 | P31: =N31*K31*L31*O31 -> 0
J32: =D32 -> 0 | K32: =E32 -> 0 | L32: =F32 -> 0 | O32: =O31 -> 73.5 | P32: =N32*K32*L32*O32 -> 0
C33: 처치및 수술료 | H33: =C33 -> 처치및 수술료 | J33: =D33 -> 0 | K33: =E33 -> 0 | L33: =F33 -> 0 | O33: =O32 -> 73.5 | P33: =N33*K33*L33*O33 -> 0
J34: =D34 -> 0 | K34: =E34 -> 0 | L34: =F34 -> 0 | O34: =O33 -> 73.5 | P34: =N34*K34*L34*O34 -> 0
J35: =D35 -> 0 | K35: =E35 -> 0 | L35: =F35 -> 0 | O35: =O34 -> 73.5 | P35: =N35*K35*L35*O35 -> 0
J36: =D36 -> 0 | K36: =E36 -> 0 | L36: =F36 -> 0 | O36: =O35 -> 73.5 | P36: =N36*K36*L36*O36 -> 0
C37: 검사료 | H37: =C37 -> 검사료 | J37: =D37 -> 0 | K37: =E37 -> 0 | L37: =F37 -> 0 | O37: =O36 -> 73.5 | P37: =N37*K37*L37*O37 -> 0
J38: =D38 -> 0 | K38: =E38 -> 0 | L38: =F38 -> 0 | O38: =O37 -> 73.5 | P38: =N38*K38*L38*O38 -> 0
J39: =D39 -> 0 | K39: =E39 -> 0 | L39: =F39 -> 0 | O39: =O38 -> 73.5 | P39: =N39*K39*L39*O39 -> 0
J40: =D40 -> 0 | K40: =E40 -> 0 | L40: =F40 -> 0 | O40: =O39 -> 73.5 | P40: =N40*K40*L40*O40 -> 0
J41: =D41 -> 0 | K41: =E41 -> 0 | L41: =F41 -> 0 | O41: =O40 -> 73.5 | P41: =N41*K41*L41*O41 -> 0
J42: =D42 -> 0 | K42: =E42 -> 0 | L42: =F42 -> 0 | O42: =O41 -> 73.5 | P42: =N42*K42*L42*O42 -> 0
J43: =D43 -> 0 | K43: =E43 -> 0 | L43: =F43 -> 0 | O43: =O42 -> 73.5 | P43: =N43*K43*L43*O43 -> 0
J44: =D44 -> 0 | K44: =E44 -> 0 | L44: =F44 -> 0 | O44: =O43 -> 73.5 | P44: =N44*K44*L44*O44 -> 0
J45: =D45 -> 0 | K45: =E45 -> 0 | L45: =F45 -> 0 | O45: =O44 -> 73.5 | P45: =N45*K45*L45*O45 -> 0
J46: =D46 -> 0 | K46: =E46 -> 0 | L46: =F46 -> 0 | O46: =O45 -> 73.5 | P46: =N46*K46*L46*O46 -> 0

Sheet 10-1번
A1: (별지 제 11-1호 서식) | D1: 문제 | E1: 3 | Y1: (의과외래)
A2: 서식번호 | C2: G | D2: I | E2: 0 | F2: 3 | G2: 요양급여비용명세서 | T2: 요양기관
T3: 기호 | V3: J-252525
A4: 등록번호 | C4: 123456 | G4: 증번호
A5: 가입자성명 | C5: 홍길동 | G5: 공상등 구분 | T5: 명칭
A6: 수진자성명 | K6: -
A7: 상 병 명 | G7: 분류기호 | J7: 수술 | K7: 진료과목 | L7: 상해외인 | N7: 특정기호 | P7: 면허종류 | R7: 면허번호 | T7: 당원요양개시일 | V7: 당월요양급여일수(원내투약일수포함) | Y7: 진료결과
P8: 12345 | X8: 일
X9: 일
X10: 일
A11: 총내원일수 | D11: 일 | E11: 내원일 | F11: 1 2 3 4 5 6 7 8 9 10 11 12 13 14 15 16 17 18 19 20 21 22 23 24 25 26 27 28 29 30 31
A12: 구분 | E12: 기본진료,약제,특정재료(1) | G12: 진료행위(2) | J12: 처방전발급번호 | L12: 20170403-0005 | T12: 처방일수 | W12: 본인부담금발생횟수 | Y12: 직접조제횟수 | AB12: 2018
J13: 점검번호 | L13: 20170403-0005 | AB13: 의원 | AC13: 81.4
A14: 1.진찰료(외래관리료 포함) | B14: 1.초진 | D14: 회 | F14: 원 | G14: 야간및공휴 | I14: 회 | J14: 약품코드(일반명및제품명코드) | L14: 약품명(일반 및 제품명) | T14: 1회투약량 | V14: 1일투여횟수 | W14: 총투약일수 | AB14: 병원이상 | AC14: 73.5
B15: 2.재진 | D15: 회 | F15: 원 | G15: 야간및공휴 | I15: 회 | J15: 코드 | L15: 분류(예외분류코드) | P15: 상한가 | R15: 단가 | T15: 1회투약량 | V15: 1회투여량또는실시횟수 | W15: 총투여일수또는실시횟수 | X15: 금액 | Z15: 면허종류 | AA15: 면허번호 | AB15: 점수 | AC15: 단가
B16: 3.의약품관리료 | F16: 원 | R16: =ROUND(AB16*AC16,0) -> 0 | T16: 1 | V16: 1 | W16: 1 | X16: =R16*T16*V16*W16 -> 0 | AC16: =AC14 -> 73.5
B17: 4.응급 및 회송료 | F17: 원 | R17: =ROUND(AB17*AC17,0) -> 0 | T17: 1 | V17: 1 | W17: 1 | X17: =R17*T17*V17*W17 -> 0 | AC17: =AC16 -> 73.5
B18: 5.가정간호기본방문료 | F18: 원 | R18: =ROUND(AB18*AC18,0) -> 0 | T18: 1 | V18: 1 | W18: 1 | X18: =R18*T18*V18*W18 -> 0 | AC18: =AC17 -> 73.5
B19: 6.만성질환관리료 | D19: 회 | F19: 원 | R19: =ROUND(AB19*AC19,0) -> 0 | T19: 1 | V19: 1 | W19: 1 | X19: =R19*T19*V19*W19 -> 0 | AC19: =AC18 -> 73.5
A20: 3.투약료 | B20: 1.내복 | D20: 일분 | F20: 원 | I20: 원 | R20: =ROUND(AB20*AC20,0) -> 0 | T20: 1 | V20: 1 | W20: 1 | X20: =R20*T20*V20*W20 -> 0 | AC20: =AC19 -> 73.5
B21: 2.외용 | D21: 일분 | F21: 원 | I21: 원 | R21: =ROUND(AB21*AC21,0) -> 0 | T21: 1 | V21: 1 | W21: 1 | X21: =R21*T21*V21*W21 -> 0 | AC21: =AC20 -> 73.5
B22: 3.처방전 | D22: 회 | R22: =ROUND(AB22*AC22,0) -> 0 | T22: 1 | V22: 1 | W22: 1 | X22: =R22*T22*V22*W22 -> 0 | AC22: =AC21 -> 73.5
A23: 4.주사료 | B23: 1.피하또는근육내 | D23: 일 | F23: 원 | I23: 원 | R23: =ROUND(AB23*AC23,0) -> 0 | T23: 1 | V23: 1 | W23: 1 | X23: =R23*T23*V23*W23 -> 0 | AC23: =AC22 -> 73.5
B24: 2.정맥내 | D24: 일 | F24: 원 | I24: 원 | R24: =ROUND(AB24*AC24,0) -> 0 | T24: 1 | V24: 1 | W24: 1 | X24: =R24*T24*V24*W24 -> 0 | AC24: =AC23 -> 73.5
B25: 3.수액제 | D25: 회 | F25: 원 | I25: 원 | R25: =ROUND(AB25*AC25,0) -> 0 | T25: 1 | V25: 1 | W25: 1 | X25: =R25*T25*V25*W25 -> 0 | AC25: =AC24 -> 73.5
B26: 4.기타 | D26: 회 | F26: 원 | I26: 원 | R26: =ROUND(AB26*AC26,0) -> 0 | T26: 1 | V26: 1 | W26: 1 | X26: =R26*T26*V26*W26 -> 0 | AC26: =AC25 -> 73.5
B27: 5.특정재료 | F27: 원 | R27: =ROUND(AB27*AC27,0) -> 0 | T27: 1 | V27: 1 | W27: 1 | X27: =R27*T27*V27*W27 -> 0 | AC27: =AC26 -> 73.5
B28: 6.수혈 | D28: 회 | F28: 원 | I28: 원 | R28: =ROUND(AB28*AC28,0) -> 0 | T28: 1 | V28: 1 | W28: 1 | X28: =R28*T28*V28*W28 -> 0 | AC28: =AC27 -> 73.5
A29: 5.마취료 | B29: 1.. | D29: 회 | F29: 원 | I29: 원 | R29: =ROUND(AB29*AC29,0) -> 0 | T29: 1 | V29: 1 | W29: 1 | X29: =R29*T29*V29*W29 -> 0 | AC29: =AC28 -> 73.5
A30: 6.이학요법료 | B30: 1.. | D30: 종 | F30: 원 | I30: 원 | R30: =ROUND(AB30*AC30,0) -> 0 | T30: 1 | V30: 1 | W30: 1 | X30: =R30*T30*V30*W30 -> 0 | AC30: =AC29 -> 73.5
A31: 7.정신요법료 | B31: 1.. | D31: 종 | F31: 원 | I31: 원 | R31: =ROUND(AB31*AC31,0) -> 0 | T31: 1 | V31: 1 | W31: 1 | X31: =R31*T31*V31*W31 -> 0 | AC31: =AC30 -> 73.5
A32: 8.처치및수술료 | B32: 1.처치및수술 | D32: 종 | F32: 원 | I32: 원 | R32: =ROUND(AB32*AC32,0) -> 0 | T32: 1 | V32: 1 | W32: 1 | X32: =R32*T32*V32*W32 -> 0 | AC32: =AC31 -> 73.5
B33: 3.케스트 | D33: 회 | F33: 원 | I33: 원 | R33: =ROUND(AB33*AC33,0) -> 0 | T33: 1 | V33: 1 | W33: 1 | X33: =R33*T33*V33*W33 -> 0 | AC33: =AC32 -> 73.5
A34: 9.검사료 | B34: 1.자체검사 | D34: 종 | F34: 원 | I34: 원 | R34: =ROUND(AB34*AC34,0) -> 0 | T34: 1 | V34: 1 | W34: 1 | X34: =R34*T34*V34*W34 -> 0 | AC34: =AC33 -> 73.5
B35: 2.위탁검사관리 | F35: 원 | R35: =ROUND(AB35*AC35,0) -> 0 | T35: 1 | V35: 1 | W35: 1 | X35: =R35*T35*V35*W35 -> 0 | AC35: =AC34 -> 73.5
B36: 3.위탁검사 | D36: 종 | F36: 원 | R36: =ROUND(AB36*AC36,0) -> 0 | T36: 1 | V36: 1 | W36: 1 | X36: =R36*T36*V36*W36 -> 0 | AC36: =AC35 -> 73.5
A37: 10.영상진단및방사선치료료 | B37: 1.진단 | D37: 종 | F37: 원 | I37: 원 | R37: =ROUND(AB37*AC37,0) -> 0 | T37: 1 | V37: 1 | W37: 1 | X37: =R37*T37*V37*W37 -> 0 | AC37: =AC36 -> 73.5
B38: 2.치료 | D38: 종 | F38: 원 | I38: 원 | R38: =ROUND(AB38*AC38,0) -> 0 | T38: 1 | V38: 1 | W38: 1 | X38: =R38*T38*V38*W38 -> 0 | AC38: =AC37 -> 73.5
A39: S.특수장비 | B39: 1.CT | D39: 회 | F39: 원 | I39: 원 | R39: =ROUND(AB39*AC39,0) -> 0 | T39: 1 | V39: 1 | W39: 1 | X39: =R39*T39*V39*W39 -> 0 | AC39: =AC38 -> 73.5
B40: 2.MRI | D40: 회 | F40: 원 | I40: 원 | R40: =ROUND(AB40*AC40,0) -> 0 | T40: 1 | V40: 1 | W40: 1 | X40: =R40*T40*V40*W40 -> 0 | AC40: =AC39 -> 73.5
B41: 3.PET | D41: 회 | F41: 원 | I41: 원 | R41: =ROUND(AB41*AC41,0) -> 0 | T41: 1 | V41: 1 | W41: 1 | X41: =R41*T41*V41*W41 -> 0 | AC41: =AC40 -> 73.5
A42: T.특수재료 및 관련 행위료 | B42: 1.치료재료 | D42: 개 | F42: 원 | R42: =ROUND(AB42*AC42,0) -> 0 | T42: 1 | V42: 1 | W42: 1 | X42: =R42*T42*V42*W42 -> 0 | AC42: =AC41 -> 73.5
B43: 2.진료행위 | R43: =ROUND(AB43*AC43,0) -> 0 | T43: 1 | V43: 1 | W43: 1 | X43: =R43*T43*V43*W43 -> 0 | AC43: =AC42 -> 73.5
A44: A.100분의50본인부담 | B44: 1.의약품 | F44: 원 | I44: 원 | R44: =ROUND(AB44*AC44,0) -> 0 | T44: 1 | V44: 1 | W44: 1 | X44: =R44*T44*V44*W44 -> 0 | AC44: =AC43 -> 73.5
B45: 2.치료재료 | F45: 원 | I45: 원 | R45: =ROUND(AB45*AC45,0) -> 0 | T45: 1 | V45: 1 | W45: 1 | X45: =R45*T45*V45*W45 -> 0 | AC45: =AC44 -> 73.5
B46: 3.진료행위 | F46: 원 | I46: 원 | R46: =ROUND(AB46*AC46,0) -> 0 | T46: 1 | V46: 1 | W46: 1 | X46: =R46*T46*V46*W46 -> 0 | AC46: =AC45 -> 73.5
A47: B.100분의80본인부담 | B47: 1.의약품 | F47: 원 | I47: 원 | R47: =ROUND(AB47*AC47,0) -> 0 | T47: 1 | V47: 1 | W47: 1 | X47: =R47*T47*V47*W47 -> 0 | AC47: =AC46 -> 73.5
B48: 2.치료재료 | F48: 원 | I48: 원 | R48: =ROUND(AB48*AC48,0) -> 0 | T48: 1 | V48: 1 | W48: 1 | X48: =R48*T48*V48*W48 -> 0 | AC48: =AC47 -> 73.5
B49: 3.진료행위 | F49: 원 | I49: 원 | R49: =ROUND(AB49*AC49,0) -> 0 | T49: 1 | V49: 1 | W49: 1 | X49: =R49*T49*V49*W49 -> 0 | AC49: =AC48 -> 73.5
A50: D.100분의30본인부담 | B50: 1.의약품 | F50: 원 | I50: 원 | R50: =ROUND(AB50*AC50,0) -> 0 | T50: 1 | V50: 1 | W50: 1 | X50: =R50*T50*V50*W50 -> 0 | AC50: =AC49 -> 73.5
B51: 2.치료재료 | F51: 원 | I51: 원 | R51: =ROUND(AB51*AC51,0) -> 0 | T51: 1 | V51: 1 | W51: 1 | X51: =R51*T51*V51*W51 -> 0 | AC51: =AC50 -> 73.5
B52: 3.진료행위 | F52: 원 | I52: 원 | R52: =ROUND(AB52*AC52,0) -> 0 | T52: 1 | V52: 1 | W52: 1 | X52: =R52*T52*V52*W52 -> 0 | AC52: =AC51 -> 73.5
A53: E.100분의90본인부담 | B53: 1.의약품 | F53: 원 | I53: 원 | R53: =ROUND(AB53*AC53,0) -> 0 | T53: 1 | V53: 1 | W53: 1 | X53: =R53*T53*V53*W53 -> 0 | AC53: =AC52 -> 73.5
B54: 2.치료재료 | F54: 원 | I54: 원 | R54: =ROUND(AB54*AC54,0) -> 0 | T54: 1 | V54: 1 | W54: 1 | X54: =R54*T54*V54*W54 -> 0 | AC54: =AC53 -> 73.5
B55: 3.진료행위 | F55: 원 | I55: 원 | R55: =ROUND(AB55*AC55,0) -> 0 | T55: 1 | V55: 1 | W55: 1 | X55: =R55*T55*V55*W55 -> 0 | AC55: =AC54 -> 73.5
A56: U.건강보험100분의100본인부담 | B56: 1.의약품 | D56: 회 | F56: 원 | I56: 원 | J56: 특정내역
B57: 2.치료재료 | D57: 회 | F57: 원 | I57: 원
B58: 3.진료행위 | D58: 회 | F58: 원 | I58: 원
A59: V.보훈등100분의100본인부담 | B59: 1.의약품 | D59: 회 | F59: 원 | I59: 원
B60: 2.치료재료 | D60: 회 | F60: 원 | I60: 원
B61: 3.진료행위 | D61: 회 | F61: 원 | I61: 원
A62: W.비급여 | B62: 1.의약품 | D62: 회 | F62: 원 | I62: 원 | J62: 수술코드
B63: 2.치료재료 | D63: 회 | F63: 원 | I63: 원
B64: 3.진료행위 | D64: 회 | F64: 원 | I64: 원
A65: 투약료총액 | I65: 원 | J65: 18.장애인의료비 | T65: 원 | U65: 심사내역 | V65: 구분 | W65: 코드 | Y65: 조정 | AA65: 1.2
A66: 특수장비총액 | I66: 원 | J66: 19. 청구액 | O66: =E72-E73 -> 0 | T66: 원
A67: 특수재료 및 관련행위료 총액 | I67: 원 | J67: 20.본인부담상한액초과액 | T67: 원
A68: 보훈등 100분의 100 본인부담총액 | I68: 원 | J68: 21.요양급여비용총액2, 진료비총액 | T68: 원
A69: 비급여총액 | I69: 원 | J69: 22. 보훈청구액 | T69: 원
A70: 11. 소계 | E70: =SUM(E14:E42) -> 0 | F70: 원 | G70: =SUM(G20:H42) -> 0 | I70: 원 | J70: 23.건강보험100분의100본인부담총액 | O70: =E69 -> 0 | T70: 원
A71: 12. 가산율 | F71: % | G71: =ROUND(G70*E71/100,0) -> 0 | I71: 원 | J71: 24.보훈본인일부부담금 | T71: 원 | AA71: 감1
A72: 15. 요양급여비용총액1 | E72: =E70+G70+G71 -> 0 | I72: 원 | J72: 25.100분의100미만총액 | T72: 원 | AA72: 감2
A73: 16. 본인일부부담금 | E73: =ROUNDDOWN(E72*0.4,-2) -> 0 | I73: 원 | J73: 26.100분의100미만본인일부부담금 | T73: 원 | AA73: 증1
A74: 17. 지원금 | I74: 원 | J74: 27.100분의100미만청구액 | T74: 원 | AA74: 증2
A75: 일련번호 | E75: #심사조정 | J75: 28.100분의100미만보훈청구액 | T75: 원 | V75: 계
J76: [정률] | V76: 190mm*320mm(일반용지 60g/m^2(재활용품)

Sheet 명세서양식
A1: (별지 제 11-1호 서식) | D1: 문제 | E1: 3 | Y1: (의과외래)
A2: 서식번호 | C2: G | D2: I | E2: 0 | F2: 3 | G2: 요양급여비용명세서 | T2: 요양기관
T3: 기호 | V3: J-252525
A4: 등록번호 | C4: 123456 | G4: 증번호
A5: 가입자성명 | C5: 홍길동 | G5: 공상등 구분 | T5: 명칭
A6: 수진자성명 | K6: -
A7: 상 병 명 | G7: 분류기호 | J7: 수술 | K7: 진료과목 | L7: 상해외인 | N7: 특정기호 | P7: 면허종류 | R7: 면허번호 | T7: 당원요양개시일 | V7: 당월요양급여일수(원내투약일수포함) | Y7: 진료결과
P8: 12345 | X8: 일
X9: 일
X10: 일
A11: 총내원일수 | D11: 일 | E11: 내원일 | F11: 1 2 3 4 5 6 7 8 9 10 11 12 13 14 15 16 17 18 19 20 21 22 23 24 25 26 27 28 29 30 31
A12: 구분 | E12: 기본진료,약제,특정재료(1) | G12: 진료행위(2) | J12: 처방전발급번호 | L12: 20170403-0005 | T12: 처방일수 | W12: 본인부담금발생횟수 | Y12: 직접조제횟수 | AB12: 2018
J13: 점검번호 | L13: 20170403-0005 | AB13: 의원 | AC13: 81.4
A14: 1.진찰료(외래관리료 포함) | B14: 1.초진 | D14: 회 | F14: 원 | G14: 야간및공휴 | I14: 회 | J14: 약품코드(일반명및제품명코드) | L14: 약품명(일반 및 제품명) | T14: 1회투약량 | V14: 1일투여횟수 | W14: 총투약일수 | AB14: 병원이상 | AC14: 73.5
B15: 2.재진 | D15: 회 | F15: 원 | G15: 야간및공휴 | I15: 회 | J15: 코드 | L15: 분류(예외분류코드) | P15: 상한가 | R15: 단가 | T15: 1회투약량 | V15: 1회투여량또는실시횟수 | W15: 총투여일수또는실시횟수 | X15: 금액 | Z15: 면허종류 | AA15: 면허번호 | AB15: 점수 | AC15: 단가
B16: 3.의약품관리료 | F16: 원 | R16: =ROUND(AB16*AC16,0) -> 0 | T16: 1 | V16: 1 | W16: 1 | X16: =R16*T16*V16*W16 -> 0 | AC16: =AC14 -> 73.5
B17: 4.응급 및 회송료 | F17: 원 | R17: =ROUND(AB17*AC17,0) -> 0 | T17: 1 | V17: 1 | W17: 1 | X17: =R17*T17*V17*W17 -> 0 | AC17: =AC16 -> 73.5
B18: 5.가정간호기본방문료 | F18: 원 | R18: =ROUND(AB18*AC18,0) -> 0 | T18: 1 | V18: 1 | W18: 1 | X18: =R18*T18*V18*W18 -> 0 | AC18: =AC17 -> 73.5
B19: 6.만성질환관리료 | D19: 회 | F19: 원 | R19: =ROUND(AB19*AC19,0) -> 0 | T19: 1 | V19: 1 | W19: 1 | X19: =R19*T19*V19*W19 -> 0 | AC19: =AC18 -> 73.5
A20: 3.투약료 | B20: 1.내복 | D20: 일분 | F20: 원 | I20: 원 | R20: =ROUND(AB20*AC20,0) -> 0 | T20: 1 | V20: 1 | W20: 1 | X20: =R20*T20*V20*W20 -> 0 | AC20: =AC19 -> 73.5
B21: 2.외용 | D21: 일분 | F21: 원 | I21: 원 | R21: =ROUND(AB21*AC21,0) -> 0 | T21: 1 | V21: 1 | W21: 1 | X21: =R21*T21*V21*W21 -> 0 | AC21: =AC20 -> 73.5
B22: 3.처방전 | D22: 회 | R22: =ROUND(AB22*AC22,0) -> 0 | T22: 1 | V22: 1 | W22: 1 | X22: =R22*T22*V22*W22 -> 0 | AC22: =AC21 -> 73.5
A23: 4.주사료 | B23: 1.피하또는근육내 | D23: 일 | F23: 원 | I23: 원 | R23: =ROUND(AB23*AC23,0) -> 0 | T23: 1 | V23: 1 | W23: 1 | X23: =R23*T23*V23*W23 -> 0 | AC23: =AC22 -> 73.5
B24: 2.정맥내 | D24: 일 | F24: 원 | I24: 원 | R24: =ROUND(AB24*AC24,0) -> 0 | T24: 1 | V24: 1 | W24: 1 | X24: =R24*T24*V24*W24 -> 0 | AC24: =AC23 -> 73.5
B25: 3.수액제 | D25: 회 | F25: 원 | I25: 원 | R25: =ROUND(AB25*AC25,0) -> 0 | T25: 1 | V25: 1 | W25: 1 | X25: =R25*T25*V25*W25 -> 0 | AC25: =AC24 -> 73.5
B26: 4.기타 | D26: 회 | F26: 원 | I26: 원 | R26: =ROUND(AB26*AC26,0) -> 0 | T26: 1 | V26: 1 | W26: 1 | X26: =R26*T26*V26*W26 -> 0 | AC26: =AC25 -> 73.5
B27: 5.특정재료 | F27: 원 | R27: =ROUND(AB27*AC27,0) -> 0 | T27: 1 | V27: 1 | W27: 1 | X27: =R27*T27*V27*W27 -> 0 | AC27: =AC26 -> 73.5
B28: 6.수혈 | D28: 회 | F28: 원 | I28: 원 | R28: =ROUND(AB28*AC28,0) -> 0 | T28: 1 | V28: 1 | W28: 1 | X28: =R28*T28*V28*W28 -> 0 | AC28: =AC27 -> 73.5
A29: 5.마취료 | B29: 1.. | D29: 회 | F29: 원 | I29: 원 | R29: =ROUND(AB29*AC29,0) -> 0 | T29: 1 | V29: 1 | W29: 1 | X29: =R29*T29*V29*W29 -> 0 | AC29: =AC28 -> 73.5
A30: 6.이학요법료 | B30: 1.. | D30: 종 | F30: 원 | I30: 원 | R30: =ROUND(AB30*AC30,0) -> 0 | T30: 1 | V30: 1 | W30: 1 | X30: =R30*T30*V30*W30 -> 0 | AC30: =AC29 -> 73.5
A31: 7.정신요법료 | B31: 1.. | D31: 종 | F31: 원 | I31: 원 | R31: =ROUND(AB31*AC31,0) -> 0 | T31: 1 | V31: 1 | W31: 1 | X31: =R31*T31*V31*W31 -> 0 | AC31: =AC30 -> 73.5
A32: 8.처치및수술료 | B32: 1.처치및수술 | D32: 종 | F32: 원 | I32: 원 | R32: =ROUND(AB32*AC32,0) -> 0 | T32: 1 | V32: 1 | W32: 1 | X32: =R32*T32*V32*W32 -> 0 | AC32: =AC31 -> 73.5
B33: 3.케스트 | D33: 회 | F33: 원 | I33: 원 | R33: =ROUND(AB33*AC33,0) -> 0 | T33: 1 | V33: 1 | W33: 1 | X33: =R33*T33*V33*W33 -> 0 | AC33: =AC32 -> 73.5
A34: 9.검사료 | B34: 1.자체검사 | D34: 종 | F34: 원 | I34: 원 | R34: =ROUND(AB34*AC34,0) -> 0 | T34: 1 | V34: 1 | W34: 1 | X34: =R34*T34*V34*W34 -> 0 | AC34: =AC33 -> 73.5
B35: 2.위탁검사관리 | F35: 원 | R35: =ROUND(AB35*AC35,0) -> 0 | T35: 1 | V35: 1 | W35: 1 | X35: =R35*T35*V35*W35 -> 0 | AC35: =AC34 -> 73.5
B36: 3.위탁검사 | D36: 종 | F36: 원 | R36: =ROUND(AB36*AC36,0) -> 0 | T36: 1 | V36: 1 | W36: 1 | X36: =R36*T36*V36*W36 -> 0 | AC36: =AC35 -> 73.5
A37: 10.영상진단및방사선치료료 | B37: 1.진단 | D37: 종 | F37: 원 | I37: 원 | R37: =ROUND(AB37*AC37,0) -> 0 | T37: 1 | V37: 1 | W37: 1 | X37: =R37*T37*V37*W37 -> 0 | AC37: =AC36 -> 73.5
B38: 2.치료 | D38: 종 | F38: 원 | I38: 원 | R38: =ROUND(AB38*AC38,0) -> 0 | T38: 1 | V38: 1 | W38: 1 | X38: =R38*T38*V38*W38 -> 0 | AC38: =AC37 -> 73.5
A39: S.특수장비 | B39: 1.CT | D39: 회 | F39: 원 | I39: 원 | R39: =ROUND(AB39*AC39,0) -> 0 | T39: 1 | V39: 1 | W39: 1 | X39: =R39*T39*V39*W39 -> 0 | AC39: =AC38 -> 73.5
B40: 2.MRI | D40: 회 | F40: 원 | I40: 원 | R40: =ROUND(AB40*AC40,0) -> 0 | T40: 1 | V40: 1 | W40: 1 | X40: =R40*T40*V40*W40 -> 0 | AC40: =AC39 -> 73.5
B41: 3.PET | D41: 회 | F41: 원 | I41: 원 | R41: =ROUND(AB41*AC41,0) -> 0 | T41: 1 | V41: 1 | W41: 1 | X41: =R41*T41*V41*W41 -> 0 | AC41: =AC40 -> 73.5
A42: T.특수재료 및 관련 행위료 | B42: 1.치료재료 | D42: 개 | F42: 원 | R42: =ROUND(AB42*AC42,0) -> 0 | T42: 1 | V42: 1 | W42: 1 | X42: =R42*T42*V42*W42 -> 0 | AC42: =AC41 -> 73.5
B43: 2.진료행위 | R43: =ROUND(AB43*AC43,0) -> 0 | T43: 1 | V43: 1 | W43: 1 | X43: =R43*T43*V43*W43 -> 0 | AC43: =AC42 -> 73.5
A44: A.100분의50본인부담 | B44: 1.의약품 | F44: 원 | I44: 원 | R44: =ROUND(AB44*AC44,0) -> 0 | T44: 1 | V44: 1 | W44: 1 | X44: =R44*T44*V44*W44 -> 0 | AC44: =AC43 -> 73.5
B45: 2.치료재료 | F45: 원 | I45: 원 | R45: =ROUND(AB45*AC45,0) -> 0 | T45: 1 | V45: 1 | W45: 1 | X45: =R45*T45*V45*W45 -> 0 | AC45: =AC44 -> 73.5
B46: 3.진료행위 | F46: 원 | I46: 원 | R46: =ROUND(AB46*AC46,0) -> 0 | T46: 1 | V46: 1 | W46: 1 | X46: =R46*T46*V46*W46 -> 0 | AC46: =AC45 -> 73.5
A47: B.100분의80본인부담 | B47: 1.의약품 | F47: 원 | I47: 원 | R47: =ROUND(AB47*AC47,0) -> 0 | T47: 1 | V47: 1 | W47: 1 | X47: =R47*T47*V47*W47 -> 0 | AC47: =AC46 -> 73.5
B48: 2.치료재료 | F48: 원 | I48: 원 | R48: =ROUND(AB48*AC48,0) -> 0 | T48: 1 | V48: 1 | W48: 1 | X48: =R48*T48*V48*W48 -> 0 | AC48: =AC47 -> 73.5
B49: 3.진료행위 | F49: 원 | I49: 원 | R49: =ROUND(AB49*AC49,0) -> 0 | T49: 1 | V49: 1 | W49: 1 | X49: =R49*T49*V49*W49 -> 0 | AC49: =AC48 -> 73.5
A50: D.100분의30본인부담 | B50: 1.의약품 | F50: 원 | I50: 원 | R50: =ROUND(AB50*AC50,0) -> 0 | T50: 1 | V50: 1 | W50: 1 | X50: =R50*T50*V50*W50 -> 0 | AC50: =AC49 -> 73.5
B51: 2.치료재료 | F51: 원 | I51: 원 | R51: =ROUND(AB51*AC51,0) -> 0 | T51: 1 | V51: 1 | W51: 1 | X51: =R51*T51*V51*W51 -> 0 | AC51: =AC50 -> 73.5
B52: 3.진료행위 | F52: 원 | I52: 원 | R52: =ROUND(AB52*AC52,0) -> 0 | T52: 1 | V52: 1 | W52: 1 | X52: =R52*T52*V52*W52 -> 0 | AC52: =AC51 -> 73.5
A53: E.100분의90본인부담 | B53: 1.의약품 | F53: 원 | I53: 원 | R53: =ROUND(AB53*AC53,0) -> 0 | T53: 1 | V53: 1 | W53: 1 | X53: =R53*T53*V53*W53 -> 0 | AC53: =AC52 -> 73.5
B54: 2.치료재료 | F54: 원 | I54: 원 | R54: =ROUND(AB54*AC54,0) -> 0 | T54: 1 | V54: 1 | W54: 1 | X54: =R54*T54*V54*W54 -> 0 | AC54: =AC53 -> 73.5
B55: 3.진료행위 | F55: 원 | I55: 원 | R55: =ROUND(AB55*AC55,0) -> 0 | T55: 1 | V55: 1 | W55: 1 | X55: =R55*T55*V55*W55 -> 0 | AC55: =AC54 -> 73.5
A56: U.건강보험100분의100본인부담 | B56: 1.의약품 | D56: 회 | F56: 원 | I56: 원 | J56: 특정내역
B57: 2.치료재료 | D57: 회 | F57: 원 | I57: 원
B58: 3.진료행위 | D58: 회 | F58: 원 | I58: 원
A59: V.보훈등100분의100본인부담 | B59: 1.의약품 | D59: 회 | F59: 원 | I59: 원
B60: 2.치료재료 | D60: 회 | F60: 원 | I60: 원
B61: 3.진료행위 | D61: 회 | F61: 원 | I61: 원
A62: W.비급여 | B62: 1.의약품 | D62: 회 | F62: 원 | I62: 원 | J62: 수술코드
B63: 2.치료재료 | D63: 회 | F63: 원 | I63: 원
B64: 3.진료행위 | D64: 회 | F64: 원 | I64: 원
A65: 투약료총액 | I65: 원 | J65: 18.장애인의료비 | T65: 원 | U65: 심사내역 | V65: 구분 | W65: 코드 | Y65: 조정 | AA65: 1.2
A66: 특수장비총액 | I66: 원 | J66: 19. 청구액 | O66: =E72-E73 -> 0 | T66: 원
A67: 특수재료 및 관련행위료 총액 | I67: 원 | J67: 20.본인부담상한액초과액 | T67: 원
A68: 보훈등 100분의 100 본인부담총액 | I68: 원 | J68: 21.요양급여비용총액2, 진료비총액 | T68: 원
A69: 비급여총액 | I69: 원 | J69: 22. 보훈청구액 | T69: 원
A70: 11. 소계 | E70: =SUM(E14:E42) -> 0 | F70: 원 | G70: =SUM(G20:H42) -> 0 | I70: 원 | J70: 23.건강보험100분의100본인부담총액 | O70: =E69 -> 0 | T70: 원
A71: 12. 가산율 | F71: % | G71: =ROUND(G70*E71/100,0) -> 0 | I71: 원 | J71: 24.보훈본인일부부담금 | T71: 원 | AA71: 감1
A72: 15. 요양급여비용총액1 | E72: =E70+G70+G71 -> 0 | I72: 원 | J72: 25.100분의100미만총액 | T72: 원 | AA72: 감2
A73: 16. 본인일부부담금 | E73: =ROUNDDOWN(E72*0.4,-2) -> 0 | I73: 원 | J73: 26.100분의100미만본인일부부담금 | T73: 원 | AA73: 증1
A74: 17. 지원금 | I74: 원 | J74: 27.100분의100미만청구액 | T74: 원 | AA74: 증2
A75: 일련번호 | E75: #심사조정 | J75: 28.100분의100미만보훈청구액 | T75: 원 | V75: 계
J76: [정률] | V76: 190mm*320mm(일반용지 60g/m^2(재활용품)

Sheet 문제풀이양식
C1: 문제번호
C2: 학반 | D2: A
C3: 학번 | D3: 201620014
C4: 성명 | D4: 홍길동
C5: 조명칭 | D5: 구름
C6: 조원들 | D6: 김길동, 홍길동, 박길동, 이길동
C7: 요양기관구분
A9: 수정전 | G9: 수정후
A10: 성별 | B10: 나이 | C10: 코드 | D10: 병명 | E10: 진료과 | G10: =A10 -> 성별 | H10: =B10 -> 나이 | I10: =C10 -> 코드 | J10: =D10 -> 병명 | K10: 변경사유 | L10: 진료과
G11: =A11 -> 0 | H11: =B11 -> 0 | I11: =C11 -> 0 | J11: =D11 -> 0 | L11: =E11 -> 0
I12: =C12 -> 0 | J12: =D12 -> 0
I13: =C13 -> 0 | J13: =D13 -> 0
I14: =C14 -> 0 | J14: =D14 -> 0
C16: 수정전 | H16: 수정후 | M16: 의원 | N16: 81.4 | O16: 병원급이상 | P16: 73.5
C17: 구분 | D17: 진료내역 | E17: 횟수 | F17: 일수 | H17: 진료과 | I17: 코드 | J17: 분류 | K17: 횟수 | L17: 일수 | M17: 변경사유 | N17: 점수 | O17: 단가 | P17: 비용
C18: 진찰료 | H18: =C18 -> 진찰료 | J18: =D18 -> 0 | K18: =E18 -> 0 | L18: =F18 -> 0 | O18: =P16 -> 73.5 | P18: =N18*K18*L18*O18 -> 0
J19: =D19 -> 0 | K19: =E19 -> 0 | L19: =F19 -> 0 | O19: =O18 -> 73.5 | P19: =N19*K19*L19*O19 -> 0
C20: 약재료 | H20: =C20 -> 약재료 | J20: =D20 -> 0 | K20: =E20 -> 0 | L20: =F20 -> 0 | O20: =O19 -> 73.5 | P20: =N20*K20*L20*O20 -> 0
J21: =D21 -> 0 | K21: =E21 -> 0 | L21: =F21 -> 0 | O21: =O20 -> 73.5 | P21: =N21*K21*L21*O21 -> 0
J22: =D22 -> 0 | K22: =E22 -> 0 | L22: =F22 -> 0 | O22: =O21 -> 73.5 | P22: =N22*K22*L22*O22 -> 0
J23: =D23 -> 0 | K23: =E23 -> 0 | L23: =F23 -> 0 | O23: =O22 -> 73.5 | P23: =N23*K23*L23*O23 -> 0
J24: =D24 -> 0 | K24: =E24 -> 0 | L24: =F24 -> 0 | O24: =O23 -> 73.5 | P24: =N24*K24*L24*O24 -> 0
J25: =D25 -> 0 | K25: =E25 -> 0 | L25: =F25 -> 0 | O25: =O24 -> 73.5 | P25: =N25*K25*L25*O25 -> 0
J26: =D26 -> 0 | K26: =E26 -> 0 | L26: =F26 -> 0 | O26: =O25 -> 73.5 | P26: =N26*K26*L26*O26 -> 0
J27: =D27 -> 0 | K27: =E27 -> 0 | L27: =F27 -> 0 | O27: =O26 -> 73.5 | P27: =N27*K27*L27*O27 -> 0
J28: =D28 -> 0 | K28: =E28 -> 0 | L28: =F28 -> 0 | O28: =O27 -> 73.5 | P28: =N28*K28*L28*O28 -> 0
C29: 주사료 | H29: =C29 -> 주사료 | J29: =D29 -> 0 | K29: =E29 -> 0 | L29: =F29 -> 0 | O29: =O28 -> 73.5 | P29: =N29*K29*L29*O29 -> 0
J30: =D30 -> 0 | K30: =E30 -> 0 | L30: =F30 -> 0 | O30: =O29 -> 73.5 | P30: =N30*K30*L30*O30 -> 0
J31: =D31 -> 0 | K31: =E31 -> 0 | L31: =F31 -> 0 | O31: =O30 -> 73.5 | P31: =N31*K31*L31*O31 -> 0
J32: =D32 -> 0 | K32: =E32 -> 0 | L32: =F32 -> 0 | O32: =O31 -> 73.5 | P32: =N32*K32*L32*O32 -> 0
C33: 처치및 수술료 | H33: =C33 -> 처치및 수술료 | J33: =D33 -> 0 | K33: =E33 -> 0 | L33: =F33 -> 0 | O33: =O32 -> 73.5 | P33: =N33*K33*L33*O33 -> 0
J34: =D34 -> 0 | K34: =E34 -> 0 | L34: =F34 -> 0 | O34: =O33 -> 73.5 | P34: =N34*K34*L34*O34 -> 0
J35: =D35 -> 0 | K35: =E35 -> 0 | L35: =F35 -> 0 | O35: =O34 -> 73.5 | P35: =N35*K35*L35*O35 -> 0
J36: =D36 -> 0 | K36: =E36 -> 0 | L36: =F36 -> 0 | O36: =O35 -> 73.5 | P36: =N36*K36*L36*O36 -> 0
C37: 검사료 | H37: =C37 -> 검사료 | J37: =D37 -> 0 | K37: =E37 -> 0 | L37: =F37 -> 0 | O37: =O36 -> 73.5 | P37: =N37*K37*L37*O37 -> 0
J38: =D38 -> 0 | K38: =E38 -> 0 | L38: =F38 -> 0 | O38: =O37 -> 73.5 | P38: =N38*K38*L38*O38 -> 0
J39: =D39 -> 0 | K39: =E39 -> 0 | L39: =F39 -> 0 | O39: =O38 -> 73.5 | P39: =N39*K39*L39*O39 -> 0
J40: =D40 -> 0 | K40: =E40 -> 0 | L40: =F40 -> 0 | O40: =O39 -> 73.5 | P40: =N40*K40*L40*O40 -> 0
J41: =D41 -> 0 | K41: =E41 -> 0 | L41: =F41 -> 0 | O41: =O40 -> 73.5 | P41: =N41*K41*L41*O41 -> 0
J42: =D42 -> 0 | K42: =E42 -> 0 | L42: =F42 -> 0 | O42: =O41 -> 73.5 | P42: =N42*K42*L42*O42 -> 0
J43: =D43 -> 0 | K43: =E43 -> 0 | L43: =F43 -> 0 | O43: =O42 -> 73.5 | P43: =N43*K43*L43*O43 -> 0
J44: =D44 -> 0 | K44: =E44 -> 0 | L44: =F44 -> 0 | O44: =O43 -> 73.5 | P44: =N44*K44*L44*O44 -> 0
J45: =D45 -> 0 | K45: =E45 -> 0 | L45: =F45 -> 0 | O45: =O44 -> 73.5 | P45: =N45*K45*L45*O45 -> 0
J46: =D46 -> 0 | K46: =E46 -> 0 | L46: =F46 -> 0 | O46: =O45 -> 73.5 | P46: =N46*K46*L46*O46 -> 0
